From mboxrd@z Thu Jan 1 00:00:00 1970 Return-Path: Received: from mails.dpdk.org (mails.dpdk.org [217.70.189.124]) by inbox.dpdk.org (Postfix) with ESMTP id 863AD48942 for ; Wed, 15 Oct 2025 15:35:07 +0200 (CEST) Received: from mails.dpdk.org (localhost [127.0.0.1]) by mails.dpdk.org (Postfix) with ESMTP id 6846F40273; Wed, 15 Oct 2025 15:35:07 +0200 (CEST) Received: from mail-qv1-f99.google.com (mail-qv1-f99.google.com [209.85.219.99]) by mails.dpdk.org (Postfix) with ESMTP id F0CB740273 for ; Wed, 15 Oct 2025 15:35:05 +0200 (CEST) Received: by mail-qv1-f99.google.com with SMTP id 6a1803df08f44-7957e2f6ba8so87284746d6.3 for ; Wed, 15 Oct 2025 06:35:05 -0700 (PDT) DKIM-Signature: v=1; a=rsa-sha256; c=relaxed/relaxed; d=iol.unh.edu; s=unh-iol; t=1760535305; x=1761140105; darn=dpdk.org; h=references:in-reply-to:cc:to:from:subject:message-id:date:from:to :cc:subject:date:message-id:reply-to; bh=xPriimN1hHxruBhRXEabHicSO+cRtWwZtrURvvC4uXM=; b=Kk5sDENqKfsnQolLy1UlC1nknhqRfsriLB4kBtgtiub2tfomr57GP7MyJ3IeiJ9ywb SiCvfIcLCXokvmMxeM6UZg8/qg7KjBpBzT/Xf6tSi8I9gIGFxslhTl6iHNCXe2o9gkLY sbsizIjSNDxBGXhTSKTBEq841eXwV36B2/LU4= X-Google-DKIM-Signature: v=1; a=rsa-sha256; c=relaxed/relaxed; d=1e100.net; s=20230601; t=1760535305; x=1761140105; h=references:in-reply-to:cc:to:from:subject:message-id:date :x-gm-message-state:from:to:cc:subject:date:message-id:reply-to; bh=xPriimN1hHxruBhRXEabHicSO+cRtWwZtrURvvC4uXM=; b=Nz9IUh7UV0VrRZwp5Nvf4/NjEl+68+PKBAx9rVwIfp//qGFlMNRUzMqGNXaxI5KOa2 XsSZCJ933LaObehTKlsBvwC5jMVPaHDe7UZR4fYcj4CT8dLmLPoNLAhI+PZAMxDevYho E/DOyNV5zezfc51D4biUVUYaj1upjblv0NiGAjWPmKGXPkh6mSClGq5FN09s0yxH8+T+ JOrQ2aGbn1mRezgkZxyviJxqrWJ6lbtLJGmmsOlI7wvwOdJHUnzm1rOe41n1zXx0/DUN bKpmq7v/MNl2Zz3P9g3Wxyoiw1Vk87De+o9ViRmqK5uxKkJwrRyie5Yjoxk6lWFHSyOc QeQA== X-Gm-Message-State: AOJu0YzrO0pvo8N1AWXLk/Cyfvj2WYIbo9GNaGNCgFanQVY+YsVG68lc qOzhSlj1phRZZOmcTvnx1gw23ybxs94CoIQ6qGcsuTRZ5VSMZ/uMVU0W8j+Q/FOx87dpy5ysMJx QhLe0X5o/DsN+WaPDuNpQgar+6wl+IhKt4uol2ALYKYulxAEcX0JQSubL4lnf X-Gm-Gg: ASbGncvYlRmlxKcSi2zDe9+oXT3FfV13tjUzcP6/Mzew+/4oGsVJk0KdapgBRltrDB0 rN745fOrm1XF586jHEc6TfOiWymLv7DgcbUAoaHbMv8t/FHm/ADWrm9q0KV8yG8eaog9z3j0ykj f+c5EIX2TqAmBXqL7bf0gXXL8NYAILNg+HxAFC4YjFEIFg51DyKBhiqzu+Akr68xN8WFjTpCN/z VAGbNgknXzMnJgwtFdFQ5XVmr5RkluUXXwycpJTM3eHIRbkbRIJJhGv0t4Vm27BIuV0A0XtYEox ehMTLlTILKILCuZS8WhTMZjw9iOjJkAHIg/fTbjEQo1p8t5Kyg== X-Google-Smtp-Source: AGHT+IGFxIQzQBV9WFKmAivJnMMNab/jQ9G0Sz66BR+GfnpFzNWCLzN+jnX3G44pLSbmMRm3U0O5QYZkvSF9 X-Received: by 2002:a05:6214:21ca:b0:810:e12a:48fd with SMTP id 6a1803df08f44-87b2104ef39mr418499726d6.7.1760535305258; Wed, 15 Oct 2025 06:35:05 -0700 (PDT) Received: from postal.iol.unh.edu (postal.iol.unh.edu. [2606:4100:3880:1234::84]) by smtp-relay.gmail.com with ESMTPS id 6a1803df08f44-87c0120fcd3sm2236586d6.1.2025.10.15.06.35.05 (version=TLS1_2 cipher=ECDHE-ECDSA-AES128-GCM-SHA256 bits=128/128); Wed, 15 Oct 2025 06:35:05 -0700 (PDT) X-Relaying-Domain: iol.unh.edu Date: Wed, 15 Oct 2025 06:35:05 -0700 (PDT) Message-ID: <68efa309.050a0220.23364d.ab8cSMTPIN_ADDED_MISSING@mx.google.com> Received: from [172.21.0.2] (unknown [172.18.0.240]) by postal.iol.unh.edu (Postfix) with ESMTP id D2AB760003E8; Wed, 15 Oct 2025 09:35:04 -0400 (EDT) Subject: |SUCCESS| pw157661-157680 [PATCH] [v2,20/20] net/ena: upgrade driver From: dpdklab@iol.unh.edu To: Test Report Cc: dpdk-test-reports@iol.unh.edu In-Reply-To: <20251015121436.3219-1-shaibran@amazon.com> References: <20251015121436.3219-1-shaibran@amazon.com> Content-Type: text/plain X-BeenThere: test-report@dpdk.org X-Mailman-Version: 2.1.29 Precedence: list List-Id: automatic DPDK test reports List-Unsubscribe: , List-Archive: List-Post: List-Help: List-Subscribe: , Errors-To: test-report-bounces@dpdk.org Test-Label: iol-compile-amd64-testing Test-Status: SUCCESS http://dpdk.org/patch/157680 _Testing PASS_ Submitter: Shai Brandes Date: Wednesday, October 15 2025 12:14:36 DPDK git baseline: Repo:dpdk Branch: master CommitID:c4b0762fce81ba6edfec0d935cf23342f78018e3 157661-157680 --> testing pass Upstream job id: Windows-Compile-DPDK-VS#7204 Test environment and result as below: +-------------------------------+--------------------+-------------------+------------------+-------------------+ | Environment | dpdk_meson_compile | dpdk_compile_spdk | dpdk_compile_ovs | dpdk_msvc_compile | +===============================+====================+===================+==================+===================+ | FreeBSD 14.2 | PASS | SKIPPED | SKIPPED | SKIPPED | +-------------------------------+--------------------+-------------------+------------------+-------------------+ | CentOS Stream 9 | PASS | PASS | SKIPPED | SKIPPED | +-------------------------------+--------------------+-------------------+------------------+-------------------+ | CentOS Stream 10 | PASS | SKIPPED | SKIPPED | SKIPPED | +-------------------------------+--------------------+-------------------+------------------+-------------------+ | Red Hat Enterprise Linux 8.10 | PASS | SKIPPED | SKIPPED | SKIPPED | +-------------------------------+--------------------+-------------------+------------------+-------------------+ | Ubuntu 20.04 | PASS | SKIPPED | SKIPPED | SKIPPED | +-------------------------------+--------------------+-------------------+------------------+-------------------+ | Fedora Linux 42 | PASS | PASS | PASS | SKIPPED | +-------------------------------+--------------------+-------------------+------------------+-------------------+ | openSUSE Leap 15.6 | PASS | SKIPPED | SKIPPED | SKIPPED | +-------------------------------+--------------------+-------------------+------------------+-------------------+ | Red Hat Enterprise Linux 9.5 | PASS | SKIPPED | SKIPPED | SKIPPED | +-------------------------------+--------------------+-------------------+------------------+-------------------+ | Debian GNU/Linux 12 | PASS | PASS | SKIPPED | SKIPPED | +-------------------------------+--------------------+-------------------+------------------+-------------------+ | Ubuntu 24.04 | PASS | PASS | PASS | SKIPPED | +-------------------------------+--------------------+-------------------+------------------+-------------------+ | Ubuntu 22.04 | PASS | PASS | SKIPPED | SKIPPED | +-------------------------------+--------------------+-------------------+------------------+-------------------+ | Alpine Linux 3.22.0 | PASS | SKIPPED | SKIPPED | SKIPPED | +-------------------------------+--------------------+-------------------+------------------+-------------------+ | Windows Server 2022 | SKIPPED | SKIPPED | SKIPPED | PASS | +-------------------------------+--------------------+-------------------+------------------+-------------------+ FreeBSD 14.2 Kernel: 14.2-RELEASE Compiler: clang 18.1.6 CentOS Stream 9 Kernel: 5.15 Compiler: gcc gcc (GCC) 11.5.0 20240719 (Red Hat 11.5.0-11) CentOS Stream 10 Kernel: 5.15 Compiler: gcc gcc (GCC) 14.2.1 20250110 (Red Hat 14.2.1-8) Red Hat Enterprise Linux 8.10 Kernel: 5.15 Compiler: gcc gcc (GCC) 8.5.0 20210514 (Red Hat 8.5.0-22) Ubuntu 20.04 Kernel: 5.15 Compiler: gcc gcc (Ubuntu 9.4.0-1ubuntu1~20.04.2) 9.4.0 Fedora Linux 42 Kernel: 5.15 Compiler: gcc gcc (GCC) 15.2.1 20250808 (Red Hat 15.2.1-1) openSUSE Leap 15.6 Kernel: 5.15 Compiler: gcc gcc (SUSE Linux) 7.5.0 Red Hat Enterprise Linux 9.5 Kernel: 5.15 Compiler: gcc gcc (GCC) 11.5.0 20240719 (Red Hat 11.5.0-2) Debian GNU/Linux 12 Kernel: 5.15 Compiler: gcc gcc (Debian 12.2.0-14+deb12u1) 12.2.0 Ubuntu 24.04 Kernel: 5.15 Compiler: gcc gcc (Ubuntu 13.3.0-6ubuntu2~24.04) 13.3.0 Ubuntu 22.04 Kernel: 5.15 Compiler: gcc gcc (Ubuntu 11.4.0-1ubuntu1~22.04) 11.4.0 Alpine Linux 3.22.0 Kernel: 5.15 Compiler: gcc gcc (Alpine 14.2.0) 14.2.0 Windows Server 2022 Kernel: 10.0.20348.2031 Compiler: clang 15.0.7, gcc 14.1.0 (MinGW), and MSVC VS 19.39.33521 To view detailed results, visit: https://lab.dpdk.org/results/dashboard/patchsets/34285/ UNH-IOL DPDK Community Lab To manage your email subscriptions, visit: https://lab.dpdk.org/results/dashboard/preferences/subscriptions/