From mboxrd@z Thu Jan 1 00:00:00 1970 Return-Path: Received: from mails.dpdk.org (mails.dpdk.org [217.70.189.124]) by inbox.dpdk.org (Postfix) with ESMTP id E8A4C48942 for ; Wed, 15 Oct 2025 15:38:27 +0200 (CEST) Received: from mails.dpdk.org (localhost [127.0.0.1]) by mails.dpdk.org (Postfix) with ESMTP id B32F140273; Wed, 15 Oct 2025 15:38:27 +0200 (CEST) Received: from mail-ot1-f98.google.com (mail-ot1-f98.google.com [209.85.210.98]) by mails.dpdk.org (Postfix) with ESMTP id 5017D40273 for ; Wed, 15 Oct 2025 15:38:26 +0200 (CEST) Received: by mail-ot1-f98.google.com with SMTP id 46e09a7af769-7bdfbc6ba5cso2907747a34.1 for ; Wed, 15 Oct 2025 06:38:26 -0700 (PDT) DKIM-Signature: v=1; a=rsa-sha256; c=relaxed/relaxed; d=iol.unh.edu; s=unh-iol; t=1760535505; x=1761140305; darn=dpdk.org; h=cc:to:from:subject:message-id:date:from:to:cc:subject:date :message-id:reply-to; bh=TSH2biIqP8bmn09pFFyVbfsw9Db4HBdhyQe4L4lffco=; b=YTuW065uqL6cx2Nqs1YrdEBbNHDcjYLdxhgrCDDIh7LZ1syn1U5aXfJDcvUyyOvYKH WZgEA7x3rXYh8tahXpEqroalhvS827DU1112Arj1FEQ7xaZ2f7iqKGVPX/S58u83Gshe sZ5G/akhUXKLRlV2Hn9eASBAiZD5iuQW+Qhz8= X-Google-DKIM-Signature: v=1; a=rsa-sha256; c=relaxed/relaxed; d=1e100.net; s=20230601; t=1760535505; x=1761140305; h=cc:to:from:subject:message-id:date:x-gm-message-state:from:to:cc :subject:date:message-id:reply-to; bh=TSH2biIqP8bmn09pFFyVbfsw9Db4HBdhyQe4L4lffco=; b=Y8knwWdMwtWDKkv+Cdbq1jq/dL8QOEJg9dWQ/2N3fChbiYypchVZBJYhazYtXJmuvL iz3hOgryVZRG0LGfTfNLumDx4r/hBMEfu0/My/0NT6QetgtiIvttDBI1+GeDF1K6wxKT y6s2LRTR1GA72caEfGrto5QK6TpRUpUQZy8xBJtOLG4qbzIG7aud/untp20Q1HQNOOll 6uPjMNa8XHNwesnlEFLrAHQ9lA3RJyT/FpDwqK9MDq27bWiE71KaMCX4mu57XQmMstxr dSBkJPb4gXIHVG3tZtaPNt4/W1HbSFfKCchvDNqUzOY4ifLIsUyDjOE2L6RpbUFmCHSG StCQ== X-Gm-Message-State: AOJu0Yzj7cuVWtZCByqERiS83/5ugSIYnz3KgOrE+kKhwFK5NGwIsmNI UwlkWxncSfLnKsBheiR6o45uWYLhLESig/mIFUttfIk7VCrM7dCcGxST7wKFcBhfwRZRt8x72Rl sanI14M6FLN+/JXCWKl+rt2WSe3q6Jcdzyp4hKPI6N/DT1xpet7MHOc6z96wa X-Gm-Gg: ASbGncvyUZUSfTO439kbkvZeKBlV1hNLw+KL+BDdQ5B4uM+d7Hzd+eMZZpdSDdv+t05 Nb8faQsXpnC9lFpvfPVv1rnB4Nu9vMG0L7OpIsfX78fu/c2mj1kDq4qpyjQO8gFuMFpclqZseeC 9QS+dIIMHWt6zLt/AWqaXRlEWzr72yFTd6YVSO1caPAOZV6iutPLgVTGSgl5kmIJ3IwK8CiUJyp e9QxFcj2UZals43IsoY9MyaF1BzxpoBemHSIHvZAVfXU1pRu43tH7XR9tYNmvTcAV/L+7B+kvNK KJyQfs558IkvcRe+voAF9J6iPWbP/CJILfejwAE8TihL8YBKCQ== X-Google-Smtp-Source: AGHT+IHzZHKX5xY+A78U1Sx251OYn1FT88gfXei8xRGY5x9BL1EbJAIjwSX7pekhQhZmD/Ww1DaJTj13aHAY X-Received: by 2002:a05:6830:600b:b0:7a0:239:80a1 with SMTP id 46e09a7af769-7c0df7d5d3emr12698883a34.29.1760535505434; Wed, 15 Oct 2025 06:38:25 -0700 (PDT) Received: from postal.iol.unh.edu (postal.iol.unh.edu. [2606:4100:3880:1234::84]) by smtp-relay.gmail.com with ESMTPS id 46e09a7af769-7c0f901e34asm1245769a34.2.2025.10.15.06.38.25 (version=TLS1_2 cipher=ECDHE-ECDSA-AES128-GCM-SHA256 bits=128/128); Wed, 15 Oct 2025 06:38:25 -0700 (PDT) X-Relaying-Domain: iol.unh.edu Date: Wed, 15 Oct 2025 06:38:25 -0700 (PDT) Message-ID: <68efa3d1.050a0220.18b04a.d986SMTPIN_ADDED_MISSING@mx.google.com> Received: from [172.21.0.3] (unknown [172.18.0.240]) by postal.iol.unh.edu (Postfix) with ESMTP id E76096051830; Wed, 15 Oct 2025 09:38:24 -0400 (EDT) Subject: |SUCCESS| [GIT MASTER] d2d0163cb4200ff7e450fd66eb6a92a931f06de7 From: dpdklab@iol.unh.edu To: Test Report Cc: dpdk-test-reports@iol.unh.edu, Bruce Richardson Content-Type: text/plain X-BeenThere: test-report@dpdk.org X-Mailman-Version: 2.1.29 Precedence: list List-Id: automatic DPDK test reports List-Unsubscribe: , List-Archive: List-Post: List-Help: List-Subscribe: , Errors-To: test-report-bounces@dpdk.org _Testing PASS_ Branch: dpdk-next-net-intel d2d0163cb4200ff7e450fd66eb6a92a931f06de7 --> testing pass Upstream job id: Windows-Compile-DPDK-Native#31639 Test environment and result as below: +-------------------------------+--------------------+-------------------+------------------+-------------------+-------------------------+ | Environment | dpdk_meson_compile | dpdk_compile_spdk | dpdk_compile_ovs | dpdk_msvc_compile | dpdk_llvm_clang_compile | +===============================+====================+===================+==================+===================+=========================+ | Ubuntu 20.04 | PASS | SKIPPED | SKIPPED | SKIPPED | SKIPPED | +-------------------------------+--------------------+-------------------+------------------+-------------------+-------------------------+ | FreeBSD 14.2 | PASS | SKIPPED | SKIPPED | SKIPPED | SKIPPED | +-------------------------------+--------------------+-------------------+------------------+-------------------+-------------------------+ | CentOS Stream 9 | PASS | PASS | SKIPPED | SKIPPED | SKIPPED | +-------------------------------+--------------------+-------------------+------------------+-------------------+-------------------------+ | CentOS Stream 10 | PASS | SKIPPED | SKIPPED | SKIPPED | SKIPPED | +-------------------------------+--------------------+-------------------+------------------+-------------------+-------------------------+ | Debian GNU/Linux 12 | PASS | PASS | SKIPPED | SKIPPED | SKIPPED | +-------------------------------+--------------------+-------------------+------------------+-------------------+-------------------------+ | Fedora Linux 42 | PASS | PASS | PASS | SKIPPED | SKIPPED | +-------------------------------+--------------------+-------------------+------------------+-------------------+-------------------------+ | openSUSE Leap 15.6 | PASS | SKIPPED | SKIPPED | SKIPPED | SKIPPED | +-------------------------------+--------------------+-------------------+------------------+-------------------+-------------------------+ | Red Hat Enterprise Linux 8.10 | PASS | SKIPPED | SKIPPED | SKIPPED | SKIPPED | +-------------------------------+--------------------+-------------------+------------------+-------------------+-------------------------+ | Red Hat Enterprise Linux 9.5 | PASS | SKIPPED | SKIPPED | SKIPPED | SKIPPED | +-------------------------------+--------------------+-------------------+------------------+-------------------+-------------------------+ | Ubuntu 22.04 | PASS | PASS | SKIPPED | SKIPPED | SKIPPED | +-------------------------------+--------------------+-------------------+------------------+-------------------+-------------------------+ | Ubuntu 24.04 | PASS | PASS | PASS | SKIPPED | SKIPPED | +-------------------------------+--------------------+-------------------+------------------+-------------------+-------------------------+ | Alpine Linux 3.22.0 | PASS | SKIPPED | SKIPPED | SKIPPED | SKIPPED | +-------------------------------+--------------------+-------------------+------------------+-------------------+-------------------------+ | Windows Server 2022 | SKIPPED | SKIPPED | SKIPPED | PASS | PASS | +-------------------------------+--------------------+-------------------+------------------+-------------------+-------------------------+ Ubuntu 20.04 Kernel: 4.19 Compiler: gcc gcc (Ubuntu 9.4.0-1ubuntu1~20.04.2) 9.4.0 FreeBSD 14.2 Kernel: 14.2-RELEASE Compiler: clang 18.1.6 CentOS Stream 9 Kernel: 5.15 Compiler: gcc gcc (GCC) 11.5.0 20240719 (Red Hat 11.5.0-11) CentOS Stream 10 Kernel: 5.15 Compiler: gcc gcc (GCC) 14.2.1 20250110 (Red Hat 14.2.1-8) Debian GNU/Linux 12 Kernel: 5.15 Compiler: gcc gcc (Debian 12.2.0-14+deb12u1) 12.2.0 Fedora Linux 42 Kernel: 5.15 Compiler: clang gcc (GCC) 15.2.1 20250808 (Red Hat 15.2.1-1) openSUSE Leap 15.6 Kernel: 5.15 Compiler: gcc gcc (SUSE Linux) 7.5.0 Red Hat Enterprise Linux 8.10 Kernel: 5.15 Compiler: gcc gcc (GCC) 8.5.0 20210514 (Red Hat 8.5.0-22) Red Hat Enterprise Linux 9.5 Kernel: 5.15 Compiler: gcc gcc (GCC) 11.5.0 20240719 (Red Hat 11.5.0-2) Ubuntu 22.04 Kernel: 5.15 Compiler: gcc gcc (Ubuntu 11.4.0-1ubuntu1~22.04) 11.4.0 Ubuntu 24.04 Kernel: 5.15 Compiler: gcc gcc (Ubuntu 13.3.0-6ubuntu2~24.04) 13.3.0 Alpine Linux 3.22.0 Kernel: 5.15 Compiler: gcc gcc (Alpine 14.2.0) 14.2.0 Windows Server 2022 Kernel: 10.0.20348.2031 Compiler: clang 15.0.7, gcc 14.1.0 (MinGW), and MSVC VS 19.39.33521 To view detailed results, visit: https://lab.dpdk.org/results/dashboard/tarballs/35217/ UNH-IOL DPDK Community Lab To manage your email subscriptions, visit: https://lab.dpdk.org/results/dashboard/preferences/subscriptions/