From mboxrd@z Thu Jan 1 00:00:00 1970 Return-Path: Received: from mails.dpdk.org (mails.dpdk.org [217.70.189.124]) by inbox.dpdk.org (Postfix) with ESMTP id 41FCE48942 for ; Wed, 15 Oct 2025 15:46:52 +0200 (CEST) Received: from mails.dpdk.org (localhost [127.0.0.1]) by mails.dpdk.org (Postfix) with ESMTP id 24C5440273; Wed, 15 Oct 2025 15:46:52 +0200 (CEST) Received: from mail-io1-f98.google.com (mail-io1-f98.google.com [209.85.166.98]) by mails.dpdk.org (Postfix) with ESMTP id 9AFE940273 for ; Wed, 15 Oct 2025 15:46:50 +0200 (CEST) Received: by mail-io1-f98.google.com with SMTP id ca18e2360f4ac-911520e43edso290785039f.0 for ; Wed, 15 Oct 2025 06:46:50 -0700 (PDT) DKIM-Signature: v=1; a=rsa-sha256; c=relaxed/relaxed; d=iol.unh.edu; s=unh-iol; t=1760536010; x=1761140810; darn=dpdk.org; h=references:in-reply-to:cc:to:from:subject:message-id:date:from:to :cc:subject:date:message-id:reply-to; bh=PKGaBL6KEt0rVbXy9mYCFS/XjyGgS4n5YXnm+guxe7I=; b=jjtQUHE/u/EGREkbUkWXLs0WW7uFq8H6iHySbQBdVVzwsxNuaqA5nGTH2tXE9O1vPX Z9pSVryvqgYflVmBbnrzpMyOacxpGh6U73pWC5MYoYpPTmZcn/nQ5Vf9Xd4Pwz4A1Hcu Tv5bHcrSfXqCpX3XaBMD1LzkI20DblIf+4UKE= X-Google-DKIM-Signature: v=1; a=rsa-sha256; c=relaxed/relaxed; d=1e100.net; s=20230601; t=1760536010; x=1761140810; h=references:in-reply-to:cc:to:from:subject:message-id:date :x-gm-message-state:from:to:cc:subject:date:message-id:reply-to; bh=PKGaBL6KEt0rVbXy9mYCFS/XjyGgS4n5YXnm+guxe7I=; b=pf6dN+SIvQKSBfZob7Yz0kItnLJW9w9xjSu4Ue1d4PXk7dRhEFBOR+UXabRBKTLCBA pgG1p8c90W1OQrveDyKfOqliPZQ9cFSYlmbBUD/Ijv0HpkHsLjR9cZNl0vPmvkBjvK4t ckcqdRrHx4tP6bjt6k8Fiqavtiuv5IYBjL68NXUkiV6hhDdF8br8AUUhva1hFQnP80ZZ xbW1o+gWZGUUD4LfzDNqLVK8kMgyt20KVkzxILBdbujqLPewCHIOimrIuziZjC3s7UzM nDQhSGn6dnu/L7fRflm0ufTCIQFSSev8CXLjfepZAuQe++jVDD0UakenUitwheLBi9Nk w/lQ== X-Gm-Message-State: AOJu0YwzKPArsWVtx5t5NoYTpK+5H67nRAyPA+tdWLfakl/0Wii0PQ/1 VtDxpec16AIyXL4PyfAhq/g0AzW4aP1Y2UAptfy9Wnb4/vP48rfLWCNLhf79X1wSRc1jDMegdoV 5d8rVS++ClhMC15N3iJFm1sfskF5Q2FPLnR+MRd7nvOWE X-Gm-Gg: ASbGncs0kMKpzsPQ31dUXhCo8HA+/sTCZm6HFiryvNuoT5utIRoLI6GlxfyREIrzEJZ wYT1gTW6TtVVvQbfSl0ogJe3IPnh4Jj29FZVdqf8qZItaiwRWTqWZF/wGADSqehYi/KeAr5HQF8 k1sZYD8pwv4dSgMlAZaMK7XuC9pRgw2dmsREcqLy6CGSQ6nhIkLdnCdZlKnNiYiFeSrVUAcwj1Y INHaBmAM7pCLl23V3b3c00XQRSQWv+H3XYrB7lvLJECrAa6hqP1oZLqi7Cj36fRc2/olpotme2l f/dwsil+NCOI1bdLLsMT6XMxJreuXmbdr3pP/alozM54Q/jLk3Lx08jWlI3ucyy//30R7v0n X-Google-Smtp-Source: AGHT+IEOqEgHBey4o79soXmhSmAvKAWj9M0TG3FF7k7Gg4RGD7NNEvew7CE1keKCZNDXZO0fxtVg86K0lQCx X-Received: by 2002:a05:6602:1344:b0:887:56f5:26a2 with SMTP id ca18e2360f4ac-93bd196fd35mr3173288539f.14.1760536009798; Wed, 15 Oct 2025 06:46:49 -0700 (PDT) Received: from postal.iol.unh.edu (postal.iol.unh.edu. [132.177.123.84]) by smtp-relay.gmail.com with ESMTPS id ca18e2360f4ac-93e2594f67csm102777839f.6.2025.10.15.06.46.49 (version=TLS1_2 cipher=ECDHE-ECDSA-AES128-GCM-SHA256 bits=128/128); Wed, 15 Oct 2025 06:46:49 -0700 (PDT) X-Relaying-Domain: iol.unh.edu Date: Wed, 15 Oct 2025 06:46:49 -0700 (PDT) Message-ID: <68efa5c9.6b0a0220.55359.5232SMTPIN_ADDED_MISSING@mx.google.com> Received: from [172.21.0.2] (unknown [172.18.0.240]) by postal.iol.unh.edu (Postfix) with ESMTP id 526ED6051830; Wed, 15 Oct 2025 09:46:49 -0400 (EDT) Subject: |SUCCESS| pw157661-157680 [PATCH] [v2,20/20] net/ena: upgrade driver From: dpdklab@iol.unh.edu To: Test Report Cc: dpdk-test-reports@iol.unh.edu In-Reply-To: <20251015121436.3219-1-shaibran@amazon.com> References: <20251015121436.3219-1-shaibran@amazon.com> Content-Type: text/plain X-BeenThere: test-report@dpdk.org X-Mailman-Version: 2.1.29 Precedence: list List-Id: automatic DPDK test reports List-Unsubscribe: , List-Archive: List-Post: List-Help: List-Subscribe: , Errors-To: test-report-bounces@dpdk.org Test-Label: iol-unit-amd64-testing Test-Status: SUCCESS http://dpdk.org/patch/157680 _Testing PASS_ Submitter: Shai Brandes Date: Wednesday, October 15 2025 12:14:36 DPDK git baseline: Repo:dpdk Branch: master CommitID:c4b0762fce81ba6edfec0d935cf23342f78018e3 157661-157680 --> testing pass Upstream job id: Generic-VM-Unit-Test-DPDK#31812 Test environment and result as below: +-------------------------------+----------------+ | Environment | dpdk_unit_test | +===============================+================+ | CentOS Stream 9 | PASS | +-------------------------------+----------------+ | CentOS Stream 10 | PASS | +-------------------------------+----------------+ | Fedora Linux 40 | PASS | +-------------------------------+----------------+ | Debian GNU/Linux 12 | PASS | +-------------------------------+----------------+ | Fedora Linux 42 | PASS | +-------------------------------+----------------+ | Fedora Linux 41 | PASS | +-------------------------------+----------------+ | Red Hat Enterprise Linux 8.10 | PASS | +-------------------------------+----------------+ | Ubuntu 24.04 | PASS | +-------------------------------+----------------+ | Ubuntu 22.04 | PASS | +-------------------------------+----------------+ | Red Hat Enterprise Linux 9.5 | PASS | +-------------------------------+----------------+ | Ubuntu 20.04 | PASS | +-------------------------------+----------------+ | Windows Server 2022 | PASS | +-------------------------------+----------------+ CentOS Stream 9 Kernel: 5.15 Compiler: gcc gcc (GCC) 11.5.0 20240719 (Red Hat 11.5.0-11) CentOS Stream 10 Kernel: 5.15 Compiler: gcc gcc (GCC) 14.2.1 20250110 (Red Hat 14.2.1-8) Fedora Linux 40 Kernel: 5.15 Compiler: gcc gcc (GCC) 14.2.1 20240912 (Red Hat 14.2.1-3) Debian GNU/Linux 12 Kernel: 5.15 Compiler: gcc gcc (Debian 12.2.0-14+deb12u1) 12.2.0 Fedora Linux 42 Kernel: 5.15 Compiler: gcc gcc (GCC) 15.2.1 20250808 (Red Hat 15.2.1-1) Fedora Linux 41 Kernel: 5.15 Compiler: gcc gcc (GCC) 14.3.1 20250523 (Red Hat 14.3.1-1) Red Hat Enterprise Linux 8.10 Kernel: 5.15 Compiler: gcc gcc (GCC) 8.5.0 20210514 (Red Hat 8.5.0-22) Ubuntu 24.04 Kernel: 5.15 Compiler: gcc gcc (Ubuntu 13.3.0-6ubuntu2~24.04) 13.3.0 Ubuntu 22.04 Kernel: 5.15 Compiler: gcc gcc (Ubuntu 11.4.0-1ubuntu1~22.04) 11.4.0 Red Hat Enterprise Linux 9.5 Kernel: 5.15 Compiler: gcc gcc (GCC) 11.5.0 20240719 (Red Hat 11.5.0-2) Ubuntu 20.04 Kernel: 5.15 Compiler: gcc gcc (Ubuntu 9.4.0-1ubuntu1~20.04.2) 9.4.0 Windows Server 2022 Kernel: 10.0.20348.2031 Compiler: clang 15.0.7, gcc 14.1.0 (MinGW), and MSVC VS 19.39.33521 To view detailed results, visit: https://lab.dpdk.org/results/dashboard/patchsets/34285/ UNH-IOL DPDK Community Lab To manage your email subscriptions, visit: https://lab.dpdk.org/results/dashboard/preferences/subscriptions/