From mboxrd@z Thu Jan 1 00:00:00 1970 Return-Path: Received: from mails.dpdk.org (mails.dpdk.org [217.70.189.124]) by inbox.dpdk.org (Postfix) with ESMTP id 4DD4048942 for ; Wed, 15 Oct 2025 15:47:51 +0200 (CEST) Received: from mails.dpdk.org (localhost [127.0.0.1]) by mails.dpdk.org (Postfix) with ESMTP id 48D1940273; Wed, 15 Oct 2025 15:47:51 +0200 (CEST) Received: from mail-oa1-f97.google.com (mail-oa1-f97.google.com [209.85.160.97]) by mails.dpdk.org (Postfix) with ESMTP id 5E1B040273 for ; Wed, 15 Oct 2025 15:47:50 +0200 (CEST) Received: by mail-oa1-f97.google.com with SMTP id 586e51a60fabf-3ac1ad95537so3674180fac.2 for ; Wed, 15 Oct 2025 06:47:50 -0700 (PDT) DKIM-Signature: v=1; a=rsa-sha256; c=relaxed/relaxed; d=iol.unh.edu; s=unh-iol; t=1760536069; x=1761140869; darn=dpdk.org; h=cc:to:from:subject:message-id:date:from:to:cc:subject:date :message-id:reply-to; bh=NjVOVkGTJNzd5ATsAZHDCnETgnajiArvt77QvOe45Qk=; b=ROgC2y1BWEtfEy6lvkW/xs12GkW1iP5AvWe6h95OjR9q4SxexkFXhnwAya6TwWlkKd ar6gLJVw7jPqqtWOPnoeA9nG7rsVJbY9GySVVMp34i1btgHii+EXNZHfLH1PZDh9+UOE DApEWDGmc0gxnM+7EH3SzuhhqULMVgfquQVQY= X-Google-DKIM-Signature: v=1; a=rsa-sha256; c=relaxed/relaxed; d=1e100.net; s=20230601; t=1760536069; x=1761140869; h=cc:to:from:subject:message-id:date:x-gm-message-state:from:to:cc :subject:date:message-id:reply-to; bh=NjVOVkGTJNzd5ATsAZHDCnETgnajiArvt77QvOe45Qk=; b=hELTSrPQyNy3V8Qs8buNkfRXVj2FcjnB+f9jNjcaG3HAQS9J5G8l4Y9IbQTNi7/sGB xMp5+cqEDTkOOvYDcGoMx8dvVBTC5VU0Asd0Ftxt16iwkQVl7RFQKPJ/3z04fG9tKBfF NiWgu9nHbyYonpze9N29Zn6RkGcP7k4ZSCQ/Q3BiMQo9hVtgD6zZmSlsnEW7uN8uzDF3 In1AT5TNGDWl3vqU6OX7Q2w0hUtZD0xL6ZJYtEJxS0TD18MKSS8dz3aDT8GKkRS8gPWp odsxgCs0VGQn5qtdMPU8PduM0w7wMV9PwLdbDVxWpzcubZF2ESoQI4UOhbUQewVDIzrj 8C3Q== X-Gm-Message-State: AOJu0Yx1d5fY4BAXX3BYiGcHmjDxfpbraS9EE95d+hwDQ7kp3f5dGjpU j4XVC0eehMy8LDtBHN1F15KsW9QRDiMk1hXMZ+lc//Um3Fp2m/ADku2J9r+Six3N54XhXVFj+g7 DGVQWC2/T8J4TOvoibMx2mWjV310lW1GhxLg8uqorlM/8 X-Gm-Gg: ASbGnctJ/3crSGBxUe0TVNIYPkB9WJU3/kK9+Hv1g0EzZQuvXOYv3VAa4ete+6LsNG1 FKKQ/CFD7Dl8ocL3ira78EVDsKADolLWOEh6PJ8cHnVEq5sbZbK6pI2i1CNl2NqtasPZ2/TLhFQ yb2KFMiWIjkNDKI2mIT/JRRdz5O7qkJEp/31tYz9fjnZiQI0YIcn+RJJ6IsThMebVLajYoWViEO S+YRVspkpoawUD5XexWkSTcqYoFdZwvA2nZlm4LSniBDDo4y/VSt4d+CzrBGDKG/WKsIzPjW020 IEFfiWmSl9VCGvS7wJ1oKRSKXdLKfy/LrzkKE5mC5XI4I68wjFAlNfpaj40SweH8YGcA3CbU X-Google-Smtp-Source: AGHT+IFV4wPVBEsaA2CPLD6NdfroJvkoPiVKErQ6yd7KxXxG4VXGJlcPK1XpIY755Hz4cijifgFVWO6fRbVX X-Received: by 2002:a05:6870:3643:b0:368:f36e:6124 with SMTP id 586e51a60fabf-3c0f66ec318mr11990931fac.11.1760536069532; Wed, 15 Oct 2025 06:47:49 -0700 (PDT) Received: from postal.iol.unh.edu (postal.iol.unh.edu. [132.177.123.84]) by smtp-relay.gmail.com with ESMTPS id 586e51a60fabf-3c8c8af25b7sm1422194fac.2.2025.10.15.06.47.49 (version=TLS1_2 cipher=ECDHE-ECDSA-AES128-GCM-SHA256 bits=128/128); Wed, 15 Oct 2025 06:47:49 -0700 (PDT) X-Relaying-Domain: iol.unh.edu Date: Wed, 15 Oct 2025 06:47:49 -0700 (PDT) Message-ID: <68efa605.050a0220.35948.57b1SMTPIN_ADDED_MISSING@mx.google.com> Received: from [172.21.0.2] (unknown [172.18.0.240]) by postal.iol.unh.edu (Postfix) with ESMTP id 0159C6051830; Wed, 15 Oct 2025 09:47:49 -0400 (EDT) Subject: |SUCCESS| [GIT MASTER] d2d0163cb4200ff7e450fd66eb6a92a931f06de7 From: dpdklab@iol.unh.edu To: Test Report Cc: dpdk-test-reports@iol.unh.edu, Bruce Richardson Content-Type: text/plain X-BeenThere: test-report@dpdk.org X-Mailman-Version: 2.1.29 Precedence: list List-Id: automatic DPDK test reports List-Unsubscribe: , List-Archive: List-Post: List-Help: List-Subscribe: , Errors-To: test-report-bounces@dpdk.org _Testing PASS_ Branch: dpdk-next-net-intel d2d0163cb4200ff7e450fd66eb6a92a931f06de7 --> testing pass Upstream job id: Windows-Compile-DPDK-Native#31640 Test environment and result as below: +-------------------------------+--------------------+-------------------+------------------+-------------------+-------------------------+----------------------+ | Environment | dpdk_meson_compile | dpdk_compile_spdk | dpdk_compile_ovs | dpdk_msvc_compile | dpdk_llvm_clang_compile | dpdk_mingw64_compile | +===============================+====================+===================+==================+===================+=========================+======================+ | Ubuntu 20.04 | PASS | SKIPPED | SKIPPED | SKIPPED | SKIPPED | SKIPPED | +-------------------------------+--------------------+-------------------+------------------+-------------------+-------------------------+----------------------+ | FreeBSD 14.2 | PASS | SKIPPED | SKIPPED | SKIPPED | SKIPPED | SKIPPED | +-------------------------------+--------------------+-------------------+------------------+-------------------+-------------------------+----------------------+ | CentOS Stream 9 | PASS | PASS | SKIPPED | SKIPPED | SKIPPED | SKIPPED | +-------------------------------+--------------------+-------------------+------------------+-------------------+-------------------------+----------------------+ | CentOS Stream 10 | PASS | SKIPPED | SKIPPED | SKIPPED | SKIPPED | SKIPPED | +-------------------------------+--------------------+-------------------+------------------+-------------------+-------------------------+----------------------+ | Debian GNU/Linux 12 | PASS | PASS | SKIPPED | SKIPPED | SKIPPED | SKIPPED | +-------------------------------+--------------------+-------------------+------------------+-------------------+-------------------------+----------------------+ | Fedora Linux 42 | PASS | PASS | PASS | SKIPPED | SKIPPED | SKIPPED | +-------------------------------+--------------------+-------------------+------------------+-------------------+-------------------------+----------------------+ | openSUSE Leap 15.6 | PASS | SKIPPED | SKIPPED | SKIPPED | SKIPPED | SKIPPED | +-------------------------------+--------------------+-------------------+------------------+-------------------+-------------------------+----------------------+ | Red Hat Enterprise Linux 8.10 | PASS | SKIPPED | SKIPPED | SKIPPED | SKIPPED | SKIPPED | +-------------------------------+--------------------+-------------------+------------------+-------------------+-------------------------+----------------------+ | Red Hat Enterprise Linux 9.5 | PASS | SKIPPED | SKIPPED | SKIPPED | SKIPPED | SKIPPED | +-------------------------------+--------------------+-------------------+------------------+-------------------+-------------------------+----------------------+ | Ubuntu 22.04 | PASS | PASS | SKIPPED | SKIPPED | SKIPPED | SKIPPED | +-------------------------------+--------------------+-------------------+------------------+-------------------+-------------------------+----------------------+ | Ubuntu 24.04 | PASS | PASS | PASS | SKIPPED | SKIPPED | SKIPPED | +-------------------------------+--------------------+-------------------+------------------+-------------------+-------------------------+----------------------+ | Alpine Linux 3.22.0 | PASS | SKIPPED | SKIPPED | SKIPPED | SKIPPED | SKIPPED | +-------------------------------+--------------------+-------------------+------------------+-------------------+-------------------------+----------------------+ | Windows Server 2022 | SKIPPED | SKIPPED | SKIPPED | PASS | PASS | PASS | +-------------------------------+--------------------+-------------------+------------------+-------------------+-------------------------+----------------------+ Ubuntu 20.04 Kernel: 4.19 Compiler: gcc gcc (Ubuntu 9.4.0-1ubuntu1~20.04.2) 9.4.0 FreeBSD 14.2 Kernel: 14.2-RELEASE Compiler: clang 18.1.6 CentOS Stream 9 Kernel: 5.15 Compiler: gcc gcc (GCC) 11.5.0 20240719 (Red Hat 11.5.0-11) CentOS Stream 10 Kernel: 5.15 Compiler: gcc gcc (GCC) 14.2.1 20250110 (Red Hat 14.2.1-8) Debian GNU/Linux 12 Kernel: 5.15 Compiler: gcc gcc (Debian 12.2.0-14+deb12u1) 12.2.0 Fedora Linux 42 Kernel: 5.15 Compiler: clang gcc (GCC) 15.2.1 20250808 (Red Hat 15.2.1-1) openSUSE Leap 15.6 Kernel: 5.15 Compiler: gcc gcc (SUSE Linux) 7.5.0 Red Hat Enterprise Linux 8.10 Kernel: 5.15 Compiler: gcc gcc (GCC) 8.5.0 20210514 (Red Hat 8.5.0-22) Red Hat Enterprise Linux 9.5 Kernel: 5.15 Compiler: gcc gcc (GCC) 11.5.0 20240719 (Red Hat 11.5.0-2) Ubuntu 22.04 Kernel: 5.15 Compiler: gcc gcc (Ubuntu 11.4.0-1ubuntu1~22.04) 11.4.0 Ubuntu 24.04 Kernel: 5.15 Compiler: gcc gcc (Ubuntu 13.3.0-6ubuntu2~24.04) 13.3.0 Alpine Linux 3.22.0 Kernel: 5.15 Compiler: gcc gcc (Alpine 14.2.0) 14.2.0 Windows Server 2022 Kernel: 10.0.20348.2031 Compiler: clang 15.0.7, gcc 14.1.0 (MinGW), and MSVC VS 19.39.33521 To view detailed results, visit: https://lab.dpdk.org/results/dashboard/tarballs/35217/ UNH-IOL DPDK Community Lab To manage your email subscriptions, visit: https://lab.dpdk.org/results/dashboard/preferences/subscriptions/