From mboxrd@z Thu Jan 1 00:00:00 1970 Return-Path: Received: from mails.dpdk.org (mails.dpdk.org [217.70.189.124]) by inbox.dpdk.org (Postfix) with ESMTP id BC5FF48942 for ; Wed, 15 Oct 2025 15:51:39 +0200 (CEST) Received: from mails.dpdk.org (localhost [127.0.0.1]) by mails.dpdk.org (Postfix) with ESMTP id A0EB240273; Wed, 15 Oct 2025 15:51:39 +0200 (CEST) Received: from mail-il1-f225.google.com (mail-il1-f225.google.com [209.85.166.225]) by mails.dpdk.org (Postfix) with ESMTP id 7243A40273 for ; Wed, 15 Oct 2025 15:51:38 +0200 (CEST) Received: by mail-il1-f225.google.com with SMTP id e9e14a558f8ab-430aff9ab30so3218575ab.0 for ; Wed, 15 Oct 2025 06:51:38 -0700 (PDT) DKIM-Signature: v=1; a=rsa-sha256; c=relaxed/relaxed; d=iol.unh.edu; s=unh-iol; t=1760536298; x=1761141098; darn=dpdk.org; h=references:in-reply-to:cc:to:from:subject:message-id:date:from:to :cc:subject:date:message-id:reply-to; bh=ZupQPZIZhlFDmSqJeZa9pBkmnwBh3dQXjvYY29gMwwg=; b=a48nQcR92oZbgVIaAHWuNr5QQ4FDn757FxVNlPpMkq36rnA69THb/SvyjXT5PTIFfI /zHBalUpgKK3Yaycm4sicS8Dny0k34xwfYrLfXC9h8fGTeOzJ3NTRWseX0XslJipUafO YYSwuCW0K3pf6K+4FTVB32d58m/DcYKvxx3So= X-Google-DKIM-Signature: v=1; a=rsa-sha256; c=relaxed/relaxed; d=1e100.net; s=20230601; t=1760536298; x=1761141098; h=references:in-reply-to:cc:to:from:subject:message-id:date :x-gm-message-state:from:to:cc:subject:date:message-id:reply-to; bh=ZupQPZIZhlFDmSqJeZa9pBkmnwBh3dQXjvYY29gMwwg=; b=Anz+brqNo9a9Y7IHCROs813+MaiwJ//UntSa99HBpuDDT14maLC68lSqRNFwoscgNa NXYvwtIK2VYt2eWv/G6Qqg9PfeQLqIe7nzQfOpbUPt7xTwS8L5aiWYsleA+Loz+9ziQu Z/jZk7DzWToHuerSqWMJf+Adu7o5GEy9b/slhbJXCx2fwzL3+cGoTtLP245POMQpdsVT 2vwBEkPxA7rGuNKMkp3xS5G6L81o6BkrKKQm9gyCAi1VkbHyKtVYeBk61K3xKHFvsVjb WJfdlN1o/kBGxa1wcwtUpPq6lNqtlf218SUAoYcW4XnP++zPJG0a1UtUJzvf5TGVTHyd uYAg== X-Gm-Message-State: AOJu0Yw5R1b6iTzUTnlRf8trP+hpVc6p9DGV/llESNI8Kg9MmHXI1SZk Ny0p9vnUWA8mSIa1a8yDKgj2C4YbT17B1Wfi+C+Ls5MsQ4dOqaOee0WKOg2ZxbON5yT0zFyelnI 1Z0RHQBCcFhgNyKLZHk1KoIyEb81uCfgA9ntnSQvZIg4og/l5mvcN3Qe3Uere X-Gm-Gg: ASbGncvl16sh+2N3ZifhBM6RvgojeaU8N6lxxnFCa1uhlSbhMvNYL7MmtcK/gGYaMpS tcDYwwQOxP2HmkJl1h7/rgOb6p9+1AZPVXr/UlzVrAUeeP1bwGS7mQzSEuOgIo5pZPE4lQmyiZb B5chNatFsQKFtOKo0+eCXrK31SVrGqSw/MJtwob00JZn3l+m7JM6jmYnZKNzS8kGBAstQp6kBmo qJOdW1+8+vapx+0e+Jqn4AB9mat4kdoFkg/S21eistRgO6yj0EBxmq9UfV3xtEwZhxjOgJB+itz 7AZ617VNmh50N8214e5wExz9My4hjWlCzWjfllhY5vpP68m8gw== X-Google-Smtp-Source: AGHT+IFhWsOiCUh1qQ1YWjCVP0s1nM1Cb0gLw1214TCDTDj8Ga4J/tBxbjEdy+Tt7J1Y+rhlAbKTCjpmi1OW X-Received: by 2002:a05:6e02:1a88:b0:42d:86cc:1bd2 with SMTP id e9e14a558f8ab-42f87410bd5mr319209085ab.32.1760536297682; Wed, 15 Oct 2025 06:51:37 -0700 (PDT) Received: from postal.iol.unh.edu (postal.iol.unh.edu. [2606:4100:3880:1234::84]) by smtp-relay.gmail.com with ESMTPS id e9e14a558f8ab-42f9024401asm12364755ab.7.2025.10.15.06.51.37 (version=TLS1_2 cipher=ECDHE-ECDSA-AES128-GCM-SHA256 bits=128/128); Wed, 15 Oct 2025 06:51:37 -0700 (PDT) X-Relaying-Domain: iol.unh.edu Date: Wed, 15 Oct 2025 06:51:37 -0700 (PDT) Message-ID: <68efa6e9.050a0220.bfeda.d15aSMTPIN_ADDED_MISSING@mx.google.com> Received: from [172.21.0.2] (unknown [172.18.0.240]) by postal.iol.unh.edu (Postfix) with ESMTP id 3BB4D60003E8; Wed, 15 Oct 2025 09:51:37 -0400 (EDT) Subject: |SUCCESS| pw157661-157680 [PATCH] [v2,20/20] net/ena: upgrade driver From: dpdklab@iol.unh.edu To: Test Report Cc: dpdk-test-reports@iol.unh.edu In-Reply-To: <20251015121436.3219-1-shaibran@amazon.com> References: <20251015121436.3219-1-shaibran@amazon.com> Content-Type: text/plain X-BeenThere: test-report@dpdk.org X-Mailman-Version: 2.1.29 Precedence: list List-Id: automatic DPDK test reports List-Unsubscribe: , List-Archive: List-Post: List-Help: List-Subscribe: , Errors-To: test-report-bounces@dpdk.org Test-Label: iol-unit-amd64-testing Test-Status: SUCCESS http://dpdk.org/patch/157680 _Testing PASS_ Submitter: Shai Brandes Date: Wednesday, October 15 2025 12:14:36 DPDK git baseline: Repo:dpdk Branch: master CommitID:c4b0762fce81ba6edfec0d935cf23342f78018e3 157661-157680 --> testing pass Upstream job id: Generic-VM-Unit-Test-DPDK#31813 Test environment and result as below: +-------------------------------+----------------+ | Environment | dpdk_unit_test | +===============================+================+ | CentOS Stream 9 | PASS | +-------------------------------+----------------+ | CentOS Stream 10 | PASS | +-------------------------------+----------------+ | Fedora Linux 40 | PASS | +-------------------------------+----------------+ | Debian GNU/Linux 12 | PASS | +-------------------------------+----------------+ | Fedora Linux 42 | PASS | +-------------------------------+----------------+ | Fedora Linux 41 | PASS | +-------------------------------+----------------+ | Red Hat Enterprise Linux 8.10 | PASS | +-------------------------------+----------------+ | Ubuntu 24.04 | PASS | +-------------------------------+----------------+ | Ubuntu 22.04 | PASS | +-------------------------------+----------------+ | Red Hat Enterprise Linux 9.5 | PASS | +-------------------------------+----------------+ | Ubuntu 20.04 | PASS | +-------------------------------+----------------+ | Windows Server 2022 | PASS | +-------------------------------+----------------+ CentOS Stream 9 Kernel: 5.15 Compiler: gcc gcc (GCC) 11.5.0 20240719 (Red Hat 11.5.0-11) CentOS Stream 10 Kernel: 5.15 Compiler: gcc gcc (GCC) 14.2.1 20250110 (Red Hat 14.2.1-8) Fedora Linux 40 Kernel: 5.15 Compiler: gcc gcc (GCC) 14.2.1 20240912 (Red Hat 14.2.1-3) Debian GNU/Linux 12 Kernel: 5.15 Compiler: gcc gcc (Debian 12.2.0-14+deb12u1) 12.2.0 Fedora Linux 42 Kernel: 5.15 Compiler: gcc gcc (GCC) 15.2.1 20250808 (Red Hat 15.2.1-1) Fedora Linux 41 Kernel: 5.15 Compiler: gcc gcc (GCC) 14.3.1 20250523 (Red Hat 14.3.1-1) Red Hat Enterprise Linux 8.10 Kernel: 5.15 Compiler: gcc gcc (GCC) 8.5.0 20210514 (Red Hat 8.5.0-22) Ubuntu 24.04 Kernel: 5.15 Compiler: gcc gcc (Ubuntu 13.3.0-6ubuntu2~24.04) 13.3.0 Ubuntu 22.04 Kernel: 5.15 Compiler: gcc gcc (Ubuntu 11.4.0-1ubuntu1~22.04) 11.4.0 Red Hat Enterprise Linux 9.5 Kernel: 5.15 Compiler: gcc gcc (GCC) 11.5.0 20240719 (Red Hat 11.5.0-2) Ubuntu 20.04 Kernel: 5.15 Compiler: gcc gcc (Ubuntu 9.4.0-1ubuntu1~20.04.2) 9.4.0 Windows Server 2022 Kernel: 10.0.20348.2031 Compiler: clang 15.0.7, gcc 14.1.0 (MinGW), and MSVC VS 19.39.33521 To view detailed results, visit: https://lab.dpdk.org/results/dashboard/patchsets/34285/ UNH-IOL DPDK Community Lab To manage your email subscriptions, visit: https://lab.dpdk.org/results/dashboard/preferences/subscriptions/