From mboxrd@z Thu Jan 1 00:00:00 1970 Return-Path: Received: from mails.dpdk.org (mails.dpdk.org [217.70.189.124]) by inbox.dpdk.org (Postfix) with ESMTP id BFAC048942 for ; Wed, 15 Oct 2025 15:52:10 +0200 (CEST) Received: from mails.dpdk.org (localhost [127.0.0.1]) by mails.dpdk.org (Postfix) with ESMTP id BB55540273; Wed, 15 Oct 2025 15:52:10 +0200 (CEST) Received: from mail-pl1-f225.google.com (mail-pl1-f225.google.com [209.85.214.225]) by mails.dpdk.org (Postfix) with ESMTP id B323340273 for ; Wed, 15 Oct 2025 15:52:09 +0200 (CEST) Received: by mail-pl1-f225.google.com with SMTP id d9443c01a7336-29091d29fc8so352965ad.0 for ; Wed, 15 Oct 2025 06:52:09 -0700 (PDT) DKIM-Signature: v=1; a=rsa-sha256; c=relaxed/relaxed; d=iol.unh.edu; s=unh-iol; t=1760536329; x=1761141129; darn=dpdk.org; h=references:in-reply-to:cc:to:from:subject:message-id:date:from:to :cc:subject:date:message-id:reply-to; bh=hq4h2l2vTtXvIuctVL/aPjXnTsybFOhtJwQS11SjrcA=; b=THVNsQNBABew1S0IAnQ2d1kZ5c+CIVshZlrJ9/IrD3d/zPXQv2etp2svYoriKtKiuA pODzLC32VZUfgng8FgbSeXJSIEdDm4iM5C+GEsm5/zV/gB9Mw+1xPQ46uwW3MNRKF/Du gqewrjfMRgRiXWg7eFRR79XZhCQ6Vv30TQbYE= X-Google-DKIM-Signature: v=1; a=rsa-sha256; c=relaxed/relaxed; d=1e100.net; s=20230601; t=1760536329; x=1761141129; h=references:in-reply-to:cc:to:from:subject:message-id:date :x-gm-message-state:from:to:cc:subject:date:message-id:reply-to; bh=hq4h2l2vTtXvIuctVL/aPjXnTsybFOhtJwQS11SjrcA=; b=Cuv6QhYrl58F5uazl01khdG3Ij845/q2u2U5TVuuQ0dXqli1m/nD2XkSOb3cPtvP6e 1y5rQxX/nJh2rt573xRshN3Y6SY28sWmYAX4dXglNi7h+my6b4qQs17AGn3wzU50TJ2a KFSr41iMwReMcFNq1V/h/iqbqsQlzc0U4AVqaTfSKch+FQhYtECyPUoeivEyWtfC6nyk PzZRrYFyNnR5d710AUKvhCgrBz3MiDRP83lXCoqNDJBR2V9OHwffmE0uAcXHs5zDnkKX e3sdfG42Uv51Vh70YL5KrXGz2HfTWxhk8g8b3HX8wVU0ULSEdVn05CKt43rIoJxADOaJ YlSw== X-Gm-Message-State: AOJu0Yyv8dKtmAW6cqLiIfcm6ZdBFbqKHUoCONh8IUV/8w3QCUG7yvGn Hu3reVhwczMzX2hqvXUxBwznHM6O/IyoODTxkicYydrbD0IPYIZE+k8GB9xFpWuWHFkN/R1c9zI wZSEAf+FRrhvUCGx+3fkz9AgvYFAG1fKXKlrGypJ+Gtcn X-Gm-Gg: ASbGncsiTB9FqExVo6j4oIp0URznOojtIFb2d4iyIMXlgnC99exsOjfdOSmQht6ZPf6 ioBgVPZXB2ESUs3bteekqUmIJ0U0QTi3kDoFdulEfPT+X3T2EDb58RRY0A/OL11+qQNe+P+66nn TD2lU2nlXdVHfpryOTZmDgFwrU8l7M3kCLGAlkNMCFUK3K6bVHv1lZQBguKLrLNZafvdB45YA/u sQko7uBDQhDqJ/8aDEyF203/twajOBkkkPIbnC/rYewgw2lgEdXfDs9Xc3j2QzFQFv/B+XEa0Ze 0Ntbz8QA945B/bI0M30MaiE0LmRlRR78/gOv7fE1H5NiH6Rz2U18NaxVInrkMb9NHyRTSJFJ X-Google-Smtp-Source: AGHT+IEe0X6GZO1et4pCi2AjA7XLKTLWjMeEnRzeh6WawYb3b0T1m3/6NffrInyHkCXca1NAg6/uRV3Ovaxn X-Received: by 2002:a17:903:2d2:b0:267:6754:8fd9 with SMTP id d9443c01a7336-290272c9322mr346004125ad.39.1760536328823; Wed, 15 Oct 2025 06:52:08 -0700 (PDT) Received: from postal.iol.unh.edu (postal.iol.unh.edu. [132.177.123.84]) by smtp-relay.gmail.com with ESMTPS id d9443c01a7336-29034df7392sm16410275ad.6.2025.10.15.06.52.08 (version=TLS1_2 cipher=ECDHE-ECDSA-AES128-GCM-SHA256 bits=128/128); Wed, 15 Oct 2025 06:52:08 -0700 (PDT) X-Relaying-Domain: iol.unh.edu Date: Wed, 15 Oct 2025 06:52:08 -0700 (PDT) Message-ID: <68efa708.170a0220.287ec8.0ce9SMTPIN_ADDED_MISSING@mx.google.com> Received: from [172.21.0.2] (unknown [172.18.0.240]) by postal.iol.unh.edu (Postfix) with ESMTP id 464ED6051830; Wed, 15 Oct 2025 09:52:08 -0400 (EDT) Subject: |SUCCESS| pw157661-157680 [PATCH] [v2,20/20] net/ena: upgrade driver From: dpdklab@iol.unh.edu To: Test Report Cc: dpdk-test-reports@iol.unh.edu In-Reply-To: <20251015121436.3219-1-shaibran@amazon.com> References: <20251015121436.3219-1-shaibran@amazon.com> Content-Type: text/plain X-BeenThere: test-report@dpdk.org X-Mailman-Version: 2.1.29 Precedence: list List-Id: automatic DPDK test reports List-Unsubscribe: , List-Archive: List-Post: List-Help: List-Subscribe: , Errors-To: test-report-bounces@dpdk.org Test-Label: iol-compile-amd64-testing Test-Status: SUCCESS http://dpdk.org/patch/157680 _Testing PASS_ Submitter: Shai Brandes Date: Wednesday, October 15 2025 12:14:36 DPDK git baseline: Repo:dpdk Branch: master CommitID:c4b0762fce81ba6edfec0d935cf23342f78018e3 157661-157680 --> testing pass Upstream job id: Windows-Compile-DPDK-Native#31641 Test environment and result as below: +-------------------------------+--------------------+-------------------+------------------+-------------------+-------------------------+ | Environment | dpdk_meson_compile | dpdk_compile_spdk | dpdk_compile_ovs | dpdk_msvc_compile | dpdk_llvm_clang_compile | +===============================+====================+===================+==================+===================+=========================+ | FreeBSD 14.2 | PASS | SKIPPED | SKIPPED | SKIPPED | SKIPPED | +-------------------------------+--------------------+-------------------+------------------+-------------------+-------------------------+ | CentOS Stream 9 | PASS | PASS | SKIPPED | SKIPPED | SKIPPED | +-------------------------------+--------------------+-------------------+------------------+-------------------+-------------------------+ | CentOS Stream 10 | PASS | SKIPPED | SKIPPED | SKIPPED | SKIPPED | +-------------------------------+--------------------+-------------------+------------------+-------------------+-------------------------+ | Red Hat Enterprise Linux 8.10 | PASS | SKIPPED | SKIPPED | SKIPPED | SKIPPED | +-------------------------------+--------------------+-------------------+------------------+-------------------+-------------------------+ | Ubuntu 20.04 | PASS | SKIPPED | SKIPPED | SKIPPED | SKIPPED | +-------------------------------+--------------------+-------------------+------------------+-------------------+-------------------------+ | Fedora Linux 42 | PASS | PASS | PASS | SKIPPED | SKIPPED | +-------------------------------+--------------------+-------------------+------------------+-------------------+-------------------------+ | openSUSE Leap 15.6 | PASS | SKIPPED | SKIPPED | SKIPPED | SKIPPED | +-------------------------------+--------------------+-------------------+------------------+-------------------+-------------------------+ | Red Hat Enterprise Linux 9.5 | PASS | SKIPPED | SKIPPED | SKIPPED | SKIPPED | +-------------------------------+--------------------+-------------------+------------------+-------------------+-------------------------+ | Debian GNU/Linux 12 | PASS | PASS | SKIPPED | SKIPPED | SKIPPED | +-------------------------------+--------------------+-------------------+------------------+-------------------+-------------------------+ | Ubuntu 24.04 | PASS | PASS | PASS | SKIPPED | SKIPPED | +-------------------------------+--------------------+-------------------+------------------+-------------------+-------------------------+ | Ubuntu 22.04 | PASS | PASS | SKIPPED | SKIPPED | SKIPPED | +-------------------------------+--------------------+-------------------+------------------+-------------------+-------------------------+ | Alpine Linux 3.22.0 | PASS | SKIPPED | SKIPPED | SKIPPED | SKIPPED | +-------------------------------+--------------------+-------------------+------------------+-------------------+-------------------------+ | Windows Server 2022 | SKIPPED | SKIPPED | SKIPPED | PASS | PASS | +-------------------------------+--------------------+-------------------+------------------+-------------------+-------------------------+ FreeBSD 14.2 Kernel: 14.2-RELEASE Compiler: clang 18.1.6 CentOS Stream 9 Kernel: 5.15 Compiler: gcc gcc (GCC) 11.5.0 20240719 (Red Hat 11.5.0-11) CentOS Stream 10 Kernel: 5.15 Compiler: gcc gcc (GCC) 14.2.1 20250110 (Red Hat 14.2.1-8) Red Hat Enterprise Linux 8.10 Kernel: 5.15 Compiler: gcc gcc (GCC) 8.5.0 20210514 (Red Hat 8.5.0-22) Ubuntu 20.04 Kernel: 5.15 Compiler: gcc gcc (Ubuntu 9.4.0-1ubuntu1~20.04.2) 9.4.0 Fedora Linux 42 Kernel: 5.15 Compiler: gcc gcc (GCC) 15.2.1 20250808 (Red Hat 15.2.1-1) openSUSE Leap 15.6 Kernel: 5.15 Compiler: gcc gcc (SUSE Linux) 7.5.0 Red Hat Enterprise Linux 9.5 Kernel: 5.15 Compiler: gcc gcc (GCC) 11.5.0 20240719 (Red Hat 11.5.0-2) Debian GNU/Linux 12 Kernel: 5.15 Compiler: gcc gcc (Debian 12.2.0-14+deb12u1) 12.2.0 Ubuntu 24.04 Kernel: 5.15 Compiler: gcc gcc (Ubuntu 13.3.0-6ubuntu2~24.04) 13.3.0 Ubuntu 22.04 Kernel: 5.15 Compiler: gcc gcc (Ubuntu 11.4.0-1ubuntu1~22.04) 11.4.0 Alpine Linux 3.22.0 Kernel: 5.15 Compiler: gcc gcc (Alpine 14.2.0) 14.2.0 Windows Server 2022 Kernel: 10.0.20348.2031 Compiler: clang 15.0.7, gcc 14.1.0 (MinGW), and MSVC VS 19.39.33521 To view detailed results, visit: https://lab.dpdk.org/results/dashboard/patchsets/34285/ UNH-IOL DPDK Community Lab To manage your email subscriptions, visit: https://lab.dpdk.org/results/dashboard/preferences/subscriptions/