From mboxrd@z Thu Jan 1 00:00:00 1970 Return-Path: Received: from mails.dpdk.org (mails.dpdk.org [217.70.189.124]) by inbox.dpdk.org (Postfix) with ESMTP id 0174C48942 for ; Wed, 15 Oct 2025 15:53:53 +0200 (CEST) Received: from mails.dpdk.org (localhost [127.0.0.1]) by mails.dpdk.org (Postfix) with ESMTP id E41CC40273; Wed, 15 Oct 2025 15:53:53 +0200 (CEST) Received: from mail-pf1-f228.google.com (mail-pf1-f228.google.com [209.85.210.228]) by mails.dpdk.org (Postfix) with ESMTP id EFBB740273 for ; Wed, 15 Oct 2025 15:53:52 +0200 (CEST) Received: by mail-pf1-f228.google.com with SMTP id d2e1a72fcca58-781251eec51so5436602b3a.3 for ; Wed, 15 Oct 2025 06:53:52 -0700 (PDT) DKIM-Signature: v=1; a=rsa-sha256; c=relaxed/relaxed; d=iol.unh.edu; s=unh-iol; t=1760536432; x=1761141232; darn=dpdk.org; h=references:in-reply-to:cc:to:from:subject:message-id:date:from:to :cc:subject:date:message-id:reply-to; bh=c3SsVvmsXRYCF8VDQs2GebdXd9coKlZ7qdObmqqsf0w=; b=d6JfN+orESHGbxn4YHX80u4EtDhhF7Yz3CtFQphedXbsLYv8WJWofIy1GsMW3v6ipI K4zfB2q29CAvwOIaHIlTno+ePULJ1E6C9pAKYtCl6IkyzRZ/I22ixx8q9YNUd2PgJGko XQCbYimLaYuQmJyck6kl3mvr1dKpAF0sCrFuc= X-Google-DKIM-Signature: v=1; a=rsa-sha256; c=relaxed/relaxed; d=1e100.net; s=20230601; t=1760536432; x=1761141232; h=references:in-reply-to:cc:to:from:subject:message-id:date :x-gm-message-state:from:to:cc:subject:date:message-id:reply-to; bh=c3SsVvmsXRYCF8VDQs2GebdXd9coKlZ7qdObmqqsf0w=; b=O2aTMB5nsV7TcVp/cBH1cDTXHxkElVSk2R8hAcbetkO1jsrgB7S0GrW8S8V3X9QH+c 0es5qnbcP9A/9fAzobef/bbYgzPVJy+temfp7KQQ2nJgXkQpjQnnLoYYJmRRbfvagOza vlB44wsGgiA67YoT23iuIvJeYh3o/rrOz91OA4uwAT6IZFhRO9t+qvnE8aM4WzoS8OSi fEPDHlwN5idWgYUrWo0cLI/970W0ksRAi0RPLw5tHtsBUBogEHR6Lh9sOuvLM1E5wEXY 8IN+NGJOYRKwgWwdZQlDGhb2hELZAqf584Gv2ptF2wowln75pFPUYuteUNlx9MFp31wa xTVA== X-Gm-Message-State: AOJu0YzA+IV3QRRw8c19XNixRCAMGwkA5azI2RC9Dwt/pCA6TVM2mutp R52fN559mL6GNu/oDQ0H+ioWv2d44nOcTkTm39tzYsbFjQARUtmnzSfoE2ndYI3Uq0KGxuXMYWj pijOpZzag9RZx+N3kJhGrcsYal2ZS2wW9ms33k2OacKh7IzC50UUZlzw454td X-Gm-Gg: ASbGncsOlKtYrmR94KBUB3StHCPGbuDVg45qIuddtU6Arh+L+jlVhwKZ3yqR9YNRS3j L5yrsZPx1m4BTjXGIli7H9seu6vzVB/6Vlg7AVjxqgoYM5A4wdAO7K1U3rEk/h6wgpcCK8H5jQi HCnSW/ra8r8Hgl89Bb7JuxVobC/v6C2LATylZf1OLCTXxBDKzvO1icXDRjMgS8I9Fwr8vqqXEkc jQ6UEEaJleDE+Fnl4FDZDwaQ+rKQRGlj5fwGZKHZy86JmoFhrRpB/Qg4Q3OI357N5Q+M1e7OjyR D3LbC73Yylu+ZLK6aetzM+X9iRxQYvbI9UAeMVZlpPrit30kpg== X-Google-Smtp-Source: AGHT+IEqGXBPQGEX2EGV0ZvTwUm5yN+RPZ1TeediX8aJHU5HCPze/tY9PnRIP2ySN1GEl9d8MvSCa/uG6DN+ X-Received: by 2002:a05:6a20:c70b:b0:2b7:e136:1f30 with SMTP id adf61e73a8af0-32da8462b4cmr39660024637.55.1760536432072; Wed, 15 Oct 2025 06:53:52 -0700 (PDT) Received: from postal.iol.unh.edu (postal.iol.unh.edu. [2606:4100:3880:1234::84]) by smtp-relay.gmail.com with ESMTPS id 98e67ed59e1d1-33b61929027sm1517346a91.0.2025.10.15.06.53.51 (version=TLS1_2 cipher=ECDHE-ECDSA-AES128-GCM-SHA256 bits=128/128); Wed, 15 Oct 2025 06:53:52 -0700 (PDT) X-Relaying-Domain: iol.unh.edu Date: Wed, 15 Oct 2025 06:53:52 -0700 (PDT) Message-ID: <68efa770.170a0220.1cf9a9.a4acSMTPIN_ADDED_MISSING@mx.google.com> Received: from [172.21.0.4] (unknown [172.18.0.240]) by postal.iol.unh.edu (Postfix) with ESMTP id 4B2C460003E8; Wed, 15 Oct 2025 09:53:51 -0400 (EDT) Subject: |SUCCESS| pw157661-157680 [PATCH] [v2,20/20] net/ena: upgrade driver From: dpdklab@iol.unh.edu To: Test Report Cc: dpdk-test-reports@iol.unh.edu In-Reply-To: <20251015121436.3219-1-shaibran@amazon.com> References: <20251015121436.3219-1-shaibran@amazon.com> Content-Type: text/plain X-BeenThere: test-report@dpdk.org X-Mailman-Version: 2.1.29 Precedence: list List-Id: automatic DPDK test reports List-Unsubscribe: , List-Archive: List-Post: List-Help: List-Subscribe: , Errors-To: test-report-bounces@dpdk.org Test-Label: iol-compile-amd64-testing Test-Status: SUCCESS http://dpdk.org/patch/157680 _Testing PASS_ Submitter: Shai Brandes Date: Wednesday, October 15 2025 12:14:36 DPDK git baseline: Repo:dpdk Branch: master CommitID:c4b0762fce81ba6edfec0d935cf23342f78018e3 157661-157680 --> testing pass Upstream job id: Windows-Compile-DPDK-Native#31642 Test environment and result as below: +-------------------------------+--------------------+-------------------+------------------+-------------------+-------------------------+----------------------+ | Environment | dpdk_meson_compile | dpdk_compile_spdk | dpdk_compile_ovs | dpdk_msvc_compile | dpdk_llvm_clang_compile | dpdk_mingw64_compile | +===============================+====================+===================+==================+===================+=========================+======================+ | FreeBSD 14.2 | PASS | SKIPPED | SKIPPED | SKIPPED | SKIPPED | SKIPPED | +-------------------------------+--------------------+-------------------+------------------+-------------------+-------------------------+----------------------+ | CentOS Stream 9 | PASS | PASS | SKIPPED | SKIPPED | SKIPPED | SKIPPED | +-------------------------------+--------------------+-------------------+------------------+-------------------+-------------------------+----------------------+ | CentOS Stream 10 | PASS | SKIPPED | SKIPPED | SKIPPED | SKIPPED | SKIPPED | +-------------------------------+--------------------+-------------------+------------------+-------------------+-------------------------+----------------------+ | Red Hat Enterprise Linux 8.10 | PASS | SKIPPED | SKIPPED | SKIPPED | SKIPPED | SKIPPED | +-------------------------------+--------------------+-------------------+------------------+-------------------+-------------------------+----------------------+ | Ubuntu 20.04 | PASS | SKIPPED | SKIPPED | SKIPPED | SKIPPED | SKIPPED | +-------------------------------+--------------------+-------------------+------------------+-------------------+-------------------------+----------------------+ | Fedora Linux 42 | PASS | PASS | PASS | SKIPPED | SKIPPED | SKIPPED | +-------------------------------+--------------------+-------------------+------------------+-------------------+-------------------------+----------------------+ | openSUSE Leap 15.6 | PASS | SKIPPED | SKIPPED | SKIPPED | SKIPPED | SKIPPED | +-------------------------------+--------------------+-------------------+------------------+-------------------+-------------------------+----------------------+ | Red Hat Enterprise Linux 9.5 | PASS | SKIPPED | SKIPPED | SKIPPED | SKIPPED | SKIPPED | +-------------------------------+--------------------+-------------------+------------------+-------------------+-------------------------+----------------------+ | Debian GNU/Linux 12 | PASS | PASS | SKIPPED | SKIPPED | SKIPPED | SKIPPED | +-------------------------------+--------------------+-------------------+------------------+-------------------+-------------------------+----------------------+ | Ubuntu 24.04 | PASS | PASS | PASS | SKIPPED | SKIPPED | SKIPPED | +-------------------------------+--------------------+-------------------+------------------+-------------------+-------------------------+----------------------+ | Ubuntu 22.04 | PASS | PASS | SKIPPED | SKIPPED | SKIPPED | SKIPPED | +-------------------------------+--------------------+-------------------+------------------+-------------------+-------------------------+----------------------+ | Alpine Linux 3.22.0 | PASS | SKIPPED | SKIPPED | SKIPPED | SKIPPED | SKIPPED | +-------------------------------+--------------------+-------------------+------------------+-------------------+-------------------------+----------------------+ | Windows Server 2022 | SKIPPED | SKIPPED | SKIPPED | PASS | PASS | PASS | +-------------------------------+--------------------+-------------------+------------------+-------------------+-------------------------+----------------------+ FreeBSD 14.2 Kernel: 14.2-RELEASE Compiler: clang 18.1.6 CentOS Stream 9 Kernel: 5.15 Compiler: gcc gcc (GCC) 11.5.0 20240719 (Red Hat 11.5.0-11) CentOS Stream 10 Kernel: 5.15 Compiler: gcc gcc (GCC) 14.2.1 20250110 (Red Hat 14.2.1-8) Red Hat Enterprise Linux 8.10 Kernel: 5.15 Compiler: gcc gcc (GCC) 8.5.0 20210514 (Red Hat 8.5.0-22) Ubuntu 20.04 Kernel: 5.15 Compiler: gcc gcc (Ubuntu 9.4.0-1ubuntu1~20.04.2) 9.4.0 Fedora Linux 42 Kernel: 5.15 Compiler: gcc gcc (GCC) 15.2.1 20250808 (Red Hat 15.2.1-1) openSUSE Leap 15.6 Kernel: 5.15 Compiler: gcc gcc (SUSE Linux) 7.5.0 Red Hat Enterprise Linux 9.5 Kernel: 5.15 Compiler: gcc gcc (GCC) 11.5.0 20240719 (Red Hat 11.5.0-2) Debian GNU/Linux 12 Kernel: 5.15 Compiler: gcc gcc (Debian 12.2.0-14+deb12u1) 12.2.0 Ubuntu 24.04 Kernel: 5.15 Compiler: gcc gcc (Ubuntu 13.3.0-6ubuntu2~24.04) 13.3.0 Ubuntu 22.04 Kernel: 5.15 Compiler: gcc gcc (Ubuntu 11.4.0-1ubuntu1~22.04) 11.4.0 Alpine Linux 3.22.0 Kernel: 5.15 Compiler: gcc gcc (Alpine 14.2.0) 14.2.0 Windows Server 2022 Kernel: 10.0.20348.2031 Compiler: clang 15.0.7, gcc 14.1.0 (MinGW), and MSVC VS 19.39.33521 To view detailed results, visit: https://lab.dpdk.org/results/dashboard/patchsets/34285/ UNH-IOL DPDK Community Lab To manage your email subscriptions, visit: https://lab.dpdk.org/results/dashboard/preferences/subscriptions/