From mboxrd@z Thu Jan 1 00:00:00 1970 Return-Path: Received: from mails.dpdk.org (mails.dpdk.org [217.70.189.124]) by inbox.dpdk.org (Postfix) with ESMTP id 17BFF48942 for ; Wed, 15 Oct 2025 16:05:25 +0200 (CEST) Received: from mails.dpdk.org (localhost [127.0.0.1]) by mails.dpdk.org (Postfix) with ESMTP id E392440273; Wed, 15 Oct 2025 16:05:24 +0200 (CEST) Received: from mail-qk1-f227.google.com (mail-qk1-f227.google.com [209.85.222.227]) by mails.dpdk.org (Postfix) with ESMTP id CDF1C40273 for ; Wed, 15 Oct 2025 16:05:23 +0200 (CEST) Received: by mail-qk1-f227.google.com with SMTP id af79cd13be357-86302b5a933so140802985a.0 for ; Wed, 15 Oct 2025 07:05:23 -0700 (PDT) DKIM-Signature: v=1; a=rsa-sha256; c=relaxed/relaxed; d=iol.unh.edu; s=unh-iol; t=1760537123; x=1761141923; darn=dpdk.org; h=references:in-reply-to:cc:to:from:subject:message-id:date:from:to :cc:subject:date:message-id:reply-to; bh=+/AfuCmUlHM1/VX6MbOuaaJh9UtWJXjfsWWCffQ4DPM=; b=BeNY3pwqLdpLdRa/eV6dfADu0nrzadbFXd0oDSaU6R8gkRaV/ELhJvQfqOe+JXASwr BaiYNFxh6RSTpIuhTY74Q35Cw5wM2Lm83V05hqXcoBMXkb5bgTPXtXTDkSA2bxE3BfXX RSPsdD4N0S1i7szZDV2FF2jsZ481yQalL1MMI= X-Google-DKIM-Signature: v=1; a=rsa-sha256; c=relaxed/relaxed; d=1e100.net; s=20230601; t=1760537123; x=1761141923; h=references:in-reply-to:cc:to:from:subject:message-id:date :x-gm-message-state:from:to:cc:subject:date:message-id:reply-to; bh=+/AfuCmUlHM1/VX6MbOuaaJh9UtWJXjfsWWCffQ4DPM=; b=INp4AxB40QiaVCEO8Gpq/CWj4iM8B+HpQVUeZQQ6Ah3AUcHXMhIQAJ94xic1tdVYBn uSO99aK8t62mXwe34uy9UVo5RX2f6VcFjJhSwnr1PBRXffgYaUIJ5AAHge73bTlQ2rjB +ANMurY/s/ZqQ/kqi5ptlVutiVznaxFAwk7APbSXmDO+GZF5bzJcpmKVTkgZSHvLg7J2 AGavfrVcLeEn4FGwfAy1JWqasbWLTftfB2fcW54d/5IeyR8eeTsiCxX74Cl4jCSROVMI dl6u+Nvp9ObkVK8VlZiq5SMlPrlnJQqNC1j9u28/mE8r/N/J8hdR0NLxAepZrr+eucCQ TDyg== X-Gm-Message-State: AOJu0Yw0N+7DPzFe1CgjW0JflUoMN85OSbkNYm53QRHZ8i5zUpaori9n zIZ1K01Zs/482Vjn55BzCjpdxCQo2ZywwexsicQs1u4Jc08R6u7ZpSUhSg4t531raIP6soakMvw fjj+CDKzd3USjDSD0X+ls6VVTFav1gesnmpw3dX+9HqseBLUVdWsQ75XfwdXq X-Gm-Gg: ASbGncuKmFY4AACc6DgjiDcYNEi+XpDpkutj2JKAqfXUzyGliBHNl513L37mujh2pEg RIFS/NIawnddqLC2wuGQgVs6NxJAS4HEMmglb9p5vTRX+AAmBDbwGv938lwuOtFLXMDw360b8wL O/ViRfPekV1ce2vjLNo5bxQ4e6uuhvYFJ2pg9QVBZiYAGdJ1BknrNw/2Habf98uUhWrqaYTkaEv qbw6v1wrDdCde3qmoQeYNC2SRDL4mAGbksctryyK8wRWFjyAAOjZP18fOLyHJo/gwuDgBDud0mc VuQZVxefa3tO4QODzWGt/z16XJI1mBxYEgWxrZ98tUqgpy4VqA== X-Google-Smtp-Source: AGHT+IGs1tybS2RGSg4z+nmP/HN1jXGVr+kZ5X+tIvVYB4JBS5OLcHyuOEtBxkHfW3ClseXCqmpk8+o/3YKI X-Received: by 2002:a05:622a:88:b0:4e7:1fca:22ad with SMTP id d75a77b69052e-4e71fca22cemr150762781cf.7.1760537121581; Wed, 15 Oct 2025 07:05:21 -0700 (PDT) Received: from postal.iol.unh.edu (postal.iol.unh.edu. [2606:4100:3880:1234::84]) by smtp-relay.gmail.com with ESMTPS id d75a77b69052e-4e881c2d473sm1424631cf.2.2025.10.15.07.05.21 (version=TLS1_2 cipher=ECDHE-ECDSA-AES128-GCM-SHA256 bits=128/128); Wed, 15 Oct 2025 07:05:21 -0700 (PDT) X-Relaying-Domain: iol.unh.edu Date: Wed, 15 Oct 2025 07:05:21 -0700 (PDT) Message-ID: <68efaa21.050a0220.223e1a.7408SMTPIN_ADDED_MISSING@mx.google.com> Received: from [172.21.0.2] (unknown [172.18.0.240]) by postal.iol.unh.edu (Postfix) with ESMTP id 20E536051830; Wed, 15 Oct 2025 10:05:21 -0400 (EDT) Subject: |SUCCESS| pw157653 [PATCH] [v2] fib6: implement RCU rule reclamation From: dpdklab@iol.unh.edu To: Test Report Cc: dpdk-test-reports@iol.unh.edu In-Reply-To: <20251015095347.333685-2-rjarry@redhat.com> References: <20251015095347.333685-2-rjarry@redhat.com> Content-Type: text/plain X-BeenThere: test-report@dpdk.org X-Mailman-Version: 2.1.29 Precedence: list List-Id: automatic DPDK test reports List-Unsubscribe: , List-Archive: List-Post: List-Help: List-Subscribe: , Errors-To: test-report-bounces@dpdk.org Test-Label: iol-compile-arm64-testing Test-Status: SUCCESS http://dpdk.org/patch/157653 _Testing PASS_ Submitter: Robin Jarry Date: Wednesday, October 15 2025 09:53:48 DPDK git baseline: Repo:dpdk Branch: master CommitID:8aa458f1c44b9f6e73f75047aca77191dc79746f 157653 --> testing pass Upstream job id: Generic-DPDK-Compile-Meson#434448 Test environment and result as below: +------------------------------+--------------------+ | Environment | dpdk_meson_compile | +==============================+====================+ | Red Hat Enterprise Linux 9.5 | PASS | +------------------------------+--------------------+ | Ubuntu 20.04 | PASS | +------------------------------+--------------------+ | Debian GNU/Linux 12 | PASS | +------------------------------+--------------------+ | Fedora Linux 42 | PASS | +------------------------------+--------------------+ | Ubuntu 22.04 | PASS | +------------------------------+--------------------+ | Ubuntu 24.04 | PASS | +------------------------------+--------------------+ | CentOS Stream 9 | PASS | +------------------------------+--------------------+ | CentOS Stream 10 | PASS | +------------------------------+--------------------+ Red Hat Enterprise Linux 9.5 Kernel: 5.4 Compiler: gcc gcc (GCC) 11.5.0 20240719 (Red Hat 11.5.0-2) Ubuntu 20.04 Kernel: 5.15 Compiler: aarch64-linux-gnu-gcc gcc (Ubuntu 9.4.0-1ubuntu1~20.04.2) 9.4.0 Debian GNU/Linux 12 Kernel: 5.4 Compiler: gcc gcc (Debian 12.2.0-14+deb12u1) 12.2.0 Fedora Linux 42 Kernel: 5.4 Compiler: gcc gcc (GCC) 15.2.1 20250808 (Red Hat 15.2.1-1) Ubuntu 22.04 Kernel: 5.4 Compiler: gcc gcc (Ubuntu 11.4.0-1ubuntu1~22.04) 11.4.0 Ubuntu 24.04 Kernel: 5.4 Compiler: gcc gcc (Ubuntu 13.3.0-6ubuntu2~24.04) 13.3.0 CentOS Stream 9 Kernel: 5.4 Compiler: gcc gcc (GCC) 11.5.0 20240719 (Red Hat 11.5.0-11) CentOS Stream 10 Kernel: 5.4 Compiler: gcc gcc (GCC) 14.2.1 20250110 (Red Hat 14.2.1-8) To view detailed results, visit: https://lab.dpdk.org/results/dashboard/patchsets/34283/ UNH-IOL DPDK Community Lab To manage your email subscriptions, visit: https://lab.dpdk.org/results/dashboard/preferences/subscriptions/