From mboxrd@z Thu Jan 1 00:00:00 1970 Return-Path: Received: from mails.dpdk.org (mails.dpdk.org [217.70.189.124]) by inbox.dpdk.org (Postfix) with ESMTP id E327A48942 for ; Wed, 15 Oct 2025 17:21:52 +0200 (CEST) Received: from mails.dpdk.org (localhost [127.0.0.1]) by mails.dpdk.org (Postfix) with ESMTP id CA0E940273; Wed, 15 Oct 2025 17:21:52 +0200 (CEST) Received: from mail-io1-f99.google.com (mail-io1-f99.google.com [209.85.166.99]) by mails.dpdk.org (Postfix) with ESMTP id 5FC0C40273 for ; Wed, 15 Oct 2025 17:21:51 +0200 (CEST) Received: by mail-io1-f99.google.com with SMTP id ca18e2360f4ac-93bccd4901aso636688439f.2 for ; Wed, 15 Oct 2025 08:21:51 -0700 (PDT) DKIM-Signature: v=1; a=rsa-sha256; c=relaxed/relaxed; d=iol.unh.edu; s=unh-iol; t=1760541710; x=1761146510; darn=dpdk.org; h=references:in-reply-to:cc:to:from:subject:message-id:date:from:to :cc:subject:date:message-id:reply-to; bh=3Jqt4ewMVDi8gOFW0ABw74I037EyMqs9jvZIzEjRiHw=; b=cQSavsffP/wrAZIskezrNdNTQ5ROHUE3wHd5b9iwF9dREhzQMDzCt0ek65D62C4+gD ChbWCFOBYDVzp0bgerL4cwpAionSmckC7b3XXmEO6hOF/DT6phY5nuXqonYiJm+80bO8 mlZm5djoyE2UDqsRDsf1WYBw20SjM6y9odo0E= X-Google-DKIM-Signature: v=1; a=rsa-sha256; c=relaxed/relaxed; d=1e100.net; s=20230601; t=1760541710; x=1761146510; h=references:in-reply-to:cc:to:from:subject:message-id:date :x-gm-message-state:from:to:cc:subject:date:message-id:reply-to; bh=3Jqt4ewMVDi8gOFW0ABw74I037EyMqs9jvZIzEjRiHw=; b=bs888pY/Q7SpLNoKAGnUqbzW7fp8LFh1UigDCJusz60XuDJqRv8QcMasswcgamGTGi vxC9rnUG6IIJ0/Tp3Vakda3dJLnZBsIvDQu1Z4/oSrIRmBHvaQ4FfOY8Psv2nc6S24C/ VdvGdS2OmDppRYgUH/HvXI2HvOzHFt7PV9JVo8JXKc+lXZ9Cno/+wnNxuV/T/b/WVCES Kh0Kh9XT+9GuzziKmf2hczJTIF1kh7hyVZQbhvDBWw6cDMBW3KsWznBuvBeDnWsTy0jk yptcvjjM7kqqqTgo76CrnngVBqzUaTF3nyJwYgLIxVBxP5UvCZkwvcKSNC1VyArmivCg NcBw== X-Gm-Message-State: AOJu0Yx+5IL9y+NuVN4Vz4FUu72HKZrkQOHYavH8GYpuvvizPhrFG+A8 3696pYbu+Ojb83ghkmbXUEZzKZQ3G9vu1a7i6D1QMmo2F6pauojnfgfFJzynmBrZ/sMMnBTg5zl aKI0wEB0y73T4yCvy5JWaBJujULBg0X8Fgg67uy48C7Hh X-Gm-Gg: ASbGnctMkZcHXUtgFwwQ6zs4e3NXS3oadR7DJkpJq3OnZwkes5VMx1aEKRtgdk/wjxt 6kib17JZmJmhYiA677A42h+hPuuMtgwcom1eJTJGP/RILrWJ7ZinXW4venpe/N0FxP3rjlIUgfl e3qZnvA565VqH2SHWNwLIXpUePsuOKwsNnd4fZcSUVVlbbsPiDBnEuYDpytGRs0ok4qpCi/sa1S u1+1WwHuNOMaTUwnCTwZdmg6iDSqDjF8Xu9es1UR6RXQlKWQ93y2wVfSHA53cgyoSjqJBzkU9os sGw/ANcBVzy9njTSwvdmshi7C8AUr11K9JhiP1h75LI0zfy2LuMNoikyjdzrMAQ40HbSNzOn X-Google-Smtp-Source: AGHT+IGXPeMNwfahJOZfRMMnLIeeu+Fp2Ag1qgeGd1PANzKefyDgu3x5Nwy+DBl3KuMTTOgiSUsZyGYQ5n/I X-Received: by 2002:a05:6e02:380e:b0:430:aec5:9bec with SMTP id e9e14a558f8ab-430aec59e8amr25417845ab.6.1760541710522; Wed, 15 Oct 2025 08:21:50 -0700 (PDT) Received: from postal.iol.unh.edu (postal.iol.unh.edu. [132.177.123.84]) by smtp-relay.gmail.com with ESMTPS id e9e14a558f8ab-42f90274047sm13270275ab.16.2025.10.15.08.21.50 (version=TLS1_2 cipher=ECDHE-ECDSA-AES128-GCM-SHA256 bits=128/128); Wed, 15 Oct 2025 08:21:50 -0700 (PDT) X-Relaying-Domain: iol.unh.edu Date: Wed, 15 Oct 2025 08:21:50 -0700 (PDT) Message-ID: <68efbc0e.920a0220.1c524f.23c7SMTPIN_ADDED_MISSING@mx.google.com> Received: from [172.21.0.2] (unknown [172.18.0.240]) by postal.iol.unh.edu (Postfix) with ESMTP id 1814A604D420; Wed, 15 Oct 2025 11:21:50 -0400 (EDT) Subject: |SUCCESS| pw157681 [PATCH] net/mlx5: fix spurious CPU wakeups caused From: dpdklab@iol.unh.edu To: Test Report Cc: dpdk-test-reports@iol.unh.edu In-Reply-To: <20251015133957.4094235-1-sivaprasad.tummala@amd.com> References: <20251015133957.4094235-1-sivaprasad.tummala@amd.com> Content-Type: text/plain X-BeenThere: test-report@dpdk.org X-Mailman-Version: 2.1.29 Precedence: list List-Id: automatic DPDK test reports List-Unsubscribe: , List-Archive: List-Post: List-Help: List-Subscribe: , Errors-To: test-report-bounces@dpdk.org Test-Label: iol-unit-amd64-testing Test-Status: SUCCESS http://dpdk.org/patch/157681 _Testing PASS_ Submitter: Sivaprasad Tummala Date: Wednesday, October 15 2025 13:39:57 DPDK git baseline: Repo:dpdk-next-net-mlx Branch: master CommitID:2374f33e1d964e100895fd294966380c46f0886d 157681 --> testing pass Upstream job id: Generic-Unit-Test-DPDK#381745 Test environment and result as below: +-------------------------------+----------------+ | Environment | dpdk_unit_test | +===============================+================+ | CentOS Stream 10 | PASS | +-------------------------------+----------------+ | Debian GNU/Linux 12 | PASS | +-------------------------------+----------------+ | CentOS Stream 9 | PASS | +-------------------------------+----------------+ | Fedora Linux 40 | PASS | +-------------------------------+----------------+ | Red Hat Enterprise Linux 9.5 | PASS | +-------------------------------+----------------+ | Fedora Linux 41 | PASS | +-------------------------------+----------------+ | Red Hat Enterprise Linux 8.10 | PASS | +-------------------------------+----------------+ | Fedora Linux 42 | PASS | +-------------------------------+----------------+ | Ubuntu 22.04 | PASS | +-------------------------------+----------------+ | Ubuntu 20.04 | PASS | +-------------------------------+----------------+ | Ubuntu 24.04 | PASS | +-------------------------------+----------------+ | Windows Server 2022 | PASS | +-------------------------------+----------------+ CentOS Stream 10 Kernel: 5.15 Compiler: gcc gcc (GCC) 14.2.1 20250110 (Red Hat 14.2.1-8) Debian GNU/Linux 12 Kernel: 5.15 Compiler: gcc gcc (Debian 12.2.0-14+deb12u1) 12.2.0 CentOS Stream 9 Kernel: 5.15 Compiler: gcc gcc (GCC) 11.5.0 20240719 (Red Hat 11.5.0-11) Fedora Linux 40 Kernel: 5.15 Compiler: gcc gcc (GCC) 14.2.1 20240912 (Red Hat 14.2.1-3) Red Hat Enterprise Linux 9.5 Kernel: 5.15 Compiler: gcc gcc (GCC) 11.5.0 20240719 (Red Hat 11.5.0-2) Fedora Linux 41 Kernel: 5.15 Compiler: gcc gcc (GCC) 14.3.1 20250523 (Red Hat 14.3.1-1) Red Hat Enterprise Linux 8.10 Kernel: 5.15 Compiler: gcc gcc (GCC) 8.5.0 20210514 (Red Hat 8.5.0-22) Fedora Linux 42 Kernel: 5.15 Compiler: gcc gcc (GCC) 15.2.1 20250808 (Red Hat 15.2.1-1) Ubuntu 22.04 Kernel: 5.15 Compiler: gcc gcc (Ubuntu 11.4.0-1ubuntu1~22.04) 11.4.0 Ubuntu 20.04 Kernel: 5.15 Compiler: gcc gcc (Ubuntu 9.4.0-1ubuntu1~20.04.2) 9.4.0 Ubuntu 24.04 Kernel: 5.15 Compiler: gcc gcc (Ubuntu 13.3.0-6ubuntu2~24.04) 13.3.0 Windows Server 2022 Kernel: 10.0.20348.2031 Compiler: clang 15.0.7, gcc 14.1.0 (MinGW), and MSVC VS 19.39.33521 To view detailed results, visit: https://lab.dpdk.org/results/dashboard/patchsets/34286/ UNH-IOL DPDK Community Lab To manage your email subscriptions, visit: https://lab.dpdk.org/results/dashboard/preferences/subscriptions/