From mboxrd@z Thu Jan 1 00:00:00 1970 Return-Path: Received: from mails.dpdk.org (mails.dpdk.org [217.70.189.124]) by inbox.dpdk.org (Postfix) with ESMTP id 9A3EC48942 for ; Wed, 15 Oct 2025 17:29:56 +0200 (CEST) Received: from mails.dpdk.org (localhost [127.0.0.1]) by mails.dpdk.org (Postfix) with ESMTP id 8EFC440273; Wed, 15 Oct 2025 17:29:56 +0200 (CEST) Received: from mail-pj1-f98.google.com (mail-pj1-f98.google.com [209.85.216.98]) by mails.dpdk.org (Postfix) with ESMTP id A7E0D40273 for ; Wed, 15 Oct 2025 17:29:54 +0200 (CEST) Received: by mail-pj1-f98.google.com with SMTP id 98e67ed59e1d1-330b4739538so6344478a91.3 for ; Wed, 15 Oct 2025 08:29:54 -0700 (PDT) DKIM-Signature: v=1; a=rsa-sha256; c=relaxed/relaxed; d=iol.unh.edu; s=unh-iol; t=1760542194; x=1761146994; darn=dpdk.org; h=references:in-reply-to:cc:to:from:subject:message-id:date:from:to :cc:subject:date:message-id:reply-to; bh=Pu2TpVEwpRCrksfLMB0CGkfM+NYoubFj+4cuf/Rr4bA=; b=W3bbYuPuRYcgrMDgS9H1ekCYwkwQ8POoJH/kZBFtqBoUg8usNjse6f+orEefg7qdgI /9tG3jZDViPkkQRna5jWXJHAaGQ1eDio7W8mq2eM0Xkzf53BwWTUpC0Wez/rC8vLatfA /z30a6FmyjGfSXfVC73qAkzJUpiZL+0tDZP70= X-Google-DKIM-Signature: v=1; a=rsa-sha256; c=relaxed/relaxed; d=1e100.net; s=20230601; t=1760542194; x=1761146994; h=references:in-reply-to:cc:to:from:subject:message-id:date :x-gm-message-state:from:to:cc:subject:date:message-id:reply-to; bh=Pu2TpVEwpRCrksfLMB0CGkfM+NYoubFj+4cuf/Rr4bA=; b=EP1E1z+lK/frB1NUJxn5JBUDCuh3ZfWcuyxWAv28hVzc9f0KH4mnXvUQek/PMp90AB 1kUi119D227B/OK26UNGLa0J02//1sOC5vEyg7C/9cSXUGv/2WI6pcok9mnWF3UV+r1c XVYxFuF+yNB4eNjmo8LfVBaGGh8V/rQZBe4KeUeFHJSur1RypV8i2pfNxm2eQ2ywqQlg uA6Aedz+wiEMCc8ToVETWnxv9sOkAGx7a0yYf0wVS2Rla5CMKil8HwOcRVfhWG2hfHcP +UwEBd5kbu41+S+wxEVcsmlKMJF40aqdxGDErdL913+ebFXT8atfL3n9Cx5Bntl7jtHO WbpQ== X-Gm-Message-State: AOJu0YzsPZYvi9QkKlOYYXam+wi+51ZECTS6hOxO89ZGqMM+SzXGHptk XO1mkPxKmHVZExwjyhS4aE1LWqoht5QimAipl/7nHeKLYdWfRdocndE3191/BBy5ea8VZpaB0x2 dB+vbxTOR2/5hSqHCPxfxqKiKj1LwJV2E34FxZGqPSMvc X-Gm-Gg: ASbGnctwlfavPFP4HwUuPKYI3ja0SNI15BKjCbjeTQUZK8rrr0WeIifzfUHihQve+mS yl0Sks/mFYZ+/Z27mjH3Z0YiCUz1VZt9c6/qyFlNvAalgyknkIk8CZkN5eeCJ5jvmG8WWe2GtP/ +u6B1hl/c3N0URGygOpdt0FLEK2Stn8laQGracMEosIGyV4o0PkoTw3xLYLBrEt8DySEGZ8YIWE yDCsCOWSTTJlpExM++/8lTrZTlE6NSZ5EyS8UkxwtFh60V25GHQZ6HRlvH3qE6HUUuVzulyDbs0 6rkNr01RiQIhCdFbNAiEOiW12JTalDWP1yX6Vgjq1f3tlGks9b8v77Q2pr/+h1QlJ4LIATuc X-Google-Smtp-Source: AGHT+IEzEnyH8uSYhUzwOP6hmhWM8bkLzQKiA9KgCPju0hcZMudJXqBoUg/3ZtLvWbVTHafesDT8P40Yqpbe X-Received: by 2002:a17:90b:1651:b0:339:dcc3:82ca with SMTP id 98e67ed59e1d1-33b51148aabmr42904745a91.6.1760542193656; Wed, 15 Oct 2025 08:29:53 -0700 (PDT) Received: from postal.iol.unh.edu (postal.iol.unh.edu. [132.177.123.84]) by smtp-relay.gmail.com with ESMTPS id 98e67ed59e1d1-33b626ea0b6sm1637759a91.7.2025.10.15.08.29.53 (version=TLS1_2 cipher=ECDHE-ECDSA-AES128-GCM-SHA256 bits=128/128); Wed, 15 Oct 2025 08:29:53 -0700 (PDT) X-Relaying-Domain: iol.unh.edu Date: Wed, 15 Oct 2025 08:29:53 -0700 (PDT) Message-ID: <68efbdf1.170a0220.1c8e4b.0a91SMTPIN_ADDED_MISSING@mx.google.com> Received: from [172.21.0.2] (unknown [172.18.0.240]) by postal.iol.unh.edu (Postfix) with ESMTP id E98A66051830; Wed, 15 Oct 2025 11:29:52 -0400 (EDT) Subject: |SUCCESS| pw157681 [PATCH] net/mlx5: fix spurious CPU wakeups caused From: dpdklab@iol.unh.edu To: Test Report Cc: dpdk-test-reports@iol.unh.edu In-Reply-To: <20251015133957.4094235-1-sivaprasad.tummala@amd.com> References: <20251015133957.4094235-1-sivaprasad.tummala@amd.com> Content-Type: text/plain X-BeenThere: test-report@dpdk.org X-Mailman-Version: 2.1.29 Precedence: list List-Id: automatic DPDK test reports List-Unsubscribe: , List-Archive: List-Post: List-Help: List-Subscribe: , Errors-To: test-report-bounces@dpdk.org Test-Label: iol-compile-amd64-testing Test-Status: SUCCESS http://dpdk.org/patch/157681 _Testing PASS_ Submitter: Sivaprasad Tummala Date: Wednesday, October 15 2025 13:39:57 DPDK git baseline: Repo:dpdk-next-net-mlx Branch: master CommitID:2374f33e1d964e100895fd294966380c46f0886d 157681 --> testing pass Upstream job id: Generic-DPDK-Compile-Meson#434552 Test environment and result as below: +-------------------------------+--------------------+------------------+-------------------+-------------------------+-------------------+----------------------+ | Environment | dpdk_meson_compile | dpdk_compile_ovs | dpdk_compile_spdk | dpdk_llvm_clang_compile | dpdk_msvc_compile | dpdk_mingw64_compile | +===============================+====================+==================+===================+=========================+===================+======================+ | Fedora Linux 42 | PASS | PASS | PASS | SKIPPED | SKIPPED | SKIPPED | +-------------------------------+--------------------+------------------+-------------------+-------------------------+-------------------+----------------------+ | CentOS Stream 9 | PASS | SKIPPED | PASS | SKIPPED | SKIPPED | SKIPPED | +-------------------------------+--------------------+------------------+-------------------+-------------------------+-------------------+----------------------+ | CentOS Stream 10 | PASS | SKIPPED | SKIPPED | SKIPPED | SKIPPED | SKIPPED | +-------------------------------+--------------------+------------------+-------------------+-------------------------+-------------------+----------------------+ | Debian GNU/Linux 12 | PASS | SKIPPED | PASS | SKIPPED | SKIPPED | SKIPPED | +-------------------------------+--------------------+------------------+-------------------+-------------------------+-------------------+----------------------+ | Ubuntu 20.04 | PASS | SKIPPED | SKIPPED | SKIPPED | SKIPPED | SKIPPED | +-------------------------------+--------------------+------------------+-------------------+-------------------------+-------------------+----------------------+ | openSUSE Leap 15.6 | PASS | SKIPPED | SKIPPED | SKIPPED | SKIPPED | SKIPPED | +-------------------------------+--------------------+------------------+-------------------+-------------------------+-------------------+----------------------+ | Red Hat Enterprise Linux 8.10 | PASS | SKIPPED | SKIPPED | SKIPPED | SKIPPED | SKIPPED | +-------------------------------+--------------------+------------------+-------------------+-------------------------+-------------------+----------------------+ | Red Hat Enterprise Linux 9.5 | PASS | SKIPPED | SKIPPED | SKIPPED | SKIPPED | SKIPPED | +-------------------------------+--------------------+------------------+-------------------+-------------------------+-------------------+----------------------+ | FreeBSD 14.2 | PASS | SKIPPED | SKIPPED | SKIPPED | SKIPPED | SKIPPED | +-------------------------------+--------------------+------------------+-------------------+-------------------------+-------------------+----------------------+ | Ubuntu 24.04 | PASS | PASS | PASS | SKIPPED | SKIPPED | SKIPPED | +-------------------------------+--------------------+------------------+-------------------+-------------------------+-------------------+----------------------+ | Ubuntu 22.04 | PASS | SKIPPED | PASS | SKIPPED | SKIPPED | SKIPPED | +-------------------------------+--------------------+------------------+-------------------+-------------------------+-------------------+----------------------+ | Alpine Linux 3.22.0 | PASS | SKIPPED | SKIPPED | SKIPPED | SKIPPED | SKIPPED | +-------------------------------+--------------------+------------------+-------------------+-------------------------+-------------------+----------------------+ | Windows Server 2022 | SKIPPED | SKIPPED | SKIPPED | PASS | PASS | PASS | +-------------------------------+--------------------+------------------+-------------------+-------------------------+-------------------+----------------------+ Fedora Linux 42 Kernel: 5.15 Compiler: clang gcc (GCC) 15.2.1 20250808 (Red Hat 15.2.1-1) CentOS Stream 9 Kernel: 5.15 Compiler: gcc gcc (GCC) 11.5.0 20240719 (Red Hat 11.5.0-11) CentOS Stream 10 Kernel: 5.15 Compiler: gcc gcc (GCC) 14.2.1 20250110 (Red Hat 14.2.1-8) Debian GNU/Linux 12 Kernel: 5.15 Compiler: gcc gcc (Debian 12.2.0-14+deb12u1) 12.2.0 Ubuntu 20.04 Kernel: 4.19 Compiler: gcc gcc (Ubuntu 9.4.0-1ubuntu1~20.04.2) 9.4.0 openSUSE Leap 15.6 Kernel: 5.15 Compiler: gcc gcc (SUSE Linux) 7.5.0 Red Hat Enterprise Linux 8.10 Kernel: 5.15 Compiler: gcc gcc (GCC) 8.5.0 20210514 (Red Hat 8.5.0-22) Red Hat Enterprise Linux 9.5 Kernel: 5.15 Compiler: gcc gcc (GCC) 11.5.0 20240719 (Red Hat 11.5.0-2) FreeBSD 14.2 Kernel: 14.2-RELEASE Compiler: clang 18.1.6 Ubuntu 24.04 Kernel: 5.15 Compiler: gcc gcc (Ubuntu 13.3.0-6ubuntu2~24.04) 13.3.0 Ubuntu 22.04 Kernel: 5.15 Compiler: gcc gcc (Ubuntu 11.4.0-1ubuntu1~22.04) 11.4.0 Alpine Linux 3.22.0 Kernel: 5.15 Compiler: gcc gcc (Alpine 14.2.0) 14.2.0 Windows Server 2022 Kernel: 10.0.20348.2031 Compiler: clang 15.0.7, gcc 14.1.0 (MinGW), and MSVC VS 19.39.33521 To view detailed results, visit: https://lab.dpdk.org/results/dashboard/patchsets/34286/ UNH-IOL DPDK Community Lab To manage your email subscriptions, visit: https://lab.dpdk.org/results/dashboard/preferences/subscriptions/