From mboxrd@z Thu Jan 1 00:00:00 1970 Return-Path: Received: from mails.dpdk.org (mails.dpdk.org [217.70.189.124]) by inbox.dpdk.org (Postfix) with ESMTP id 2407648942 for ; Wed, 15 Oct 2025 17:38:53 +0200 (CEST) Received: from mails.dpdk.org (localhost [127.0.0.1]) by mails.dpdk.org (Postfix) with ESMTP id 1F6AB40E34; Wed, 15 Oct 2025 17:38:53 +0200 (CEST) Received: from mail-oa1-f97.google.com (mail-oa1-f97.google.com [209.85.160.97]) by mails.dpdk.org (Postfix) with ESMTP id A3F3240E68 for ; Wed, 15 Oct 2025 17:38:51 +0200 (CEST) Received: by mail-oa1-f97.google.com with SMTP id 586e51a60fabf-30cce892b7dso3083592fac.1 for ; Wed, 15 Oct 2025 08:38:51 -0700 (PDT) DKIM-Signature: v=1; a=rsa-sha256; c=relaxed/relaxed; d=iol.unh.edu; s=unh-iol; t=1760542731; x=1761147531; darn=dpdk.org; h=references:in-reply-to:cc:to:from:subject:message-id:date:from:to :cc:subject:date:message-id:reply-to; bh=dueuMSo3XAIoEB7o3hpp1V+QrliLA2hjsJHUGGZbrrM=; b=Ou3CGSoUBG//t0dp1wA4PzG6ZBE1lTGoVhIn69YY75bqwTboXIn1xwnoh9FWzb4k1W b03jFUUc0LBFHs3Fwm1bDs1Q+fIoNPdBu6vsjRfdCjy0WIxii6v5toasOyAw0WpyjeVA mJQ+G/zwrlzKUUvwx457IBi+LWinv7d7HUt5g= X-Google-DKIM-Signature: v=1; a=rsa-sha256; c=relaxed/relaxed; d=1e100.net; s=20230601; t=1760542731; x=1761147531; h=references:in-reply-to:cc:to:from:subject:message-id:date :x-gm-message-state:from:to:cc:subject:date:message-id:reply-to; bh=dueuMSo3XAIoEB7o3hpp1V+QrliLA2hjsJHUGGZbrrM=; b=PFk1/vcYCdsxmOER+tYKYjqes3GJCfqcEPr+T9soE30yHEsQI+/rDpy5nk5exkbEed LGV+EZRbsZo2NpSYzkeIFK/cND96Sprk0G+bFV4+JmxBDu7vEIeYlfYh7IEhk81QdKfX CGDRM+ozXGIJK/GZfGueB01smpiM9JdTXsPlUoxprBisG2VXTh3Ra/b2Cp15vpQOQETK Aq7Fjw/xZKBR+7ARbpsSQ+tEyPJMessi8/SdGJENMDk+/zom/H75HMbdZtnIFD0CNM+p yhFSu+oqkV4lpTC0Ol6gvNfYauTAohpvCKcGFikI1b9h20EoOE1mnm+5o6WDi3RJHtgA jdnQ== X-Gm-Message-State: AOJu0YzTc1nLy4hVrs20yqm6UPQF7kbPXIFdcmKwQO/lATazQf81I+nV VR13fTFTv5j5bElCxlI1aZCmjm67XlTAY4Nn5L85n9IvwBHFWaD08j6b+jHKx6R/3e+dOaAH2zz 6KbgHbK5wV6PIMIGawyVlZoJIkrxDV7bEQaB121npgjh0B/PF1KB8e8QKusVK X-Gm-Gg: ASbGncsqNlgRrbEZQPKjs8fBNHdZQk498Zdjc1VK45aHzflB9AkucCPBnKiAUxObI/c qPc8kfED14mdnoCdxqJfsRq1l7wtridjGCLIWxzsSUtCQSxItanYzojHECnmi5jSyPj81NjPssk N/E1EaqDOgokaBBkm0Aet3Oa1qIL7WiMwMgMHrSP43Tt/fi/fs+BQ/jwh9DSdCK6HvMA5sL3y0L filg+kOqfy4SyB7f6sFXqHFJ5C89WCa+oV8EHJXDgzy9idFt8bkZoo1qub6os7jq8yDrQ/FtUdy cMEC6vwIjfi3nVUgMxzvg4to+5a8ZsrkJdTa/PT8RTUoMxdmcg== X-Google-Smtp-Source: AGHT+IFSKY9034OfJwEHXLkp9jgSesaqVAF7xAP3/8R8kBg147bD6osVvdPKQw/v3KYBv9gPg5jzTFguWd3T X-Received: by 2002:a05:6870:e241:b0:37a:4e25:be38 with SMTP id 586e51a60fabf-3c0f89d0925mr12912569fac.24.1760542730777; Wed, 15 Oct 2025 08:38:50 -0700 (PDT) Received: from postal.iol.unh.edu (postal.iol.unh.edu. [2606:4100:3880:1234::84]) by smtp-relay.gmail.com with ESMTPS id 586e51a60fabf-3c8e72bcdccsm1155082fac.15.2025.10.15.08.38.50 (version=TLS1_2 cipher=ECDHE-ECDSA-AES128-GCM-SHA256 bits=128/128); Wed, 15 Oct 2025 08:38:50 -0700 (PDT) X-Relaying-Domain: iol.unh.edu Date: Wed, 15 Oct 2025 08:38:50 -0700 (PDT) Message-ID: <68efc00a.050a0220.3865f8.776aSMTPIN_ADDED_MISSING@mx.google.com> Received: from [172.21.0.3] (unknown [172.18.0.240]) by postal.iol.unh.edu (Postfix) with ESMTP id 492BB6051830; Wed, 15 Oct 2025 11:38:50 -0400 (EDT) Subject: |SUCCESS| pw157654-157660 [PATCH] [v2,7/7] net/ice: reformat the Rx From: dpdklab@iol.unh.edu To: Test Report Cc: dpdk-test-reports@iol.unh.edu, Bruce Richardson In-Reply-To: <20251015100723.1603296-8-ciara.loftus@intel.com> References: <20251015100723.1603296-8-ciara.loftus@intel.com> Content-Type: text/plain X-BeenThere: test-report@dpdk.org X-Mailman-Version: 2.1.29 Precedence: list List-Id: automatic DPDK test reports List-Unsubscribe: , List-Archive: List-Post: List-Help: List-Subscribe: , Errors-To: test-report-bounces@dpdk.org Test-Label: iol-compile-arm64-testing Test-Status: SUCCESS http://dpdk.org/patch/157660 _Testing PASS_ Submitter: Ciara Loftus Date: Wednesday, October 15 2025 10:07:23 DPDK git baseline: Repo:dpdk-next-net-intel Branch: master CommitID:d2d0163cb4200ff7e450fd66eb6a92a931f06de7 157654-157660 --> testing pass Upstream job id: Generic-DPDK-Compile-Meson#434475 Test environment and result as below: +------------------------------+--------------------+ | Environment | dpdk_meson_compile | +==============================+====================+ | Red Hat Enterprise Linux 9.5 | PASS | +------------------------------+--------------------+ | Ubuntu 20.04 | PASS | +------------------------------+--------------------+ | Debian GNU/Linux 12 | PASS | +------------------------------+--------------------+ | Fedora Linux 42 | PASS | +------------------------------+--------------------+ | Ubuntu 22.04 | PASS | +------------------------------+--------------------+ | Ubuntu 24.04 | PASS | +------------------------------+--------------------+ | CentOS Stream 9 | PASS | +------------------------------+--------------------+ | CentOS Stream 10 | PASS | +------------------------------+--------------------+ Red Hat Enterprise Linux 9.5 Kernel: 5.4 Compiler: gcc gcc (GCC) 11.5.0 20240719 (Red Hat 11.5.0-2) Ubuntu 20.04 Kernel: 5.15 Compiler: aarch64-linux-gnu-gcc gcc (Ubuntu 9.4.0-1ubuntu1~20.04.2) 9.4.0 Debian GNU/Linux 12 Kernel: 5.4 Compiler: gcc gcc (Debian 12.2.0-14+deb12u1) 12.2.0 Fedora Linux 42 Kernel: 5.4 Compiler: gcc gcc (GCC) 15.2.1 20250808 (Red Hat 15.2.1-1) Ubuntu 22.04 Kernel: 5.4 Compiler: gcc gcc (Ubuntu 11.4.0-1ubuntu1~22.04) 11.4.0 Ubuntu 24.04 Kernel: 5.4 Compiler: gcc gcc (Ubuntu 13.3.0-6ubuntu2~24.04) 13.3.0 CentOS Stream 9 Kernel: 5.4 Compiler: gcc gcc (GCC) 11.5.0 20240719 (Red Hat 11.5.0-11) CentOS Stream 10 Kernel: 5.4 Compiler: gcc gcc (GCC) 14.2.1 20250110 (Red Hat 14.2.1-8) To view detailed results, visit: https://lab.dpdk.org/results/dashboard/patchsets/34284/ UNH-IOL DPDK Community Lab To manage your email subscriptions, visit: https://lab.dpdk.org/results/dashboard/preferences/subscriptions/