From mboxrd@z Thu Jan 1 00:00:00 1970 Return-Path: Received: from mails.dpdk.org (mails.dpdk.org [217.70.189.124]) by inbox.dpdk.org (Postfix) with ESMTP id 30FFD48942 for ; Wed, 15 Oct 2025 17:39:06 +0200 (CEST) Received: from mails.dpdk.org (localhost [127.0.0.1]) by mails.dpdk.org (Postfix) with ESMTP id 2C70B406FF; Wed, 15 Oct 2025 17:39:06 +0200 (CEST) Received: from mail-il1-f226.google.com (mail-il1-f226.google.com [209.85.166.226]) by mails.dpdk.org (Postfix) with ESMTP id 82640406FF for ; Wed, 15 Oct 2025 17:39:05 +0200 (CEST) Received: by mail-il1-f226.google.com with SMTP id e9e14a558f8ab-430ae09ea23so3162165ab.0 for ; Wed, 15 Oct 2025 08:39:05 -0700 (PDT) DKIM-Signature: v=1; a=rsa-sha256; c=relaxed/relaxed; d=iol.unh.edu; s=unh-iol; t=1760542745; x=1761147545; darn=dpdk.org; h=cc:to:from:subject:message-id:date:from:to:cc:subject:date :message-id:reply-to; bh=RursFMJSzWovdMrpuycOabmzA+tKQJa5p5YwvBwrRCo=; b=A8Vx4tXr5CC0vcsRcWfaj0JzXoW6x1sMuQEnPtaDnQEaXB1Pc+jqZhRoPv82/Zts7a +GJIQGCJ1FH7RqGszOg+fGm6c0Y0+Vxg/4npxWmRNhvaf9jT+KiI3IzLkPEfX70dkyPh 5FDlDo3N9QqhAITbn7Qa+4vFZwveZx5st0agM= X-Google-DKIM-Signature: v=1; a=rsa-sha256; c=relaxed/relaxed; d=1e100.net; s=20230601; t=1760542745; x=1761147545; h=cc:to:from:subject:message-id:date:x-gm-message-state:from:to:cc :subject:date:message-id:reply-to; bh=RursFMJSzWovdMrpuycOabmzA+tKQJa5p5YwvBwrRCo=; b=c7WTgNpLNiZwmlD4cnUTrOvufDnaAM06wKdVxEsos6kyPyN6HYP7EXurH/7FlwcdWJ dYVyQbinnOezQuJLiaV2ioSSJUfjCUYWECmtNEd6kIDx0JQMRCvElCK/B9AvV6JS2jrC Q+geN2SBzbmr2Sbc48f/Xeg9k1FEiuKvK3x/JMIe31xPxo0kc0i0Nmp+qf3N35SpHX2M 9+ps11gQz8MiL9JzqIguaoIFMFgVKXhOnXO47msyv5ZY7Qe86Ps/bWHQtfRfISBaG/YC 4dLlCMWFqAMkqyFRHaclDtAHTE0Ahal8C+1SUZ7oTjc3OkRw0vgBTjhiZatQToiWBwYO yIhQ== X-Gm-Message-State: AOJu0YzmLezkWliN3jNDsvyCU+h6+BcHdILswlbyImTO5pD+eFQRxvVZ ER2C9/Jn1Y7w1GZMSVlYp0HuRScEf/VuDx5B2e8Z8zxyDgnjPOAbatTwniLaUFh7+p9ve98Ugkw 0tjTU7CFJ3yRJkwLnEMFveQk/+ORcY6b5ZQxgwKyQWudb X-Gm-Gg: ASbGncsvQP99eIw5NFQ1bykrwgoBcJ2QQyK3Be6cWNwuH8b+e3//yNXVx90I2S0yUR+ jh4thwuzFRW+4/ULl06PKERLr4tn4AONdqe2qrX+xT23y9L6kFSi0KRArdvCSGFDbsXe9fy0nm3 UtkQh1FPidEdsAIYq6hF/lPUUXlK4kHKQiJs7KUiPY1kir641j6DrGkBr/RM3ojlpFz4f5zD09/ +Ewe/d1mF32zoSPmedrYRF1E3kIiJau0vzeMu+FYlEoMtItLi4eFVp1QZuPTpI6FIHvMlWGZxyi CYzb+Nsi2SUcVJfy4XyTVDbo3NcQsD169rt/zt1LT6tIdoO/9plgMzrnzQ53UV56jU10BZ5z X-Google-Smtp-Source: AGHT+IFNoEOd+ok4Q/PKKig8bjbY9UoYCKF+8aUvawJQBDvQvuvpo3Bhi4+cCJbDg3Pk5OxDZMm99ejnb3vv X-Received: by 2002:a05:6e02:214e:b0:430:adcb:b38d with SMTP id e9e14a558f8ab-430adcbb787mr28147435ab.24.1760542744530; Wed, 15 Oct 2025 08:39:04 -0700 (PDT) Received: from postal.iol.unh.edu (postal.iol.unh.edu. [132.177.123.84]) by smtp-relay.gmail.com with ESMTPS id 8926c6da1cb9f-58f6daf4ce5sm1227617173.20.2025.10.15.08.39.04 (version=TLS1_2 cipher=ECDHE-ECDSA-AES128-GCM-SHA256 bits=128/128); Wed, 15 Oct 2025 08:39:04 -0700 (PDT) X-Relaying-Domain: iol.unh.edu Date: Wed, 15 Oct 2025 08:39:04 -0700 (PDT) Message-ID: <68efc018.050a0220.170f1c.b59cSMTPIN_ADDED_MISSING@mx.google.com> Received: from [172.21.0.3] (unknown [172.18.0.240]) by postal.iol.unh.edu (Postfix) with ESMTP id 18C986051830; Wed, 15 Oct 2025 11:39:04 -0400 (EDT) Subject: |SUCCESS| [GIT MASTER] d2d0163cb4200ff7e450fd66eb6a92a931f06de7 From: dpdklab@iol.unh.edu To: Test Report Cc: dpdk-test-reports@iol.unh.edu, Bruce Richardson Content-Type: text/plain X-BeenThere: test-report@dpdk.org X-Mailman-Version: 2.1.29 Precedence: list List-Id: automatic DPDK test reports List-Unsubscribe: , List-Archive: List-Post: List-Help: List-Subscribe: , Errors-To: test-report-bounces@dpdk.org _Testing PASS_ Branch: dpdk-next-net-intel d2d0163cb4200ff7e450fd66eb6a92a931f06de7 --> testing pass Upstream job id: Generic-DPDK-Compile-Meson#434499 Test environment and result as below: +------------------------------+--------------------+ | Environment | dpdk_meson_compile | +==============================+====================+ | Red Hat Enterprise Linux 9.5 | PASS | +------------------------------+--------------------+ | Ubuntu 20.04 | PASS | +------------------------------+--------------------+ | Debian GNU/Linux 12 | PASS | +------------------------------+--------------------+ | Fedora Linux 42 | PASS | +------------------------------+--------------------+ | Ubuntu 22.04 | PASS | +------------------------------+--------------------+ | Ubuntu 24.04 | PASS | +------------------------------+--------------------+ | CentOS Stream 9 | PASS | +------------------------------+--------------------+ | CentOS Stream 10 | PASS | +------------------------------+--------------------+ Red Hat Enterprise Linux 9.5 Kernel: 5.4 Compiler: gcc gcc (GCC) 11.5.0 20240719 (Red Hat 11.5.0-2) Ubuntu 20.04 Kernel: 5.15 Compiler: aarch64-linux-gnu-gcc gcc (Ubuntu 9.4.0-1ubuntu1~20.04.2) 9.4.0 Debian GNU/Linux 12 Kernel: 5.4 Compiler: gcc gcc (Debian 12.2.0-14+deb12u1) 12.2.0 Fedora Linux 42 Kernel: 5.4 Compiler: gcc gcc (GCC) 15.2.1 20250808 (Red Hat 15.2.1-1) Ubuntu 22.04 Kernel: 5.4 Compiler: gcc gcc (Ubuntu 11.4.0-1ubuntu1~22.04) 11.4.0 Ubuntu 24.04 Kernel: 5.4 Compiler: gcc gcc (Ubuntu 13.3.0-6ubuntu2~24.04) 13.3.0 CentOS Stream 9 Kernel: 5.4 Compiler: gcc gcc (GCC) 11.5.0 20240719 (Red Hat 11.5.0-11) CentOS Stream 10 Kernel: 5.4 Compiler: gcc gcc (GCC) 14.2.1 20250110 (Red Hat 14.2.1-8) To view detailed results, visit: https://lab.dpdk.org/results/dashboard/tarballs/35217/ UNH-IOL DPDK Community Lab To manage your email subscriptions, visit: https://lab.dpdk.org/results/dashboard/preferences/subscriptions/