From mboxrd@z Thu Jan 1 00:00:00 1970 Return-Path: Received: from mails.dpdk.org (mails.dpdk.org [217.70.189.124]) by inbox.dpdk.org (Postfix) with ESMTP id D906648945 for ; Wed, 15 Oct 2025 18:09:30 +0200 (CEST) Received: from mails.dpdk.org (localhost [127.0.0.1]) by mails.dpdk.org (Postfix) with ESMTP id 9097A40273; Wed, 15 Oct 2025 18:09:30 +0200 (CEST) Received: from mail-yx1-f97.google.com (mail-yx1-f97.google.com [74.125.224.97]) by mails.dpdk.org (Postfix) with ESMTP id F2ED540273 for ; Wed, 15 Oct 2025 18:09:28 +0200 (CEST) Received: by mail-yx1-f97.google.com with SMTP id 956f58d0204a3-635fde9cd06so6902288d50.0 for ; Wed, 15 Oct 2025 09:09:28 -0700 (PDT) DKIM-Signature: v=1; a=rsa-sha256; c=relaxed/relaxed; d=iol.unh.edu; s=unh-iol; t=1760544568; x=1761149368; darn=dpdk.org; h=references:in-reply-to:cc:to:from:subject:message-id:date:from:to :cc:subject:date:message-id:reply-to; bh=118wI1nIbMjDKqxZH/NW/i+8tPCj50JffKjzljSeLjo=; b=Tv4kHkYVygvGALCg404WEIYeAsGP3CXwCTWuoYOfrZfKrklQDpUx9nTet69gQs0kXj DnBs4cq6srermQLJBVMx/a0yOQvQ+fAiatZUlG4WaWicwiikPP85HejCH7ujl1dREZ3w LbAEpRMAPWafSj9UbgmFOXdkx1rn0jJS+DteA= X-Google-DKIM-Signature: v=1; a=rsa-sha256; c=relaxed/relaxed; d=1e100.net; s=20230601; t=1760544568; x=1761149368; h=references:in-reply-to:cc:to:from:subject:message-id:date :x-gm-message-state:from:to:cc:subject:date:message-id:reply-to; bh=118wI1nIbMjDKqxZH/NW/i+8tPCj50JffKjzljSeLjo=; b=gx0/U12rSebwnK7M35xV5wquzwPYI7h2MGRNfKXYvn7lFwbLJJYikL5XIfAKgCULNY eVvccpyTVBVzVCBb6pVJ4OLPZXU8parVZLh+lKklp5WTFG8b1Gcjl31GEDh4VLssFbjA bWaCOqa6O/ATEKyC0DPyYce/rzH2PN03kbwpmATt/Xvrv45FZhtrJ8RgzAZ8ikB+LQBW yzY/uqanlXDRJmDurfDaSqqNck/lRmJ5DqF4rHRS85GOmwBpLyUQbBhMb/djFY1vKxez S6okDhgktjmxmZOffFMQrc0MfH+B4HYCb841+Sv1ujOzt93eETL9b4jKW+imTZK0029H ueRQ== X-Gm-Message-State: AOJu0YwEjGUh1cr/LVERs4ap/pPM6vnPb+G4BaLBpOCbH5bjOK14Zq89 LE31dCa09lHFv0xmIorMNewimQ7brxUgx9nZwwskTPdyCR1zIKch+RF1knlELR1HEWFO1pqGXI4 JrFhWhGkXXo/df95X8VtO85v1/BzOZorqmem0q1pW8IKNjj/qGdR+nQ5/JuZX X-Gm-Gg: ASbGncsQkmNmc8SVIStVfeDNQi71dNXKB3QNYJpOciQoUbAQVa9njJkKINwUp48+7Jx 9pkXgMk5ncAUf7zk0u/MOwQlOZSvfxX4wHoox+chBXBdX0upg+jSPhgXw1/7qDxqNkTkcty3Ea3 qZnkNvxSAagg2RlpwYJzITaqw7ujS+UsVRcHllygO9WatGBPK0tJ1WZ6HGmE9t1CT2qUWI8gj9e F0V8aUwq4KgEil6nGOKMQRXDpgwxH+tsTyjmqkw7igqrisPRdzj0aEXTpiNxUZ6zuO244HHudfI znl8fHC7zWHB8obkKdguitifWvt217IgTdPHYuiE6yZCbYSJSw== X-Google-Smtp-Source: AGHT+IFaDQmYcu1zWE6bNKTblyys2/V80547odDP5TwDokuhApmG0INs6tsJGYQFnO985M+7+XHh9ydbmT5G X-Received: by 2002:a53:acc4:0:10b0:63c:f5a7:3cf with SMTP id 956f58d0204a3-63cf5a70ademr12173018d50.59.1760544568013; Wed, 15 Oct 2025 09:09:28 -0700 (PDT) Received: from postal.iol.unh.edu (postal.iol.unh.edu. [2606:4100:3880:1234::84]) by smtp-relay.gmail.com with ESMTPS id 956f58d0204a3-63cd95154bcsm1061463d50.3.2025.10.15.09.09.27 (version=TLS1_2 cipher=ECDHE-ECDSA-AES128-GCM-SHA256 bits=128/128); Wed, 15 Oct 2025 09:09:28 -0700 (PDT) X-Relaying-Domain: iol.unh.edu Date: Wed, 15 Oct 2025 09:09:28 -0700 (PDT) Message-ID: <68efc738.530a0220.1598ab.4b36SMTPIN_ADDED_MISSING@mx.google.com> Received: from [172.21.0.3] (unknown [172.18.0.240]) by postal.iol.unh.edu (Postfix) with ESMTP id 988956051830; Wed, 15 Oct 2025 12:09:27 -0400 (EDT) Subject: |SUCCESS| pw157661-157680 [PATCH] [v2,20/20] net/ena: upgrade driver From: dpdklab@iol.unh.edu To: Test Report Cc: dpdk-test-reports@iol.unh.edu In-Reply-To: <20251015121436.3219-1-shaibran@amazon.com> References: <20251015121436.3219-1-shaibran@amazon.com> Content-Type: text/plain X-BeenThere: test-report@dpdk.org X-Mailman-Version: 2.1.29 Precedence: list List-Id: automatic DPDK test reports List-Unsubscribe: , List-Archive: List-Post: List-Help: List-Subscribe: , Errors-To: test-report-bounces@dpdk.org Test-Label: iol-compile-arm64-testing Test-Status: SUCCESS http://dpdk.org/patch/157680 _Testing PASS_ Submitter: Shai Brandes Date: Wednesday, October 15 2025 12:14:36 DPDK git baseline: Repo:dpdk Branch: master CommitID:c4b0762fce81ba6edfec0d935cf23342f78018e3 157661-157680 --> testing pass Upstream job id: Generic-DPDK-Compile-Meson#434516 Test environment and result as below: +------------------------------+--------------------+ | Environment | dpdk_meson_compile | +==============================+====================+ | Debian GNU/Linux 12 | PASS | +------------------------------+--------------------+ | Ubuntu 20.04 | PASS | +------------------------------+--------------------+ | Red Hat Enterprise Linux 9.5 | PASS | +------------------------------+--------------------+ | Fedora Linux 42 | PASS | +------------------------------+--------------------+ | Ubuntu 22.04 | PASS | +------------------------------+--------------------+ | CentOS Stream 9 | PASS | +------------------------------+--------------------+ | CentOS Stream 10 | PASS | +------------------------------+--------------------+ | Ubuntu 24.04 | PASS | +------------------------------+--------------------+ Debian GNU/Linux 12 Kernel: 5.4 Compiler: gcc gcc (Debian 12.2.0-14+deb12u1) 12.2.0 Ubuntu 20.04 Kernel: 5.15 Compiler: gcc gcc (Ubuntu 9.4.0-1ubuntu1~20.04.2) 9.4.0 Red Hat Enterprise Linux 9.5 Kernel: 5.4 Compiler: gcc gcc (GCC) 11.5.0 20240719 (Red Hat 11.5.0-2) Fedora Linux 42 Kernel: 5.4 Compiler: gcc gcc (GCC) 15.2.1 20250808 (Red Hat 15.2.1-1) Ubuntu 22.04 Kernel: 5.4 Compiler: gcc gcc (Ubuntu 11.4.0-1ubuntu1~22.04) 11.4.0 CentOS Stream 9 Kernel: 5.4 Compiler: gcc gcc (GCC) 11.5.0 20240719 (Red Hat 11.5.0-11) CentOS Stream 10 Kernel: 5.4 Compiler: gcc gcc (GCC) 14.2.1 20250110 (Red Hat 14.2.1-8) Ubuntu 24.04 Kernel: 5.4 Compiler: gcc gcc (Ubuntu 13.3.0-6ubuntu2~24.04) 13.3.0 To view detailed results, visit: https://lab.dpdk.org/results/dashboard/patchsets/34285/ UNH-IOL DPDK Community Lab To manage your email subscriptions, visit: https://lab.dpdk.org/results/dashboard/preferences/subscriptions/