From mboxrd@z Thu Jan 1 00:00:00 1970 Return-Path: Received: from mails.dpdk.org (mails.dpdk.org [217.70.189.124]) by inbox.dpdk.org (Postfix) with ESMTP id E357D48945 for ; Wed, 15 Oct 2025 18:32:21 +0200 (CEST) Received: from mails.dpdk.org (localhost [127.0.0.1]) by mails.dpdk.org (Postfix) with ESMTP id DD12240273; Wed, 15 Oct 2025 18:32:21 +0200 (CEST) Received: from mail-pl1-f226.google.com (mail-pl1-f226.google.com [209.85.214.226]) by mails.dpdk.org (Postfix) with ESMTP id 30DDD40273 for ; Wed, 15 Oct 2025 18:32:20 +0200 (CEST) Received: by mail-pl1-f226.google.com with SMTP id d9443c01a7336-27ee41e074dso78266865ad.1 for ; Wed, 15 Oct 2025 09:32:20 -0700 (PDT) DKIM-Signature: v=1; a=rsa-sha256; c=relaxed/relaxed; d=iol.unh.edu; s=unh-iol; t=1760545939; x=1761150739; darn=dpdk.org; h=references:in-reply-to:cc:to:from:subject:message-id:date:from:to :cc:subject:date:message-id:reply-to; bh=W45DHm0PTHKSkcys069TgeeMlKAfSr8gT4BrVdr0AGQ=; b=MsX0KJNXCSObhsn870990l4L7TYJdf0wf8niISjzt089uKT1QOpFBoOSmkZ993i+1M wGYsbBdzjYTAgO6w8775+Q9c1BUffxEs8bNK4RkcpnCGiwQxAFn6rTypAhGko6KP+uUI +t4lukyAW8uzVcthRz+nJATXcy330YDigt224= X-Google-DKIM-Signature: v=1; a=rsa-sha256; c=relaxed/relaxed; d=1e100.net; s=20230601; t=1760545939; x=1761150739; h=references:in-reply-to:cc:to:from:subject:message-id:date :x-gm-message-state:from:to:cc:subject:date:message-id:reply-to; bh=W45DHm0PTHKSkcys069TgeeMlKAfSr8gT4BrVdr0AGQ=; b=H86C8IEaGg1YV1WFlJyq7ZCYimRaSTV0qJfBDAStxTL7TrK6hoE9c8fxXD9BZnQVZP qGuYvgNTExj6xSOp+gdEiYgXX5XP5YVe7PW49bRe4V2Gf4Bd4ZGF0u3AaNDTA36WjZaA N8dn8J0eAqqKkUDVnPT0xYV3zuvlFs/fDkmBfkeHTsGLswcJBzI4wEjbcVYU+zpBmgkG pnTe3gI03XqI+QE7n89Dfc6U9MM2uldGVpUsECeFQ2DAt0v6zdjCQ2aPHM4PBYO/egla iC/P2b4nRPIBnXitHR7KR1pWSSZzb/Y7M2IN5wA5IaBSQ1FJiPhXRP6xCzRP8vHCt1A+ znpQ== X-Gm-Message-State: AOJu0YwYIX/dEgJ41uqJKR7Es9958UWZnvcPauMGYi8US5VvvTw+cBn+ CCF6d05vDzpONKB9fxO0RCvweyPDIYU2dRz3GsNtafVKcSFgQEFxu6PxuSIatJ1GTUxBQ7DII+i VsWmjDcUHUuFYOVIC0+SnCvA0MHxlwGCucp8WDLmemHlG X-Gm-Gg: ASbGncvhEIt2S6mdxtBPKksRV27KE7aqTcaiOpMHnTiMKx2x4Y7eZrBpRw4uJYhgomq 5ESh55HFT2zbUYKuvujwWc9BaxF0IuUUFyBngMNIbkvKhKmpq3iDkQRbgxFSfUk/OkphgaglK/0 yFtRkJ5kjNEx6ZK7dBatkaPFPw6ivkbyhbFICvvkosL43cJdtBN5OOkmkbSqlioAcE2474Wo7n3 NB8DlP0qKAWgPhqhqVSi/7Dm+0o1hEcejQe9CWVy7L0YYuL2foWz7CdvzUedY7/bf+bVpvMVPmU tNONVZ+J8HFWmyd8I8K06A0U4qZl90yTWyzw4A2fraO1xpyRU5BNvBpl/T7EioYm8r3+FLSS X-Google-Smtp-Source: AGHT+IEzuQFBjvRfdy9g4rpokkzFpuAmMvZwloF0EcUraKOMEnzwEH8SvN2l2JP3Tu58P3Zyh/Bq21XqkvCt X-Received: by 2002:a17:902:fc4c:b0:28e:7841:d437 with SMTP id d9443c01a7336-290272c0474mr397408905ad.38.1760545939224; Wed, 15 Oct 2025 09:32:19 -0700 (PDT) Received: from postal.iol.unh.edu (postal.iol.unh.edu. [132.177.123.84]) by smtp-relay.gmail.com with ESMTPS id d9443c01a7336-29098e8976asm124315ad.1.2025.10.15.09.32.19 (version=TLS1_2 cipher=ECDHE-ECDSA-AES128-GCM-SHA256 bits=128/128); Wed, 15 Oct 2025 09:32:19 -0700 (PDT) X-Relaying-Domain: iol.unh.edu Date: Wed, 15 Oct 2025 09:32:19 -0700 (PDT) Message-ID: <68efcc93.170a0220.b8eea.0b8aSMTPIN_ADDED_MISSING@mx.google.com> Received: from [172.21.0.2] (unknown [172.18.0.240]) by postal.iol.unh.edu (Postfix) with ESMTP id 6C2A560003E8; Wed, 15 Oct 2025 12:32:18 -0400 (EDT) Subject: |SUCCESS| pw157578-157597 [PATCH] [21/21] net/ena: upgrade driver ve From: dpdklab@iol.unh.edu To: Test Report Cc: dpdk-test-reports@iol.unh.edu In-Reply-To: <20251015071730.1286-1-shaibran@amazon.com> References: <20251015071730.1286-1-shaibran@amazon.com> Content-Type: text/plain X-BeenThere: test-report@dpdk.org X-Mailman-Version: 2.1.29 Precedence: list List-Id: automatic DPDK test reports List-Unsubscribe: , List-Archive: List-Post: List-Help: List-Subscribe: , Errors-To: test-report-bounces@dpdk.org Test-Label: iol-unit-arm64-testing Test-Status: SUCCESS http://dpdk.org/patch/157597 _Testing PASS_ Submitter: Shai Brandes Date: Wednesday, October 15 2025 07:17:30 DPDK git baseline: Repo:dpdk Branch: master CommitID:7cacb5b3f6cc89785f9383ac9544e61dc971897d 157578-157597 --> testing pass Upstream job id: Generic-Unit-Test-DPDK#381557 Test environment and result as below: +------------------------------+---------------------------+------------------------------+--------------+----------------+ | Environment | cryptodev_sw_zuc_autotest | cryptodev_sw_snow3g_autotest | lpm_autotest | dpdk_unit_test | +==============================+===========================+==============================+==============+================+ | Debian 12 (arm) | PASS | PASS | SKIPPED | SKIPPED | +------------------------------+---------------------------+------------------------------+--------------+----------------+ | Ubuntu 20.04 | SKIPPED | SKIPPED | PASS | PASS | +------------------------------+---------------------------+------------------------------+--------------+----------------+ | Debian GNU/Linux 12 | SKIPPED | SKIPPED | SKIPPED | PASS | +------------------------------+---------------------------+------------------------------+--------------+----------------+ | CentOS Stream 9 | SKIPPED | SKIPPED | SKIPPED | PASS | +------------------------------+---------------------------+------------------------------+--------------+----------------+ | CentOS Stream 10 | SKIPPED | SKIPPED | SKIPPED | PASS | +------------------------------+---------------------------+------------------------------+--------------+----------------+ | Fedora Linux 42 | SKIPPED | SKIPPED | SKIPPED | PASS | +------------------------------+---------------------------+------------------------------+--------------+----------------+ | Fedora Linux 41 | SKIPPED | SKIPPED | SKIPPED | PASS | +------------------------------+---------------------------+------------------------------+--------------+----------------+ | Fedora Linux 40 | SKIPPED | SKIPPED | SKIPPED | PASS | +------------------------------+---------------------------+------------------------------+--------------+----------------+ | Red Hat Enterprise Linux 9.5 | SKIPPED | SKIPPED | SKIPPED | PASS | +------------------------------+---------------------------+------------------------------+--------------+----------------+ | Ubuntu 22.04 | SKIPPED | SKIPPED | SKIPPED | PASS | +------------------------------+---------------------------+------------------------------+--------------+----------------+ | Ubuntu 24.04 | SKIPPED | SKIPPED | SKIPPED | PASS | +------------------------------+---------------------------+------------------------------+--------------+----------------+ Debian 12 (arm) Kernel: Depends on container host Compiler: gcc (Debian 12.2.0-14) 12.2.0 Ubuntu 20.04 Kernel: 5.4 Compiler: gcc gcc (Ubuntu 9.4.0-1ubuntu1~20.04.2) 9.4.0 Debian GNU/Linux 12 Kernel: 5.4 Compiler: gcc gcc (Debian 12.2.0-14+deb12u1) 12.2.0 CentOS Stream 9 Kernel: 5.4 Compiler: gcc gcc (GCC) 11.5.0 20240719 (Red Hat 11.5.0-11) CentOS Stream 10 Kernel: 5.4 Compiler: gcc gcc (GCC) 14.2.1 20250110 (Red Hat 14.2.1-8) Fedora Linux 42 Kernel: 5.4 Compiler: gcc gcc (GCC) 15.2.1 20250808 (Red Hat 15.2.1-1) Fedora Linux 41 Kernel: 5.4 Compiler: clang gcc (GCC) 14.3.1 20250523 (Red Hat 14.3.1-1) Fedora Linux 40 Kernel: 5.4 Compiler: clang gcc (GCC) 14.2.1 20240912 (Red Hat 14.2.1-3) Red Hat Enterprise Linux 9.5 Kernel: 5.4 Compiler: gcc gcc (GCC) 11.5.0 20240719 (Red Hat 11.5.0-2) Ubuntu 22.04 Kernel: 5.4 Compiler: gcc gcc (Ubuntu 11.4.0-1ubuntu1~22.04) 11.4.0 Ubuntu 24.04 Kernel: 5.4 Compiler: gcc gcc (Ubuntu 13.3.0-6ubuntu2~24.04) 13.3.0 To view detailed results, visit: https://lab.dpdk.org/results/dashboard/patchsets/34281/ UNH-IOL DPDK Community Lab To manage your email subscriptions, visit: https://lab.dpdk.org/results/dashboard/preferences/subscriptions/