From mboxrd@z Thu Jan 1 00:00:00 1970 Return-Path: Received: from mails.dpdk.org (mails.dpdk.org [217.70.189.124]) by inbox.dpdk.org (Postfix) with ESMTP id CDB0448945 for ; Wed, 15 Oct 2025 19:28:09 +0200 (CEST) Received: from mails.dpdk.org (localhost [127.0.0.1]) by mails.dpdk.org (Postfix) with ESMTP id A42CC40273; Wed, 15 Oct 2025 19:28:09 +0200 (CEST) Received: from mail-oi1-f227.google.com (mail-oi1-f227.google.com [209.85.167.227]) by mails.dpdk.org (Postfix) with ESMTP id CBAF740273 for ; Wed, 15 Oct 2025 19:28:08 +0200 (CEST) Received: by mail-oi1-f227.google.com with SMTP id 5614622812f47-441fc0a9a7aso81755b6e.0 for ; Wed, 15 Oct 2025 10:28:08 -0700 (PDT) DKIM-Signature: v=1; a=rsa-sha256; c=relaxed/relaxed; d=iol.unh.edu; s=unh-iol; t=1760549288; x=1761154088; darn=dpdk.org; h=references:in-reply-to:cc:to:from:subject:message-id:date:from:to :cc:subject:date:message-id:reply-to; bh=QTMqcQrvqXXvGUzvPWfbcZMMlHuzkDGPUmucBU6RRsE=; b=PEpmMHFv5677hXi4uch46rZWnx2pb/C2FcxrAnLl8D2IOeM867bSXwWuU905yXD95A 84XS7/7W7IGq21wwrz+CpLpiCzOgllqZa8gFen5ASp8qtEoR+ARB30Itfy7I8uQlZeYG z8brKNHyRZIlmP3NEznGN7lyZXAVwzK3jShDU= X-Google-DKIM-Signature: v=1; a=rsa-sha256; c=relaxed/relaxed; d=1e100.net; s=20230601; t=1760549288; x=1761154088; h=references:in-reply-to:cc:to:from:subject:message-id:date :x-gm-message-state:from:to:cc:subject:date:message-id:reply-to; bh=QTMqcQrvqXXvGUzvPWfbcZMMlHuzkDGPUmucBU6RRsE=; b=va+Tkl7BNsn5hEl/LgoJ/rxyfXOiAC6lZzGE6RrXpItPUJyk20XjXrLZSzUtAVbyQN wi710TaIcu+fLHUBf9aYC0eGPDWiCWyoyQg5Xvt9dudBvrL4kOydWh8inmJmDVeVQRRJ CgEIBvlCHxRywOXCD/YrWRmony5cAoW9RcEU7iUUklYNRxW9jEKoqcisufP4CjU7ZIwY 2Zng3KjW4y7gNFC2QZyrNm+syXZrMy68MlQuyJhUmtBLsCooMVFt907Dgvd0PFTmKJom B3jkDUvN3sYc1Oi9PIsWBrYSSePOh8Nv7M9aEQvtlnVzhDGJM5gHv/TtAUPuvB0JIf9V AaLQ== X-Gm-Message-State: AOJu0YzMudYi0WquDluYcWnrmqbJb2RN6cs9jdn6AESoCMZRI3la3ad9 3pdpt0QBnxEmdZtwcT2+qlkshNE20yItZC6t7iU1iAYWLq8NwMKq2nCEXC8VGRBOuySCtMBHQvH 5heXKufgAVY2xHIQmaSqP7O1Cfi3gRM0h7ykV5BCqUDfGd7rZq+RTisdM3lpG X-Gm-Gg: ASbGncv2t8We/Nh7bin1hyjQvkIp66PO+Hb0xh9AAItccakBlGN96Xeg8urID6XtqpL Eu2CUOBAlGadhBedUNl7wkMJVZcyFcN6o4XO5R6wsjZgRBfwdGu8Ep+bU9Nr5GIfAP4+sGFqAph FHxTwcSZspy26bCDZXNLQUi84El0Q7+BpYAvJ2fb/49zn2gpBvug6Kf5YJU3YaED32eR32QsEUY 89JDPey/X693X34xUwg8qUS9fJod6cce+1sCc6b8W9f3qChz5hAWI2GTs/D1+JiJ1gjlgGeFx7P A5WKX1nM1whKRVXqdy+5FsA/NSe3Pz8uB3i96xncKpVSyvCc3w== X-Google-Smtp-Source: AGHT+IEWAHzUENV983qsiFBD++O3SLuh0qzYvZtMajcmzojdt64YeMWkR0aPU7ewRbj1NZtCCJnQsKzAiu3q X-Received: by 2002:a05:6808:2512:b0:43b:3a1e:dd86 with SMTP id 5614622812f47-4417b2bc3c5mr13408206b6e.6.1760549287898; Wed, 15 Oct 2025 10:28:07 -0700 (PDT) Received: from postal.iol.unh.edu (postal.iol.unh.edu. [2606:4100:3880:1234::84]) by smtp-relay.gmail.com with ESMTPS id 006d021491bc7-650369010f3sm230261eaf.7.2025.10.15.10.28.07 (version=TLS1_2 cipher=ECDHE-ECDSA-AES128-GCM-SHA256 bits=128/128); Wed, 15 Oct 2025 10:28:07 -0700 (PDT) X-Relaying-Domain: iol.unh.edu Date: Wed, 15 Oct 2025 10:28:07 -0700 (PDT) Message-ID: <68efd9a7.050a0220.4c7f5.b4b0SMTPIN_ADDED_MISSING@mx.google.com> Received: from [172.21.0.2] (unknown [172.18.0.240]) by postal.iol.unh.edu (Postfix) with ESMTP id 337D260003E8; Wed, 15 Oct 2025 13:28:07 -0400 (EDT) Subject: |SUCCESS| pw157598-157599 [PATCH] [v7,2/2] net/cpfl: added CPFL devI From: dpdklab@iol.unh.edu To: Test Report Cc: dpdk-test-reports@iol.unh.edu, Bruce Richardson In-Reply-To: <20251014102056.459175-3-venkatesh.vemula@intel.com> References: <20251014102056.459175-3-venkatesh.vemula@intel.com> Content-Type: text/plain X-BeenThere: test-report@dpdk.org X-Mailman-Version: 2.1.29 Precedence: list List-Id: automatic DPDK test reports List-Unsubscribe: , List-Archive: List-Post: List-Help: List-Subscribe: , Errors-To: test-report-bounces@dpdk.org Test-Label: iol-unit-arm64-testing Test-Status: SUCCESS http://dpdk.org/patch/157599 _Testing PASS_ Submitter: Venkatesh Vemula Date: Tuesday, October 14 2025 10:20:56 DPDK git baseline: Repo:dpdk-next-net-intel Branch: master CommitID:d2d0163cb4200ff7e450fd66eb6a92a931f06de7 157598-157599 --> testing pass Upstream job id: Generic-Unit-Test-DPDK#381587 Test environment and result as below: +------------------------------+---------------------------+--------------+----------------+------------------------------+ | Environment | cryptodev_sw_zuc_autotest | lpm_autotest | dpdk_unit_test | cryptodev_sw_snow3g_autotest | +==============================+===========================+==============+================+==============================+ | Debian 12 (arm) | PASS | SKIPPED | SKIPPED | PASS | +------------------------------+---------------------------+--------------+----------------+------------------------------+ | Ubuntu 20.04 | SKIPPED | PASS | PASS | SKIPPED | +------------------------------+---------------------------+--------------+----------------+------------------------------+ | CentOS Stream 10 | SKIPPED | SKIPPED | PASS | SKIPPED | +------------------------------+---------------------------+--------------+----------------+------------------------------+ | CentOS Stream 9 | SKIPPED | SKIPPED | PASS | SKIPPED | +------------------------------+---------------------------+--------------+----------------+------------------------------+ | Debian GNU/Linux 12 | SKIPPED | SKIPPED | PASS | SKIPPED | +------------------------------+---------------------------+--------------+----------------+------------------------------+ | Fedora Linux 40 | SKIPPED | SKIPPED | PASS | SKIPPED | +------------------------------+---------------------------+--------------+----------------+------------------------------+ | Fedora Linux 41 | SKIPPED | SKIPPED | PASS | SKIPPED | +------------------------------+---------------------------+--------------+----------------+------------------------------+ | Fedora Linux 42 | SKIPPED | SKIPPED | PASS | SKIPPED | +------------------------------+---------------------------+--------------+----------------+------------------------------+ | Ubuntu 22.04 | SKIPPED | SKIPPED | PASS | SKIPPED | +------------------------------+---------------------------+--------------+----------------+------------------------------+ | Red Hat Enterprise Linux 9.5 | SKIPPED | SKIPPED | PASS | SKIPPED | +------------------------------+---------------------------+--------------+----------------+------------------------------+ | Ubuntu 24.04 | SKIPPED | SKIPPED | PASS | SKIPPED | +------------------------------+---------------------------+--------------+----------------+------------------------------+ Debian 12 (arm) Kernel: Depends on container host Compiler: gcc (Debian 12.2.0-14) 12.2.0 Ubuntu 20.04 Kernel: 5.4 Compiler: gcc gcc (Ubuntu 9.4.0-1ubuntu1~20.04.2) 9.4.0 CentOS Stream 10 Kernel: 5.4 Compiler: gcc gcc (GCC) 14.2.1 20250110 (Red Hat 14.2.1-8) CentOS Stream 9 Kernel: 5.4 Compiler: gcc gcc (GCC) 11.5.0 20240719 (Red Hat 11.5.0-11) Debian GNU/Linux 12 Kernel: 5.4 Compiler: gcc gcc (Debian 12.2.0-14+deb12u1) 12.2.0 Fedora Linux 40 Kernel: 5.4 Compiler: gcc gcc (GCC) 14.2.1 20240912 (Red Hat 14.2.1-3) Fedora Linux 41 Kernel: 5.4 Compiler: gcc gcc (GCC) 14.3.1 20250523 (Red Hat 14.3.1-1) Fedora Linux 42 Kernel: 5.4 Compiler: clang gcc (GCC) 15.2.1 20250808 (Red Hat 15.2.1-1) Ubuntu 22.04 Kernel: 5.4 Compiler: gcc gcc (Ubuntu 11.4.0-1ubuntu1~22.04) 11.4.0 Red Hat Enterprise Linux 9.5 Kernel: 5.4 Compiler: gcc gcc (GCC) 11.5.0 20240719 (Red Hat 11.5.0-2) Ubuntu 24.04 Kernel: 5.4 Compiler: gcc gcc (Ubuntu 13.3.0-6ubuntu2~24.04) 13.3.0 To view detailed results, visit: https://lab.dpdk.org/results/dashboard/patchsets/34282/ UNH-IOL DPDK Community Lab To manage your email subscriptions, visit: https://lab.dpdk.org/results/dashboard/preferences/subscriptions/