* |SUCCESS| pw157599 [PATCH v7 2/2] net/cpfl: added CPFL devID for MMG
[not found] <20251014102056.459175-3-venkatesh.vemula@intel.com>
@ 2025-10-15 8:59 ` checkpatch
2025-10-15 9:22 ` |PENDING| pw157598-157599 [PATCH] [v7,2/2] net/cpfl: added CPFL devI dpdklab
` (17 subsequent siblings)
18 siblings, 0 replies; 19+ messages in thread
From: checkpatch @ 2025-10-15 8:59 UTC (permalink / raw)
To: test-report
Test-Label: checkpatch
Test-Status: SUCCESS
http://dpdk.org/patch/157599
_coding style OK_
^ permalink raw reply [flat|nested] 19+ messages in thread
* |PENDING| pw157598-157599 [PATCH] [v7,2/2] net/cpfl: added CPFL devI
[not found] <20251014102056.459175-3-venkatesh.vemula@intel.com>
2025-10-15 8:59 ` |SUCCESS| pw157599 [PATCH v7 2/2] net/cpfl: added CPFL devID for MMG checkpatch
@ 2025-10-15 9:22 ` dpdklab
2025-10-15 9:23 ` dpdklab
` (16 subsequent siblings)
18 siblings, 0 replies; 19+ messages in thread
From: dpdklab @ 2025-10-15 9:22 UTC (permalink / raw)
To: Test Report; +Cc: dpdk-test-reports
Test-Label: iol-compile-amd64-testing
Test-Status: PENDING
http://dpdk.org/patch/157599
_Testing pending_
Submitter: Venkatesh Vemula <venkatesh.vemula@intel.com>
Date: Tuesday, October 14 2025 10:20:56
DPDK git baseline: Repo:dpdk-next-net-intel
Branch: master
CommitID:d2d0163cb4200ff7e450fd66eb6a92a931f06de7
157598-157599 --> testing pending
Upstream job id: Generic-VM-DPDK-Compile-Meson#38998
Test environment and result as below:
+-------------------------------+--------------------+-------------------+------------------+-------------------------+-------------------+
| Environment | dpdk_meson_compile | dpdk_compile_spdk | dpdk_compile_ovs | dpdk_llvm_clang_compile | dpdk_msvc_compile |
+===============================+====================+===================+==================+=========================+===================+
| CentOS Stream 9 | PEND | PEND | SKIPPED | SKIPPED | SKIPPED |
+-------------------------------+--------------------+-------------------+------------------+-------------------------+-------------------+
| Debian GNU/Linux 12 | PEND | PEND | SKIPPED | SKIPPED | SKIPPED |
+-------------------------------+--------------------+-------------------+------------------+-------------------------+-------------------+
| Fedora Linux 42 | PEND | PEND | PEND | SKIPPED | SKIPPED |
+-------------------------------+--------------------+-------------------+------------------+-------------------------+-------------------+
| openSUSE Leap 15.6 | PEND | SKIPPED | SKIPPED | SKIPPED | SKIPPED |
+-------------------------------+--------------------+-------------------+------------------+-------------------------+-------------------+
| Red Hat Enterprise Linux 9.5 | PEND | SKIPPED | SKIPPED | SKIPPED | SKIPPED |
+-------------------------------+--------------------+-------------------+------------------+-------------------------+-------------------+
| Red Hat Enterprise Linux 8.10 | PEND | SKIPPED | SKIPPED | SKIPPED | SKIPPED |
+-------------------------------+--------------------+-------------------+------------------+-------------------------+-------------------+
| Ubuntu 20.04 | PEND | SKIPPED | SKIPPED | SKIPPED | SKIPPED |
+-------------------------------+--------------------+-------------------+------------------+-------------------------+-------------------+
| FreeBSD 14.2 | PEND | SKIPPED | SKIPPED | SKIPPED | SKIPPED |
+-------------------------------+--------------------+-------------------+------------------+-------------------------+-------------------+
| Ubuntu 22.04 | PEND | PEND | SKIPPED | SKIPPED | SKIPPED |
+-------------------------------+--------------------+-------------------+------------------+-------------------------+-------------------+
| Ubuntu 24.04 | PEND | PEND | PEND | SKIPPED | SKIPPED |
+-------------------------------+--------------------+-------------------+------------------+-------------------------+-------------------+
| Alpine Linux 3.22.0 | PEND | SKIPPED | SKIPPED | SKIPPED | SKIPPED |
+-------------------------------+--------------------+-------------------+------------------+-------------------------+-------------------+
| CentOS Stream 10 | PEND | SKIPPED | SKIPPED | SKIPPED | SKIPPED |
+-------------------------------+--------------------+-------------------+------------------+-------------------------+-------------------+
| Windows Server 2022 | SKIPPED | SKIPPED | SKIPPED | PEND | PEND |
+-------------------------------+--------------------+-------------------+------------------+-------------------------+-------------------+
CentOS Stream 9
Kernel: 5.15
Compiler: gcc gcc (GCC) 11.5.0 20240719 (Red Hat 11.5.0-11)
Debian GNU/Linux 12
Kernel: 5.15
Compiler: gcc gcc (Debian 12.2.0-14+deb12u1) 12.2.0
Fedora Linux 42
Kernel: 5.15
Compiler: clang gcc (GCC) 15.2.1 20250808 (Red Hat 15.2.1-1)
openSUSE Leap 15.6
Kernel: 5.15
Compiler: gcc gcc (SUSE Linux) 7.5.0
Red Hat Enterprise Linux 9.5
Kernel: 5.15
Compiler: gcc gcc (GCC) 11.5.0 20240719 (Red Hat 11.5.0-2)
Red Hat Enterprise Linux 8.10
Kernel: 5.15
Compiler: gcc gcc (GCC) 8.5.0 20210514 (Red Hat 8.5.0-22)
Ubuntu 20.04
Kernel: 4.19
Compiler: gcc gcc (Ubuntu 9.4.0-1ubuntu1~20.04.2) 9.4.0
FreeBSD 14.2
Kernel: 14.2-RELEASE
Compiler: clang 18.1.6
Ubuntu 22.04
Kernel: 5.15
Compiler: gcc gcc (Ubuntu 11.4.0-1ubuntu1~22.04) 11.4.0
Ubuntu 24.04
Kernel: 5.15
Compiler: gcc gcc (Ubuntu 13.3.0-6ubuntu2~24.04) 13.3.0
Alpine Linux 3.22.0
Kernel: 5.15
Compiler: gcc gcc (Alpine 14.2.0) 14.2.0
CentOS Stream 10
Kernel: 5.15
Compiler: gcc gcc (GCC) 14.2.1 20250110 (Red Hat 14.2.1-8)
Windows Server 2022
Kernel: 10.0.20348.2031
Compiler: clang 15.0.7, gcc 14.1.0 (MinGW), and MSVC VS 19.39.33521
To view detailed results, visit:
https://lab.dpdk.org/results/dashboard/patchsets/34282/
UNH-IOL DPDK Community Lab
To manage your email subscriptions, visit:
https://lab.dpdk.org/results/dashboard/preferences/subscriptions/
^ permalink raw reply [flat|nested] 19+ messages in thread
* |PENDING| pw157598-157599 [PATCH] [v7,2/2] net/cpfl: added CPFL devI
[not found] <20251014102056.459175-3-venkatesh.vemula@intel.com>
2025-10-15 8:59 ` |SUCCESS| pw157599 [PATCH v7 2/2] net/cpfl: added CPFL devID for MMG checkpatch
2025-10-15 9:22 ` |PENDING| pw157598-157599 [PATCH] [v7,2/2] net/cpfl: added CPFL devI dpdklab
@ 2025-10-15 9:23 ` dpdklab
2025-10-15 9:25 ` |SUCCESS| " dpdklab
` (15 subsequent siblings)
18 siblings, 0 replies; 19+ messages in thread
From: dpdklab @ 2025-10-15 9:23 UTC (permalink / raw)
To: Test Report; +Cc: dpdk-test-reports
Test-Label: iol-unit-amd64-testing
Test-Status: PENDING
http://dpdk.org/patch/157599
_Testing pending_
Submitter: Venkatesh Vemula <venkatesh.vemula@intel.com>
Date: Tuesday, October 14 2025 10:20:56
DPDK git baseline: Repo:dpdk-next-net-intel
Branch: master
CommitID:d2d0163cb4200ff7e450fd66eb6a92a931f06de7
157598-157599 --> testing pending
Upstream job id: Generic-Unit-Test-DPDK#381574
Test environment and result as below:
+-------------------------------+----------------+
| Environment | dpdk_unit_test |
+===============================+================+
| CentOS Stream 9 | PEND |
+-------------------------------+----------------+
| CentOS Stream 10 | PEND |
+-------------------------------+----------------+
| Debian GNU/Linux 12 | PASS |
+-------------------------------+----------------+
| Fedora Linux 40 | PEND |
+-------------------------------+----------------+
| Fedora Linux 41 | PEND |
+-------------------------------+----------------+
| Fedora Linux 42 | PEND |
+-------------------------------+----------------+
| Red Hat Enterprise Linux 9.5 | PEND |
+-------------------------------+----------------+
| Red Hat Enterprise Linux 8.10 | PEND |
+-------------------------------+----------------+
| Ubuntu 20.04 | PEND |
+-------------------------------+----------------+
| Ubuntu 24.04 | PEND |
+-------------------------------+----------------+
| Ubuntu 22.04 | PEND |
+-------------------------------+----------------+
| Windows Server 2022 | PEND |
+-------------------------------+----------------+
CentOS Stream 9
Kernel: 5.15
Compiler: gcc gcc (GCC) 11.5.0 20240719 (Red Hat 11.5.0-11)
CentOS Stream 10
Kernel: 5.15
Compiler: gcc gcc (GCC) 14.2.1 20250110 (Red Hat 14.2.1-8)
Debian GNU/Linux 12
Kernel: 5.15
Compiler: gcc gcc (Debian 12.2.0-14+deb12u1) 12.2.0
Fedora Linux 40
Kernel: 5.15
Compiler: gcc gcc (GCC) 14.2.1 20240912 (Red Hat 14.2.1-3)
Fedora Linux 41
Kernel: 5.15
Compiler: gcc gcc (GCC) 14.3.1 20250523 (Red Hat 14.3.1-1)
Fedora Linux 42
Kernel: 5.15
Compiler: clang gcc (GCC) 15.2.1 20250808 (Red Hat 15.2.1-1)
Red Hat Enterprise Linux 9.5
Kernel: 5.15
Compiler: gcc gcc (GCC) 11.5.0 20240719 (Red Hat 11.5.0-2)
Red Hat Enterprise Linux 8.10
Kernel: 5.15
Compiler: gcc gcc (GCC) 8.5.0 20210514 (Red Hat 8.5.0-22)
Ubuntu 20.04
Kernel: 5.15
Compiler: gcc gcc (Ubuntu 9.4.0-1ubuntu1~20.04.2) 9.4.0
Ubuntu 24.04
Kernel: 5.15
Compiler: gcc gcc (Ubuntu 13.3.0-6ubuntu2~24.04) 13.3.0
Ubuntu 22.04
Kernel: 5.15
Compiler: gcc gcc (Ubuntu 11.4.0-1ubuntu1~22.04) 11.4.0
Windows Server 2022
Kernel: 10.0.20348.2031
Compiler: clang 15.0.7, gcc 14.1.0 (MinGW), and MSVC VS 19.39.33521
To view detailed results, visit:
https://lab.dpdk.org/results/dashboard/patchsets/34282/
UNH-IOL DPDK Community Lab
To manage your email subscriptions, visit:
https://lab.dpdk.org/results/dashboard/preferences/subscriptions/
^ permalink raw reply [flat|nested] 19+ messages in thread
* |SUCCESS| pw157598-157599 [PATCH] [v7,2/2] net/cpfl: added CPFL devI
[not found] <20251014102056.459175-3-venkatesh.vemula@intel.com>
` (2 preceding siblings ...)
2025-10-15 9:23 ` dpdklab
@ 2025-10-15 9:25 ` dpdklab
2025-10-15 9:29 ` dpdklab
` (14 subsequent siblings)
18 siblings, 0 replies; 19+ messages in thread
From: dpdklab @ 2025-10-15 9:25 UTC (permalink / raw)
To: Test Report; +Cc: dpdk-test-reports, Bruce Richardson
Test-Label: iol-mellanox-Functional
Test-Status: SUCCESS
http://dpdk.org/patch/157599
_Functional Testing PASS_
Submitter: Venkatesh Vemula <venkatesh.vemula@intel.com>
Date: Tuesday, October 14 2025 10:20:56
DPDK git baseline: Repo:dpdk-next-net-intel
Branch: master
CommitID:d2d0163cb4200ff7e450fd66eb6a92a931f06de7
157598-157599 --> functional testing pass
Upstream job id: Template-DPDK-DTS-Pipeline#2439
Test environment and result as below:
Ubuntu 24.04
Kernel: 6.8.0-55-generic
Compiler: gcc 13.3.0
NIC: Mellanox ConnectX-5 100000 Mbps
Aggregate Results by Test Suite
+---------------------------------+--------+
| Test Suite | Result |
+=================================+========+
| blocklist | PASS |
+---------------------------------+--------+
| promisc_support | PASS |
+---------------------------------+--------+
| uni_pkt | PASS |
+---------------------------------+--------+
| dynamic_config | PASS |
+---------------------------------+--------+
| hello_world | PASS |
+---------------------------------+--------+
| l2fwd | PASS |
+---------------------------------+--------+
| port_restart_config_persistency | PASS |
+---------------------------------+--------+
| softnic | PASS |
+---------------------------------+--------+
| vlan | PASS |
+---------------------------------+--------+
To view detailed results, visit:
https://lab.dpdk.org/results/dashboard/patchsets/34282/
UNH-IOL DPDK Community Lab
To manage your email subscriptions, visit:
https://lab.dpdk.org/results/dashboard/preferences/subscriptions/
^ permalink raw reply [flat|nested] 19+ messages in thread
* |SUCCESS| pw157598-157599 [PATCH] [v7,2/2] net/cpfl: added CPFL devI
[not found] <20251014102056.459175-3-venkatesh.vemula@intel.com>
` (3 preceding siblings ...)
2025-10-15 9:25 ` |SUCCESS| " dpdklab
@ 2025-10-15 9:29 ` dpdklab
2025-10-15 9:33 ` |PENDING| " dpdklab
` (13 subsequent siblings)
18 siblings, 0 replies; 19+ messages in thread
From: dpdklab @ 2025-10-15 9:29 UTC (permalink / raw)
To: Test Report; +Cc: dpdk-test-reports, Bruce Richardson
Test-Label: iol-marvell-Functional
Test-Status: SUCCESS
http://dpdk.org/patch/157599
_Functional Testing PASS_
Submitter: Venkatesh Vemula <venkatesh.vemula@intel.com>
Date: Tuesday, October 14 2025 10:20:56
DPDK git baseline: Repo:dpdk-next-net-intel
Branch: master
CommitID:d2d0163cb4200ff7e450fd66eb6a92a931f06de7
157598-157599 --> functional testing pass
Upstream job id: Template-DTS-Pipeline#249454
Test environment and result as below:
Ubuntu 20.04.6
Kernel: 5.4.105
Compiler: gcc 9.4
NIC: Marvell CN106XX 50000 Mbps
Target: arm64-native-linuxapp-gcc
Aggregate Results by Test Suite
+----------------+--------+
| Test Suite | Result |
+================+========+
| cmdline | PASS |
+----------------+--------+
| rxtx_callbacks | PASS |
+----------------+--------+
To view detailed results, visit:
https://lab.dpdk.org/results/dashboard/patchsets/34282/
UNH-IOL DPDK Community Lab
To manage your email subscriptions, visit:
https://lab.dpdk.org/results/dashboard/preferences/subscriptions/
^ permalink raw reply [flat|nested] 19+ messages in thread
* |PENDING| pw157598-157599 [PATCH] [v7,2/2] net/cpfl: added CPFL devI
[not found] <20251014102056.459175-3-venkatesh.vemula@intel.com>
` (4 preceding siblings ...)
2025-10-15 9:29 ` dpdklab
@ 2025-10-15 9:33 ` dpdklab
2025-10-15 9:37 ` dpdklab
` (12 subsequent siblings)
18 siblings, 0 replies; 19+ messages in thread
From: dpdklab @ 2025-10-15 9:33 UTC (permalink / raw)
To: Test Report; +Cc: dpdk-test-reports
Test-Label: iol-sample-apps-testing
Test-Status: PENDING
http://dpdk.org/patch/157599
_Testing pending_
Submitter: Venkatesh Vemula <venkatesh.vemula@intel.com>
Date: Tuesday, October 14 2025 10:20:56
DPDK git baseline: Repo:dpdk-next-net-intel
Branch: master
CommitID:d2d0163cb4200ff7e450fd66eb6a92a931f06de7
157598-157599 --> testing pending
Upstream job id: Template-DTS-Pipeline#249456
Test environment and result as below:
+--------------+----------------------+----------------------+
| Environment | dpdk_fips_validation | compressdev_zlib_pmd |
+==============+======================+======================+
| Ubuntu 20.04 | PEND | SKIPPED |
+--------------+----------------------+----------------------+
| Ubuntu 22.04 | SKIPPED | PASS |
+--------------+----------------------+----------------------+
Ubuntu 20.04
Kernel: 5.15
Compiler: gcc gcc (Ubuntu 9.4.0-1ubuntu1~20.04.2) 9.4.0
Ubuntu 22.04
Kernel: 5.15
Compiler: gcc gcc (Ubuntu 11.4.0-1ubuntu1~22.04.2) 11.4.0
To view detailed results, visit:
https://lab.dpdk.org/results/dashboard/patchsets/34282/
UNH-IOL DPDK Community Lab
To manage your email subscriptions, visit:
https://lab.dpdk.org/results/dashboard/preferences/subscriptions/
^ permalink raw reply [flat|nested] 19+ messages in thread
* |PENDING| pw157598-157599 [PATCH] [v7,2/2] net/cpfl: added CPFL devI
[not found] <20251014102056.459175-3-venkatesh.vemula@intel.com>
` (5 preceding siblings ...)
2025-10-15 9:33 ` |PENDING| " dpdklab
@ 2025-10-15 9:37 ` dpdklab
2025-10-15 9:44 ` |SUCCESS| " dpdklab
` (11 subsequent siblings)
18 siblings, 0 replies; 19+ messages in thread
From: dpdklab @ 2025-10-15 9:37 UTC (permalink / raw)
To: Test Report; +Cc: dpdk-test-reports
Test-Label: iol-unit-arm64-testing
Test-Status: PENDING
http://dpdk.org/patch/157599
_Testing pending_
Submitter: Venkatesh Vemula <venkatesh.vemula@intel.com>
Date: Tuesday, October 14 2025 10:20:56
DPDK git baseline: Repo:dpdk-next-net-intel
Branch: master
CommitID:d2d0163cb4200ff7e450fd66eb6a92a931f06de7
157598-157599 --> testing pending
Upstream job id: Generic-Unit-Test-DPDK#381567
Test environment and result as below:
+------------------------------+---------------------------+--------------+----------------+------------------------------+
| Environment | cryptodev_sw_zuc_autotest | lpm_autotest | dpdk_unit_test | cryptodev_sw_snow3g_autotest |
+==============================+===========================+==============+================+==============================+
| Debian 12 (arm) | PEND | SKIPPED | SKIPPED | PEND |
+------------------------------+---------------------------+--------------+----------------+------------------------------+
| Ubuntu 20.04 | SKIPPED | PASS | PEND | SKIPPED |
+------------------------------+---------------------------+--------------+----------------+------------------------------+
| CentOS Stream 10 | SKIPPED | SKIPPED | PEND | SKIPPED |
+------------------------------+---------------------------+--------------+----------------+------------------------------+
| CentOS Stream 9 | SKIPPED | SKIPPED | PEND | SKIPPED |
+------------------------------+---------------------------+--------------+----------------+------------------------------+
| Debian GNU/Linux 12 | SKIPPED | SKIPPED | PEND | SKIPPED |
+------------------------------+---------------------------+--------------+----------------+------------------------------+
| Fedora Linux 40 | SKIPPED | SKIPPED | PEND | SKIPPED |
+------------------------------+---------------------------+--------------+----------------+------------------------------+
| Fedora Linux 41 | SKIPPED | SKIPPED | PEND | SKIPPED |
+------------------------------+---------------------------+--------------+----------------+------------------------------+
| Fedora Linux 42 | SKIPPED | SKIPPED | PEND | SKIPPED |
+------------------------------+---------------------------+--------------+----------------+------------------------------+
| Ubuntu 22.04 | SKIPPED | SKIPPED | PEND | SKIPPED |
+------------------------------+---------------------------+--------------+----------------+------------------------------+
| Red Hat Enterprise Linux 9.5 | SKIPPED | SKIPPED | PEND | SKIPPED |
+------------------------------+---------------------------+--------------+----------------+------------------------------+
| Ubuntu 24.04 | SKIPPED | SKIPPED | PEND | SKIPPED |
+------------------------------+---------------------------+--------------+----------------+------------------------------+
Debian 12 (arm)
Kernel: Depends on container host
Compiler: gcc (Debian 12.2.0-14) 12.2.0
Ubuntu 20.04
Kernel: 5.4
Compiler: gcc gcc (Ubuntu 9.4.0-1ubuntu1~20.04.2) 9.4.0
CentOS Stream 10
Kernel: 5.4
Compiler: gcc gcc (GCC) 14.2.1 20250110 (Red Hat 14.2.1-8)
CentOS Stream 9
Kernel: 5.4
Compiler: gcc gcc (GCC) 11.5.0 20240719 (Red Hat 11.5.0-11)
Debian GNU/Linux 12
Kernel: 5.4
Compiler: gcc gcc (Debian 12.2.0-14+deb12u1) 12.2.0
Fedora Linux 40
Kernel: 5.4
Compiler: gcc gcc (GCC) 14.2.1 20240912 (Red Hat 14.2.1-3)
Fedora Linux 41
Kernel: 5.4
Compiler: gcc gcc (GCC) 14.3.1 20250523 (Red Hat 14.3.1-1)
Fedora Linux 42
Kernel: 5.4
Compiler: clang gcc (GCC) 15.2.1 20250808 (Red Hat 15.2.1-1)
Ubuntu 22.04
Kernel: 5.4
Compiler: gcc gcc (Ubuntu 11.4.0-1ubuntu1~22.04) 11.4.0
Red Hat Enterprise Linux 9.5
Kernel: 5.4
Compiler: gcc gcc (GCC) 11.5.0 20240719 (Red Hat 11.5.0-2)
Ubuntu 24.04
Kernel: 5.4
Compiler: gcc gcc (Ubuntu 13.3.0-6ubuntu2~24.04) 13.3.0
To view detailed results, visit:
https://lab.dpdk.org/results/dashboard/patchsets/34282/
UNH-IOL DPDK Community Lab
To manage your email subscriptions, visit:
https://lab.dpdk.org/results/dashboard/preferences/subscriptions/
^ permalink raw reply [flat|nested] 19+ messages in thread
* |SUCCESS| pw157598-157599 [PATCH] [v7,2/2] net/cpfl: added CPFL devI
[not found] <20251014102056.459175-3-venkatesh.vemula@intel.com>
` (6 preceding siblings ...)
2025-10-15 9:37 ` dpdklab
@ 2025-10-15 9:44 ` dpdklab
2025-10-15 9:46 ` dpdklab
` (10 subsequent siblings)
18 siblings, 0 replies; 19+ messages in thread
From: dpdklab @ 2025-10-15 9:44 UTC (permalink / raw)
To: Test Report, Ali Alnubani; +Cc: dpdk-test-reports, Bruce Richardson
Test-Label: iol-mellanox-Performance
Test-Status: SUCCESS
http://dpdk.org/patch/157599
_Performance Testing PASS_
Submitter: Venkatesh Vemula <venkatesh.vemula@intel.com>
Date: Tuesday, October 14 2025 10:20:56
DPDK git baseline: Repo:dpdk-next-net-intel
Branch: master
CommitID:d2d0163cb4200ff7e450fd66eb6a92a931f06de7
157598-157599 --> performance testing pass
Upstream job id: Template-DTS-Pipeline#249444
Test environment and result as below:
Ubuntu 24.04
Kernel: 6.8
Compiler: gcc gcc (Ubuntu 13.3.0-6ubuntu2~24.04) 13.3.0
NIC: Mellanox ConnectX-6 Lx 25000 Mbps
Fail/Total: 0/6
Detail performance results:
+------------+---------+----------+-------------+------------------------------+
| frame_size | txd/rxd | num_cpus | num_threads | throughput difference from |
| | | | | expected |
+============+=========+==========+=============+==============================+
| 64 | 1024 | 1 | 1 | 0.1% |
+------------+---------+----------+-------------+------------------------------+
| 128 | 1024 | 1 | 1 | 0.2% |
+------------+---------+----------+-------------+------------------------------+
| 256 | 1024 | 1 | 1 | 0.2% |
+------------+---------+----------+-------------+------------------------------+
| 512 | 1024 | 1 | 1 | 0.2% |
+------------+---------+----------+-------------+------------------------------+
| 1024 | 1024 | 1 | 1 | 0.2% |
+------------+---------+----------+-------------+------------------------------+
| 1518 | 1024 | 1 | 1 | -0.0% |
+------------+---------+----------+-------------+------------------------------+
Ubuntu 24.04
Kernel: 6.8
Compiler: gcc gcc (Ubuntu 13.3.0-6ubuntu2~24.04) 13.3.0
NIC: NVIDIA Mellanox ConnectX-7 100000 Mbps
Fail/Total: 0/6
Detail performance results:
+------------+---------+----------+-------------+------------------------------+
| frame_size | txd/rxd | num_cpus | num_threads | throughput difference from |
| | | | | expected |
+============+=========+==========+=============+==============================+
| 64 | 1024 | 1 | 1 | 0.5% |
+------------+---------+----------+-------------+------------------------------+
| 128 | 1024 | 1 | 1 | -0.2% |
+------------+---------+----------+-------------+------------------------------+
| 256 | 1024 | 1 | 1 | -0.3% |
+------------+---------+----------+-------------+------------------------------+
| 512 | 1024 | 1 | 1 | 0.1% |
+------------+---------+----------+-------------+------------------------------+
| 1024 | 1024 | 1 | 1 | 0.1% |
+------------+---------+----------+-------------+------------------------------+
| 1518 | 1024 | 1 | 1 | 0.1% |
+------------+---------+----------+-------------+------------------------------+
To view detailed results, visit:
https://lab.dpdk.org/results/dashboard/patchsets/34282/
UNH-IOL DPDK Community Lab
To manage your email subscriptions, visit:
https://lab.dpdk.org/results/dashboard/preferences/subscriptions/
^ permalink raw reply [flat|nested] 19+ messages in thread
* |SUCCESS| pw157598-157599 [PATCH] [v7,2/2] net/cpfl: added CPFL devI
[not found] <20251014102056.459175-3-venkatesh.vemula@intel.com>
` (7 preceding siblings ...)
2025-10-15 9:44 ` |SUCCESS| " dpdklab
@ 2025-10-15 9:46 ` dpdklab
2025-10-15 9:46 ` dpdklab
` (9 subsequent siblings)
18 siblings, 0 replies; 19+ messages in thread
From: dpdklab @ 2025-10-15 9:46 UTC (permalink / raw)
To: Test Report; +Cc: dpdk-test-reports, Bruce Richardson
Test-Label: iol-intel-Functional
Test-Status: SUCCESS
http://dpdk.org/patch/157599
_Functional Testing PASS_
Submitter: Venkatesh Vemula <venkatesh.vemula@intel.com>
Date: Tuesday, October 14 2025 10:20:56
DPDK git baseline: Repo:dpdk-next-net-intel
Branch: master
CommitID:d2d0163cb4200ff7e450fd66eb6a92a931f06de7
157598-157599 --> functional testing pass
Upstream job id: Template-DTS-Pipeline#249451
Test environment and result as below:
Ubuntu 20.04
Kernel: 5.4
Compiler: gcc gcc (Ubuntu 9.4.0-1ubuntu1~20.04.1) 9.4.0
NIC: Intel Corporation Ethernet Converged Network Adapter XL710-QDA2 40000 Mbps
Aggregate Results by Test Suite
+-----------------------------+--------+
| Test Suite | Result |
+=============================+========+
| unit_tests_mbuf | PASS |
+-----------------------------+--------+
| vhost_virtio_user_interrupt | PASS |
+-----------------------------+--------+
| virtio_smoke | PASS |
+-----------------------------+--------+
To view detailed results, visit:
https://lab.dpdk.org/results/dashboard/patchsets/34282/
UNH-IOL DPDK Community Lab
To manage your email subscriptions, visit:
https://lab.dpdk.org/results/dashboard/preferences/subscriptions/
^ permalink raw reply [flat|nested] 19+ messages in thread
* |SUCCESS| pw157598-157599 [PATCH] [v7,2/2] net/cpfl: added CPFL devI
[not found] <20251014102056.459175-3-venkatesh.vemula@intel.com>
` (8 preceding siblings ...)
2025-10-15 9:46 ` dpdklab
@ 2025-10-15 9:46 ` dpdklab
2025-10-15 9:49 ` dpdklab
` (8 subsequent siblings)
18 siblings, 0 replies; 19+ messages in thread
From: dpdklab @ 2025-10-15 9:46 UTC (permalink / raw)
To: Test Report; +Cc: dpdk-test-reports, Bruce Richardson
Test-Label: iol-intel-Performance
Test-Status: SUCCESS
http://dpdk.org/patch/157599
_Performance Testing PASS_
Submitter: Venkatesh Vemula <venkatesh.vemula@intel.com>
Date: Tuesday, October 14 2025 10:20:56
DPDK git baseline: Repo:dpdk-next-net-intel
Branch: master
CommitID:d2d0163cb4200ff7e450fd66eb6a92a931f06de7
157598-157599 --> performance testing pass
Upstream job id: Template-DTS-Pipeline#249447
Test environment and result as below:
Ubuntu 22.04
Kernel: 5.15
Compiler: gcc gcc (Ubuntu 11.4.0-1ubuntu1~22.04.2) 11.4.0
NIC: Intel E810 100000 Mbps
Fail/Total: 0/2
Detail performance results:
+------------+---------+----------+-------------+------------------------------+
| frame_size | txd/rxd | num_cpus | num_threads | throughput difference from |
| | | | | expected |
+============+=========+==========+=============+==============================+
| 64 | 512 | 1 | 1 | -0.6% |
+------------+---------+----------+-------------+------------------------------+
| 64 | 2048 | 1 | 1 | -0.3% |
+------------+---------+----------+-------------+------------------------------+
Ubuntu 24.04
Kernel: 6.8
Compiler: gcc gcc (Ubuntu 13.3.0-6ubuntu2~24.04) 13.3.0
NIC: Intel E810 (Arm Grace Server) 100000 Mbps
Fail/Total: 0/2
Detail performance results:
+------------+---------+----------+-------------+------------------------------+
| frame_size | txd/rxd | num_cpus | num_threads | throughput difference from |
| | | | | expected |
+============+=========+==========+=============+==============================+
| 64 | 512 | 1 | 1 | 1.2% |
+------------+---------+----------+-------------+------------------------------+
| 64 | 2048 | 1 | 1 | -1.5% |
+------------+---------+----------+-------------+------------------------------+
Ubuntu 20.04
Kernel: 5.4
Compiler: gcc gcc (Ubuntu 9.4.0-1ubuntu1~20.04.1) 9.4.0
NIC: Intel Corporation Ethernet Converged Network Adapter XL710-QDA2 40000 Mbps
Fail/Total: 0/4
Detail performance results:
+----------+-------------+---------+------------+------------------------------+
| num_cpus | num_threads | txd/rxd | frame_size | throughput difference from |
| | | | | expected |
+==========+=============+=========+============+==============================+
| 1 | 2 | 512 | 64 | -0.2% |
+----------+-------------+---------+------------+------------------------------+
| 1 | 2 | 2048 | 64 | 2.1% |
+----------+-------------+---------+------------+------------------------------+
| 1 | 1 | 512 | 64 | 4.9% |
+----------+-------------+---------+------------+------------------------------+
| 1 | 1 | 2048 | 64 | -1.0% |
+----------+-------------+---------+------------+------------------------------+
To view detailed results, visit:
https://lab.dpdk.org/results/dashboard/patchsets/34282/
UNH-IOL DPDK Community Lab
To manage your email subscriptions, visit:
https://lab.dpdk.org/results/dashboard/preferences/subscriptions/
^ permalink raw reply [flat|nested] 19+ messages in thread
* |SUCCESS| pw157598-157599 [PATCH] [v7,2/2] net/cpfl: added CPFL devI
[not found] <20251014102056.459175-3-venkatesh.vemula@intel.com>
` (9 preceding siblings ...)
2025-10-15 9:46 ` dpdklab
@ 2025-10-15 9:49 ` dpdklab
2025-10-15 9:54 ` dpdklab
` (7 subsequent siblings)
18 siblings, 0 replies; 19+ messages in thread
From: dpdklab @ 2025-10-15 9:49 UTC (permalink / raw)
To: Test Report; +Cc: dpdk-test-reports, Bruce Richardson
Test-Label: iol-broadcom-Performance
Test-Status: SUCCESS
http://dpdk.org/patch/157599
_Performance Testing PASS_
Submitter: Venkatesh Vemula <venkatesh.vemula@intel.com>
Date: Tuesday, October 14 2025 10:20:56
DPDK git baseline: Repo:dpdk-next-net-intel
Branch: master
CommitID:d2d0163cb4200ff7e450fd66eb6a92a931f06de7
157598-157599 --> performance testing pass
Upstream job id: Template-DTS-Pipeline#249449
Test environment and result as below:
Ubuntu 22.04
Kernel: 5.15
Compiler: gcc gcc (Ubuntu 11.4.0-1ubuntu1~22.04) 11.4.0
NIC: Broadcom Inc. and subsidiaries BCM57414 NetXtreme-E 10Gb/25Gb RDMA Ethernet Controller 16d7 25 Mbps
Fail/Total: 0/3
Detail performance results:
+------------+---------+----------+-------------+------------------------------+
| frame_size | txd/rxd | num_cpus | num_threads | throughput difference from |
| | | | | expected |
+============+=========+==========+=============+==============================+
| 64 | 128 | 1 | 1 | -0.5% |
+------------+---------+----------+-------------+------------------------------+
| 64 | 512 | 1 | 1 | -0.5% |
+------------+---------+----------+-------------+------------------------------+
| 64 | 2048 | 1 | 1 | 0.5% |
+------------+---------+----------+-------------+------------------------------+
Ubuntu 22.04
Kernel: 5.15
Compiler: gcc gcc (Ubuntu 11.4.0-1ubuntu1~22.04.2) 11.4.0
NIC: Arm Broadcom Inc. brcm_57414 25000 Mbps
Fail/Total: 0/2
Detail performance results:
+------------+---------+----------+-------------+------------------------------+
| frame_size | txd/rxd | num_cpus | num_threads | throughput difference from |
| | | | | expected |
+============+=========+==========+=============+==============================+
| 64 | 512 | 1 | 1 | -0.1% |
+------------+---------+----------+-------------+------------------------------+
| 64 | 2048 | 1 | 1 | 0.7% |
+------------+---------+----------+-------------+------------------------------+
To view detailed results, visit:
https://lab.dpdk.org/results/dashboard/patchsets/34282/
UNH-IOL DPDK Community Lab
To manage your email subscriptions, visit:
https://lab.dpdk.org/results/dashboard/preferences/subscriptions/
^ permalink raw reply [flat|nested] 19+ messages in thread
* |SUCCESS| pw157598-157599 [PATCH] [v7,2/2] net/cpfl: added CPFL devI
[not found] <20251014102056.459175-3-venkatesh.vemula@intel.com>
` (10 preceding siblings ...)
2025-10-15 9:49 ` dpdklab
@ 2025-10-15 9:54 ` dpdklab
2025-10-15 10:04 ` dpdklab
` (6 subsequent siblings)
18 siblings, 0 replies; 19+ messages in thread
From: dpdklab @ 2025-10-15 9:54 UTC (permalink / raw)
To: Test Report; +Cc: dpdk-test-reports, Bruce Richardson
Test-Label: iol-sample-apps-testing
Test-Status: SUCCESS
http://dpdk.org/patch/157599
_Testing PASS_
Submitter: Venkatesh Vemula <venkatesh.vemula@intel.com>
Date: Tuesday, October 14 2025 10:20:56
DPDK git baseline: Repo:dpdk-next-net-intel
Branch: master
CommitID:d2d0163cb4200ff7e450fd66eb6a92a931f06de7
157598-157599 --> testing pass
Upstream job id: ACVP-FIPS-testing#11430
Test environment and result as below:
+--------------+----------------------+----------------------+
| Environment | dpdk_fips_validation | compressdev_zlib_pmd |
+==============+======================+======================+
| Ubuntu 20.04 | PASS | SKIPPED |
+--------------+----------------------+----------------------+
| Ubuntu 22.04 | SKIPPED | PASS |
+--------------+----------------------+----------------------+
Ubuntu 20.04
Kernel: 5.15
Compiler: gcc gcc (Ubuntu 9.4.0-1ubuntu1~20.04.2) 9.4.0
Ubuntu 22.04
Kernel: 5.15
Compiler: gcc gcc (Ubuntu 11.4.0-1ubuntu1~22.04.2) 11.4.0
To view detailed results, visit:
https://lab.dpdk.org/results/dashboard/patchsets/34282/
UNH-IOL DPDK Community Lab
To manage your email subscriptions, visit:
https://lab.dpdk.org/results/dashboard/preferences/subscriptions/
^ permalink raw reply [flat|nested] 19+ messages in thread
* |SUCCESS| pw157598-157599 [PATCH] [v7,2/2] net/cpfl: added CPFL devI
[not found] <20251014102056.459175-3-venkatesh.vemula@intel.com>
` (11 preceding siblings ...)
2025-10-15 9:54 ` dpdklab
@ 2025-10-15 10:04 ` dpdklab
2025-10-15 10:04 ` dpdklab
` (5 subsequent siblings)
18 siblings, 0 replies; 19+ messages in thread
From: dpdklab @ 2025-10-15 10:04 UTC (permalink / raw)
To: Test Report; +Cc: dpdk-test-reports, Bruce Richardson
Test-Label: iol-sample-apps-testing
Test-Status: SUCCESS
http://dpdk.org/patch/157599
_Testing PASS_
Submitter: Venkatesh Vemula <venkatesh.vemula@intel.com>
Date: Tuesday, October 14 2025 10:20:56
DPDK git baseline: Repo:dpdk-next-net-intel
Branch: master
CommitID:d2d0163cb4200ff7e450fd66eb6a92a931f06de7
157598-157599 --> testing pass
Upstream job id: Template-DTS-Pipeline#249455
Test environment and result as below:
+--------------+----------------------+----------------------+
| Environment | dpdk_fips_validation | compressdev_zlib_pmd |
+==============+======================+======================+
| Ubuntu 20.04 | PASS | SKIPPED |
+--------------+----------------------+----------------------+
| Ubuntu 22.04 | SKIPPED | PASS |
+--------------+----------------------+----------------------+
Ubuntu 20.04
Kernel: 5.15
Compiler: gcc gcc (Ubuntu 9.4.0-1ubuntu1~20.04.2) 9.4.0
Ubuntu 22.04
Kernel: 5.15
Compiler: gcc gcc (Ubuntu 11.4.0-1ubuntu1~22.04.2) 11.4.0
To view detailed results, visit:
https://lab.dpdk.org/results/dashboard/patchsets/34282/
UNH-IOL DPDK Community Lab
To manage your email subscriptions, visit:
https://lab.dpdk.org/results/dashboard/preferences/subscriptions/
^ permalink raw reply [flat|nested] 19+ messages in thread
* |SUCCESS| pw157598-157599 [PATCH] [v7,2/2] net/cpfl: added CPFL devI
[not found] <20251014102056.459175-3-venkatesh.vemula@intel.com>
` (12 preceding siblings ...)
2025-10-15 10:04 ` dpdklab
@ 2025-10-15 10:04 ` dpdklab
2025-10-15 10:05 ` dpdklab
` (4 subsequent siblings)
18 siblings, 0 replies; 19+ messages in thread
From: dpdklab @ 2025-10-15 10:04 UTC (permalink / raw)
To: Test Report; +Cc: dpdk-test-reports, Bruce Richardson
Test-Label: iol-compile-amd64-testing
Test-Status: SUCCESS
http://dpdk.org/patch/157599
_Testing PASS_
Submitter: Venkatesh Vemula <venkatesh.vemula@intel.com>
Date: Tuesday, October 14 2025 10:20:56
DPDK git baseline: Repo:dpdk-next-net-intel
Branch: master
CommitID:d2d0163cb4200ff7e450fd66eb6a92a931f06de7
157598-157599 --> testing pass
Upstream job id: Generic-DPDK-Compile-Meson#434420
Test environment and result as below:
+-------------------------------+--------------------+-------------------+------------------+-------------------------+-------------------+----------------------+
| Environment | dpdk_meson_compile | dpdk_compile_spdk | dpdk_compile_ovs | dpdk_llvm_clang_compile | dpdk_msvc_compile | dpdk_mingw64_compile |
+===============================+====================+===================+==================+=========================+===================+======================+
| CentOS Stream 9 | PASS | PASS | SKIPPED | SKIPPED | SKIPPED | SKIPPED |
+-------------------------------+--------------------+-------------------+------------------+-------------------------+-------------------+----------------------+
| Debian GNU/Linux 12 | PASS | PASS | SKIPPED | SKIPPED | SKIPPED | SKIPPED |
+-------------------------------+--------------------+-------------------+------------------+-------------------------+-------------------+----------------------+
| Fedora Linux 42 | PASS | PASS | PASS | SKIPPED | SKIPPED | SKIPPED |
+-------------------------------+--------------------+-------------------+------------------+-------------------------+-------------------+----------------------+
| openSUSE Leap 15.6 | PASS | SKIPPED | SKIPPED | SKIPPED | SKIPPED | SKIPPED |
+-------------------------------+--------------------+-------------------+------------------+-------------------------+-------------------+----------------------+
| Red Hat Enterprise Linux 9.5 | PASS | SKIPPED | SKIPPED | SKIPPED | SKIPPED | SKIPPED |
+-------------------------------+--------------------+-------------------+------------------+-------------------------+-------------------+----------------------+
| Red Hat Enterprise Linux 8.10 | PASS | SKIPPED | SKIPPED | SKIPPED | SKIPPED | SKIPPED |
+-------------------------------+--------------------+-------------------+------------------+-------------------------+-------------------+----------------------+
| Ubuntu 20.04 | PASS | SKIPPED | SKIPPED | SKIPPED | SKIPPED | SKIPPED |
+-------------------------------+--------------------+-------------------+------------------+-------------------------+-------------------+----------------------+
| FreeBSD 14.2 | PASS | SKIPPED | SKIPPED | SKIPPED | SKIPPED | SKIPPED |
+-------------------------------+--------------------+-------------------+------------------+-------------------------+-------------------+----------------------+
| Ubuntu 22.04 | PASS | PASS | SKIPPED | SKIPPED | SKIPPED | SKIPPED |
+-------------------------------+--------------------+-------------------+------------------+-------------------------+-------------------+----------------------+
| Ubuntu 24.04 | PASS | PASS | PASS | SKIPPED | SKIPPED | SKIPPED |
+-------------------------------+--------------------+-------------------+------------------+-------------------------+-------------------+----------------------+
| Alpine Linux 3.22.0 | PASS | SKIPPED | SKIPPED | SKIPPED | SKIPPED | SKIPPED |
+-------------------------------+--------------------+-------------------+------------------+-------------------------+-------------------+----------------------+
| CentOS Stream 10 | PASS | SKIPPED | SKIPPED | SKIPPED | SKIPPED | SKIPPED |
+-------------------------------+--------------------+-------------------+------------------+-------------------------+-------------------+----------------------+
| Windows Server 2022 | SKIPPED | SKIPPED | SKIPPED | PASS | PASS | PASS |
+-------------------------------+--------------------+-------------------+------------------+-------------------------+-------------------+----------------------+
CentOS Stream 9
Kernel: 5.15
Compiler: gcc gcc (GCC) 11.5.0 20240719 (Red Hat 11.5.0-11)
Debian GNU/Linux 12
Kernel: 5.15
Compiler: gcc gcc (Debian 12.2.0-14+deb12u1) 12.2.0
Fedora Linux 42
Kernel: 5.15
Compiler: clang gcc (GCC) 15.2.1 20250808 (Red Hat 15.2.1-1)
openSUSE Leap 15.6
Kernel: 5.15
Compiler: gcc gcc (SUSE Linux) 7.5.0
Red Hat Enterprise Linux 9.5
Kernel: 5.15
Compiler: gcc gcc (GCC) 11.5.0 20240719 (Red Hat 11.5.0-2)
Red Hat Enterprise Linux 8.10
Kernel: 5.15
Compiler: gcc gcc (GCC) 8.5.0 20210514 (Red Hat 8.5.0-22)
Ubuntu 20.04
Kernel: 4.19
Compiler: gcc gcc (Ubuntu 9.4.0-1ubuntu1~20.04.2) 9.4.0
FreeBSD 14.2
Kernel: 14.2-RELEASE
Compiler: clang 18.1.6
Ubuntu 22.04
Kernel: 5.15
Compiler: gcc gcc (Ubuntu 11.4.0-1ubuntu1~22.04) 11.4.0
Ubuntu 24.04
Kernel: 5.15
Compiler: gcc gcc (Ubuntu 13.3.0-6ubuntu2~24.04) 13.3.0
Alpine Linux 3.22.0
Kernel: 5.15
Compiler: gcc gcc (Alpine 14.2.0) 14.2.0
CentOS Stream 10
Kernel: 5.15
Compiler: gcc gcc (GCC) 14.2.1 20250110 (Red Hat 14.2.1-8)
Windows Server 2022
Kernel: 10.0.20348.2031
Compiler: clang 15.0.7, gcc 14.1.0 (MinGW), and MSVC VS 19.39.33521
To view detailed results, visit:
https://lab.dpdk.org/results/dashboard/patchsets/34282/
UNH-IOL DPDK Community Lab
To manage your email subscriptions, visit:
https://lab.dpdk.org/results/dashboard/preferences/subscriptions/
^ permalink raw reply [flat|nested] 19+ messages in thread
* |SUCCESS| pw157598-157599 [PATCH] [v7,2/2] net/cpfl: added CPFL devI
[not found] <20251014102056.459175-3-venkatesh.vemula@intel.com>
` (13 preceding siblings ...)
2025-10-15 10:04 ` dpdklab
@ 2025-10-15 10:05 ` dpdklab
2025-10-15 10:08 ` dpdklab
` (3 subsequent siblings)
18 siblings, 0 replies; 19+ messages in thread
From: dpdklab @ 2025-10-15 10:05 UTC (permalink / raw)
To: Test Report; +Cc: dpdk-test-reports, Bruce Richardson
Test-Label: iol-unit-amd64-testing
Test-Status: SUCCESS
http://dpdk.org/patch/157599
_Testing PASS_
Submitter: Venkatesh Vemula <venkatesh.vemula@intel.com>
Date: Tuesday, October 14 2025 10:20:56
DPDK git baseline: Repo:dpdk-next-net-intel
Branch: master
CommitID:d2d0163cb4200ff7e450fd66eb6a92a931f06de7
157598-157599 --> testing pass
Upstream job id: Generic-VM-Unit-Test-DPDK#31804
Test environment and result as below:
+-------------------------------+----------------+
| Environment | dpdk_unit_test |
+===============================+================+
| CentOS Stream 9 | PASS |
+-------------------------------+----------------+
| CentOS Stream 10 | PASS |
+-------------------------------+----------------+
| Debian GNU/Linux 12 | PASS |
+-------------------------------+----------------+
| Fedora Linux 40 | PASS |
+-------------------------------+----------------+
| Fedora Linux 41 | PASS |
+-------------------------------+----------------+
| Fedora Linux 42 | PASS |
+-------------------------------+----------------+
| Red Hat Enterprise Linux 9.5 | PASS |
+-------------------------------+----------------+
| Red Hat Enterprise Linux 8.10 | PASS |
+-------------------------------+----------------+
| Ubuntu 20.04 | PASS |
+-------------------------------+----------------+
| Ubuntu 24.04 | PASS |
+-------------------------------+----------------+
| Ubuntu 22.04 | PASS |
+-------------------------------+----------------+
| Windows Server 2022 | PASS |
+-------------------------------+----------------+
CentOS Stream 9
Kernel: 5.15
Compiler: gcc gcc (GCC) 11.5.0 20240719 (Red Hat 11.5.0-11)
CentOS Stream 10
Kernel: 5.15
Compiler: gcc gcc (GCC) 14.2.1 20250110 (Red Hat 14.2.1-8)
Debian GNU/Linux 12
Kernel: 5.15
Compiler: gcc gcc (Debian 12.2.0-14+deb12u1) 12.2.0
Fedora Linux 40
Kernel: 5.15
Compiler: gcc gcc (GCC) 14.2.1 20240912 (Red Hat 14.2.1-3)
Fedora Linux 41
Kernel: 5.15
Compiler: gcc gcc (GCC) 14.3.1 20250523 (Red Hat 14.3.1-1)
Fedora Linux 42
Kernel: 5.15
Compiler: clang gcc (GCC) 15.2.1 20250808 (Red Hat 15.2.1-1)
Red Hat Enterprise Linux 9.5
Kernel: 5.15
Compiler: gcc gcc (GCC) 11.5.0 20240719 (Red Hat 11.5.0-2)
Red Hat Enterprise Linux 8.10
Kernel: 5.15
Compiler: gcc gcc (GCC) 8.5.0 20210514 (Red Hat 8.5.0-22)
Ubuntu 20.04
Kernel: 5.15
Compiler: gcc gcc (Ubuntu 9.4.0-1ubuntu1~20.04.2) 9.4.0
Ubuntu 24.04
Kernel: 5.15
Compiler: gcc gcc (Ubuntu 13.3.0-6ubuntu2~24.04) 13.3.0
Ubuntu 22.04
Kernel: 5.15
Compiler: gcc gcc (Ubuntu 11.4.0-1ubuntu1~22.04) 11.4.0
Windows Server 2022
Kernel: 10.0.20348.2031
Compiler: clang 15.0.7, gcc 14.1.0 (MinGW), and MSVC VS 19.39.33521
To view detailed results, visit:
https://lab.dpdk.org/results/dashboard/patchsets/34282/
UNH-IOL DPDK Community Lab
To manage your email subscriptions, visit:
https://lab.dpdk.org/results/dashboard/preferences/subscriptions/
^ permalink raw reply [flat|nested] 19+ messages in thread
* |SUCCESS| pw157598-157599 [PATCH] [v7,2/2] net/cpfl: added CPFL devI
[not found] <20251014102056.459175-3-venkatesh.vemula@intel.com>
` (14 preceding siblings ...)
2025-10-15 10:05 ` dpdklab
@ 2025-10-15 10:08 ` dpdklab
2025-10-15 10:09 ` dpdklab
` (2 subsequent siblings)
18 siblings, 0 replies; 19+ messages in thread
From: dpdklab @ 2025-10-15 10:08 UTC (permalink / raw)
To: Test Report; +Cc: dpdk-test-reports, Bruce Richardson
Test-Label: iol-intel-Functional
Test-Status: SUCCESS
http://dpdk.org/patch/157599
_Functional Testing PASS_
Submitter: Venkatesh Vemula <venkatesh.vemula@intel.com>
Date: Tuesday, October 14 2025 10:20:56
DPDK git baseline: Repo:dpdk-next-net-intel
Branch: master
CommitID:d2d0163cb4200ff7e450fd66eb6a92a931f06de7
157598-157599 --> functional testing pass
Upstream job id: Template-DTS-Pipeline#249453
Test environment and result as below:
Ubuntu 20.04
Kernel: 5.4
Compiler: gcc gcc (Ubuntu 9.4.0-1ubuntu1~20.04.1) 9.4.0
NIC: Intel Corporation Ethernet Converged Network Adapter XL710-QDA2 40000 Mbps
Aggregate Results by Test Suite
+-----------------------------+--------+
| Test Suite | Result |
+=============================+========+
| unit_tests_mbuf | PASS |
+-----------------------------+--------+
| vhost_virtio_user_interrupt | PASS |
+-----------------------------+--------+
| virtio_smoke | PASS |
+-----------------------------+--------+
Ubuntu 22.04
Kernel: 5.15
Compiler: gcc gcc (Ubuntu 11.4.0-1ubuntu1~22.04.2) 11.4.0
NIC: Intel Corporation QAT 8970 0 Mbps
Aggregate Results by Test Suite
+----------------------------+--------+
| Test Suite | Result |
+============================+========+
| crypto_perf_cryptodev_perf | PASS |
+----------------------------+--------+
To view detailed results, visit:
https://lab.dpdk.org/results/dashboard/patchsets/34282/
UNH-IOL DPDK Community Lab
To manage your email subscriptions, visit:
https://lab.dpdk.org/results/dashboard/preferences/subscriptions/
^ permalink raw reply [flat|nested] 19+ messages in thread
* |SUCCESS| pw157598-157599 [PATCH] [v7,2/2] net/cpfl: added CPFL devI
[not found] <20251014102056.459175-3-venkatesh.vemula@intel.com>
` (15 preceding siblings ...)
2025-10-15 10:08 ` dpdklab
@ 2025-10-15 10:09 ` dpdklab
2025-10-15 13:04 ` dpdklab
2025-10-15 17:28 ` dpdklab
18 siblings, 0 replies; 19+ messages in thread
From: dpdklab @ 2025-10-15 10:09 UTC (permalink / raw)
To: Test Report; +Cc: dpdk-test-reports, Bruce Richardson
Test-Label: iol-unit-amd64-testing
Test-Status: SUCCESS
http://dpdk.org/patch/157599
_Testing PASS_
Submitter: Venkatesh Vemula <venkatesh.vemula@intel.com>
Date: Tuesday, October 14 2025 10:20:56
DPDK git baseline: Repo:dpdk-next-net-intel
Branch: master
CommitID:d2d0163cb4200ff7e450fd66eb6a92a931f06de7
157598-157599 --> testing pass
Upstream job id: Generic-VM-Unit-Test-DPDK#31805
Test environment and result as below:
+-------------------------------+----------------+
| Environment | dpdk_unit_test |
+===============================+================+
| CentOS Stream 9 | PASS |
+-------------------------------+----------------+
| CentOS Stream 10 | PASS |
+-------------------------------+----------------+
| Debian GNU/Linux 12 | PASS |
+-------------------------------+----------------+
| Fedora Linux 40 | PASS |
+-------------------------------+----------------+
| Fedora Linux 41 | PASS |
+-------------------------------+----------------+
| Fedora Linux 42 | PASS |
+-------------------------------+----------------+
| Red Hat Enterprise Linux 9.5 | PASS |
+-------------------------------+----------------+
| Red Hat Enterprise Linux 8.10 | PASS |
+-------------------------------+----------------+
| Ubuntu 20.04 | PASS |
+-------------------------------+----------------+
| Ubuntu 24.04 | PASS |
+-------------------------------+----------------+
| Ubuntu 22.04 | PASS |
+-------------------------------+----------------+
| Windows Server 2022 | PASS |
+-------------------------------+----------------+
CentOS Stream 9
Kernel: 5.15
Compiler: gcc gcc (GCC) 11.5.0 20240719 (Red Hat 11.5.0-11)
CentOS Stream 10
Kernel: 5.15
Compiler: gcc gcc (GCC) 14.2.1 20250110 (Red Hat 14.2.1-8)
Debian GNU/Linux 12
Kernel: 5.15
Compiler: gcc gcc (Debian 12.2.0-14+deb12u1) 12.2.0
Fedora Linux 40
Kernel: 5.15
Compiler: gcc gcc (GCC) 14.2.1 20240912 (Red Hat 14.2.1-3)
Fedora Linux 41
Kernel: 5.15
Compiler: gcc gcc (GCC) 14.3.1 20250523 (Red Hat 14.3.1-1)
Fedora Linux 42
Kernel: 5.15
Compiler: clang gcc (GCC) 15.2.1 20250808 (Red Hat 15.2.1-1)
Red Hat Enterprise Linux 9.5
Kernel: 5.15
Compiler: gcc gcc (GCC) 11.5.0 20240719 (Red Hat 11.5.0-2)
Red Hat Enterprise Linux 8.10
Kernel: 5.15
Compiler: gcc gcc (GCC) 8.5.0 20210514 (Red Hat 8.5.0-22)
Ubuntu 20.04
Kernel: 5.15
Compiler: gcc gcc (Ubuntu 9.4.0-1ubuntu1~20.04.2) 9.4.0
Ubuntu 24.04
Kernel: 5.15
Compiler: gcc gcc (Ubuntu 13.3.0-6ubuntu2~24.04) 13.3.0
Ubuntu 22.04
Kernel: 5.15
Compiler: gcc gcc (Ubuntu 11.4.0-1ubuntu1~22.04) 11.4.0
Windows Server 2022
Kernel: 10.0.20348.2031
Compiler: clang 15.0.7, gcc 14.1.0 (MinGW), and MSVC VS 19.39.33521
To view detailed results, visit:
https://lab.dpdk.org/results/dashboard/patchsets/34282/
UNH-IOL DPDK Community Lab
To manage your email subscriptions, visit:
https://lab.dpdk.org/results/dashboard/preferences/subscriptions/
^ permalink raw reply [flat|nested] 19+ messages in thread
* |SUCCESS| pw157598-157599 [PATCH] [v7,2/2] net/cpfl: added CPFL devI
[not found] <20251014102056.459175-3-venkatesh.vemula@intel.com>
` (16 preceding siblings ...)
2025-10-15 10:09 ` dpdklab
@ 2025-10-15 13:04 ` dpdklab
2025-10-15 17:28 ` dpdklab
18 siblings, 0 replies; 19+ messages in thread
From: dpdklab @ 2025-10-15 13:04 UTC (permalink / raw)
To: Test Report; +Cc: dpdk-test-reports, Bruce Richardson
Test-Label: iol-compile-arm64-testing
Test-Status: SUCCESS
http://dpdk.org/patch/157599
_Testing PASS_
Submitter: Venkatesh Vemula <venkatesh.vemula@intel.com>
Date: Tuesday, October 14 2025 10:20:56
DPDK git baseline: Repo:dpdk-next-net-intel
Branch: master
CommitID:d2d0163cb4200ff7e450fd66eb6a92a931f06de7
157598-157599 --> testing pass
Upstream job id: Generic-DPDK-Compile-Meson#434408
Test environment and result as below:
+------------------------------+--------------------+
| Environment | dpdk_meson_compile |
+==============================+====================+
| Red Hat Enterprise Linux 9.5 | PASS |
+------------------------------+--------------------+
| Ubuntu 20.04 | PASS |
+------------------------------+--------------------+
| Debian GNU/Linux 12 | PASS |
+------------------------------+--------------------+
| Fedora Linux 42 | PASS |
+------------------------------+--------------------+
| Ubuntu 22.04 | PASS |
+------------------------------+--------------------+
| CentOS Stream 9 | PASS |
+------------------------------+--------------------+
| CentOS Stream 10 | PASS |
+------------------------------+--------------------+
| Ubuntu 24.04 | PASS |
+------------------------------+--------------------+
Red Hat Enterprise Linux 9.5
Kernel: 5.4
Compiler: gcc gcc (GCC) 11.5.0 20240719 (Red Hat 11.5.0-2)
Ubuntu 20.04
Kernel: 5.15
Compiler: aarch64-linux-gnu-gcc gcc (Ubuntu 9.4.0-1ubuntu1~20.04.2) 9.4.0
Debian GNU/Linux 12
Kernel: 5.4
Compiler: gcc gcc (Debian 12.2.0-14+deb12u1) 12.2.0
Fedora Linux 42
Kernel: 5.4
Compiler: gcc gcc (GCC) 15.2.1 20250808 (Red Hat 15.2.1-1)
Ubuntu 22.04
Kernel: 5.4
Compiler: gcc gcc (Ubuntu 11.4.0-1ubuntu1~22.04) 11.4.0
CentOS Stream 9
Kernel: 5.4
Compiler: gcc gcc (GCC) 11.5.0 20240719 (Red Hat 11.5.0-11)
CentOS Stream 10
Kernel: 5.4
Compiler: gcc gcc (GCC) 14.2.1 20250110 (Red Hat 14.2.1-8)
Ubuntu 24.04
Kernel: 5.4
Compiler: gcc gcc (Ubuntu 13.3.0-6ubuntu2~24.04) 13.3.0
To view detailed results, visit:
https://lab.dpdk.org/results/dashboard/patchsets/34282/
UNH-IOL DPDK Community Lab
To manage your email subscriptions, visit:
https://lab.dpdk.org/results/dashboard/preferences/subscriptions/
^ permalink raw reply [flat|nested] 19+ messages in thread
* |SUCCESS| pw157598-157599 [PATCH] [v7,2/2] net/cpfl: added CPFL devI
[not found] <20251014102056.459175-3-venkatesh.vemula@intel.com>
` (17 preceding siblings ...)
2025-10-15 13:04 ` dpdklab
@ 2025-10-15 17:28 ` dpdklab
18 siblings, 0 replies; 19+ messages in thread
From: dpdklab @ 2025-10-15 17:28 UTC (permalink / raw)
To: Test Report; +Cc: dpdk-test-reports, Bruce Richardson
Test-Label: iol-unit-arm64-testing
Test-Status: SUCCESS
http://dpdk.org/patch/157599
_Testing PASS_
Submitter: Venkatesh Vemula <venkatesh.vemula@intel.com>
Date: Tuesday, October 14 2025 10:20:56
DPDK git baseline: Repo:dpdk-next-net-intel
Branch: master
CommitID:d2d0163cb4200ff7e450fd66eb6a92a931f06de7
157598-157599 --> testing pass
Upstream job id: Generic-Unit-Test-DPDK#381587
Test environment and result as below:
+------------------------------+---------------------------+--------------+----------------+------------------------------+
| Environment | cryptodev_sw_zuc_autotest | lpm_autotest | dpdk_unit_test | cryptodev_sw_snow3g_autotest |
+==============================+===========================+==============+================+==============================+
| Debian 12 (arm) | PASS | SKIPPED | SKIPPED | PASS |
+------------------------------+---------------------------+--------------+----------------+------------------------------+
| Ubuntu 20.04 | SKIPPED | PASS | PASS | SKIPPED |
+------------------------------+---------------------------+--------------+----------------+------------------------------+
| CentOS Stream 10 | SKIPPED | SKIPPED | PASS | SKIPPED |
+------------------------------+---------------------------+--------------+----------------+------------------------------+
| CentOS Stream 9 | SKIPPED | SKIPPED | PASS | SKIPPED |
+------------------------------+---------------------------+--------------+----------------+------------------------------+
| Debian GNU/Linux 12 | SKIPPED | SKIPPED | PASS | SKIPPED |
+------------------------------+---------------------------+--------------+----------------+------------------------------+
| Fedora Linux 40 | SKIPPED | SKIPPED | PASS | SKIPPED |
+------------------------------+---------------------------+--------------+----------------+------------------------------+
| Fedora Linux 41 | SKIPPED | SKIPPED | PASS | SKIPPED |
+------------------------------+---------------------------+--------------+----------------+------------------------------+
| Fedora Linux 42 | SKIPPED | SKIPPED | PASS | SKIPPED |
+------------------------------+---------------------------+--------------+----------------+------------------------------+
| Ubuntu 22.04 | SKIPPED | SKIPPED | PASS | SKIPPED |
+------------------------------+---------------------------+--------------+----------------+------------------------------+
| Red Hat Enterprise Linux 9.5 | SKIPPED | SKIPPED | PASS | SKIPPED |
+------------------------------+---------------------------+--------------+----------------+------------------------------+
| Ubuntu 24.04 | SKIPPED | SKIPPED | PASS | SKIPPED |
+------------------------------+---------------------------+--------------+----------------+------------------------------+
Debian 12 (arm)
Kernel: Depends on container host
Compiler: gcc (Debian 12.2.0-14) 12.2.0
Ubuntu 20.04
Kernel: 5.4
Compiler: gcc gcc (Ubuntu 9.4.0-1ubuntu1~20.04.2) 9.4.0
CentOS Stream 10
Kernel: 5.4
Compiler: gcc gcc (GCC) 14.2.1 20250110 (Red Hat 14.2.1-8)
CentOS Stream 9
Kernel: 5.4
Compiler: gcc gcc (GCC) 11.5.0 20240719 (Red Hat 11.5.0-11)
Debian GNU/Linux 12
Kernel: 5.4
Compiler: gcc gcc (Debian 12.2.0-14+deb12u1) 12.2.0
Fedora Linux 40
Kernel: 5.4
Compiler: gcc gcc (GCC) 14.2.1 20240912 (Red Hat 14.2.1-3)
Fedora Linux 41
Kernel: 5.4
Compiler: gcc gcc (GCC) 14.3.1 20250523 (Red Hat 14.3.1-1)
Fedora Linux 42
Kernel: 5.4
Compiler: clang gcc (GCC) 15.2.1 20250808 (Red Hat 15.2.1-1)
Ubuntu 22.04
Kernel: 5.4
Compiler: gcc gcc (Ubuntu 11.4.0-1ubuntu1~22.04) 11.4.0
Red Hat Enterprise Linux 9.5
Kernel: 5.4
Compiler: gcc gcc (GCC) 11.5.0 20240719 (Red Hat 11.5.0-2)
Ubuntu 24.04
Kernel: 5.4
Compiler: gcc gcc (Ubuntu 13.3.0-6ubuntu2~24.04) 13.3.0
To view detailed results, visit:
https://lab.dpdk.org/results/dashboard/patchsets/34282/
UNH-IOL DPDK Community Lab
To manage your email subscriptions, visit:
https://lab.dpdk.org/results/dashboard/preferences/subscriptions/
^ permalink raw reply [flat|nested] 19+ messages in thread