From mboxrd@z Thu Jan 1 00:00:00 1970 Return-Path: Received: from mails.dpdk.org (mails.dpdk.org [217.70.189.124]) by inbox.dpdk.org (Postfix) with ESMTP id 1F4D348946 for ; Wed, 15 Oct 2025 21:19:50 +0200 (CEST) Received: from mails.dpdk.org (localhost [127.0.0.1]) by mails.dpdk.org (Postfix) with ESMTP id 1A98F40B9D; Wed, 15 Oct 2025 21:19:50 +0200 (CEST) Received: from mail-pf1-f225.google.com (mail-pf1-f225.google.com [209.85.210.225]) by mails.dpdk.org (Postfix) with ESMTP id 679A240273 for ; Wed, 15 Oct 2025 21:19:49 +0200 (CEST) Received: by mail-pf1-f225.google.com with SMTP id d2e1a72fcca58-7811fa91774so6072513b3a.0 for ; Wed, 15 Oct 2025 12:19:49 -0700 (PDT) DKIM-Signature: v=1; a=rsa-sha256; c=relaxed/relaxed; d=iol.unh.edu; s=unh-iol; t=1760555988; x=1761160788; darn=dpdk.org; h=references:in-reply-to:cc:to:from:subject:message-id:date:from:to :cc:subject:date:message-id:reply-to; bh=QeqxUW4uwYPB3dFrz2uP1YRyYJDkxpkeccLGt2wTAxM=; b=XRmQowUkzIEXuJoAhT6NYqmQTGFa3Mr+O7aOMyqy3/qQv69BlRS6qweNMm7kc/xczX 58t4d1A68QiDWQYrbRCsV0uy7yUzSDaaD1p/locf/a1J+UCVOGeE632q894YgOirO8uP qqKeQ8lfXMeNF7ztlRAm/dmoy12KOrxKo1DCc= X-Google-DKIM-Signature: v=1; a=rsa-sha256; c=relaxed/relaxed; d=1e100.net; s=20230601; t=1760555988; x=1761160788; h=references:in-reply-to:cc:to:from:subject:message-id:date :x-gm-message-state:from:to:cc:subject:date:message-id:reply-to; bh=QeqxUW4uwYPB3dFrz2uP1YRyYJDkxpkeccLGt2wTAxM=; b=rNdNNhWc4KAlSIkvdcn7fm/1kHfQZVSkDYZP1mZRwCAPw9A/Djkw5FWJ58Ah8cMML7 Hr5YxL+KoEfQlk3d1Br5mqHaR6DYwF7cUL29zTW7g7R0NhmPPI+ZAxhkze40pF03H6jW E5kIKHmNevTw/lMbUyztxZzMb5UPp2t/o+Bq2NlrwTkA3UFJOxMlgweoiPvftMQ+gDib ymInjjqSpPiuFqC3LJoKo3/KzJiVVDOZnSu+mzvz1rBFxP7SytufF44+l05tcUk1rHEo KjKpZ/hbGlf/A9xWM16nQFaPegg2S+keoOm2GgkDY6ZWxyDqr5gad2rnf8bDz0XVuQ6H GGyQ== X-Gm-Message-State: AOJu0Yw5ghflu7Vn3eXNgHZ7sdlNl2khrB4p0Pi5ETyHwLW678VX/3jo LMIuZQCiwKYv2+E/01GOUXq9JSYDb1v/KXTLO3hc1KtvvCDT78NjRbaXuNxiF7hYAoVozfJyN/H WDFXfMLMf2PUN9lcG906zCB5N5VxPyWtvy0C2I9Ilvn+5B0RxjVUUYFkx6WZK X-Gm-Gg: ASbGncuEksjePTDFazU0CRQerRPz1L8ppVCi8DCIfO6BFwzHXUQEZmcQM6hs8/L1ll0 qP5NfmLAdGhk8nHcllve4kZRjCHYfmtTQJwwxOjIAnr/yyZoFvTF8+qgDDdF9pP1BqJkw2dBJ5s FhWqkpt9MLimA+LgV4AC1TlZf4vNlahqR1DS7Fl9pcx8CJkPEsJgSj/xOTeAGJLKKc9l9v3yum+ Vm35wBWPnHJsbdNC8bHnnBq/i4kBjA5Zqp9iPbRe85HUkSZAy3LkjFtPYve3z0VukO06jVcSmZ2 CrylVYKSlP3l6cyZ8AdHOqncqgWlCbSn8Twq/j2eoZkrWKyS7w== X-Google-Smtp-Source: AGHT+IGzeTqJ/+dWFWXgWihZKtcqQ2VsW4CIigdW09e7yYNZoMPb1nxWKWxDxRADHh3TIpnwgX4mIEsAfc5N X-Received: by 2002:a05:6a00:2e96:b0:781:d163:ce41 with SMTP id d2e1a72fcca58-79385ce7bfcmr32907994b3a.11.1760555988357; Wed, 15 Oct 2025 12:19:48 -0700 (PDT) Received: from postal.iol.unh.edu (postal.iol.unh.edu. [2606:4100:3880:1234::84]) by smtp-relay.gmail.com with ESMTPS id d2e1a72fcca58-7993330e74bsm1416128b3a.8.2025.10.15.12.19.48 (version=TLS1_2 cipher=ECDHE-ECDSA-AES128-GCM-SHA256 bits=128/128); Wed, 15 Oct 2025 12:19:48 -0700 (PDT) X-Relaying-Domain: iol.unh.edu Date: Wed, 15 Oct 2025 12:19:48 -0700 (PDT) Message-ID: <68eff3d4.050a0220.175d29.49b6SMTPIN_ADDED_MISSING@mx.google.com> Received: from [172.21.0.2] (unknown [172.18.0.240]) by postal.iol.unh.edu (Postfix) with ESMTP id 46B166051830; Wed, 15 Oct 2025 15:19:47 -0400 (EDT) Subject: |SUCCESS| pw157682 [PATCH] [v2] net/i40e: fix symmetric toeplitz has From: dpdklab@iol.unh.edu To: Test Report Cc: dpdk-test-reports@iol.unh.edu, Bruce Richardson In-Reply-To: <20251015181150.93621-1-anurag.mandal@intel.com> References: <20251015181150.93621-1-anurag.mandal@intel.com> Content-Type: text/plain X-BeenThere: test-report@dpdk.org X-Mailman-Version: 2.1.29 Precedence: list List-Id: automatic DPDK test reports List-Unsubscribe: , List-Archive: List-Post: List-Help: List-Subscribe: , Errors-To: test-report-bounces@dpdk.org Test-Label: iol-compile-amd64-testing Test-Status: SUCCESS http://dpdk.org/patch/157682 _Testing PASS_ Submitter: Anurag Mandal Date: Wednesday, October 15 2025 18:11:50 DPDK git baseline: Repo:dpdk-next-net-intel Branch: master CommitID:d2d0163cb4200ff7e450fd66eb6a92a931f06de7 157682 --> testing pass Upstream job id: Generic-DPDK-Compile-Meson#434570 Test environment and result as below: +-------------------------------+--------------------+-------------------+------------------+-------------------------+-------------------+----------------------+ | Environment | dpdk_meson_compile | dpdk_compile_spdk | dpdk_compile_ovs | dpdk_llvm_clang_compile | dpdk_msvc_compile | dpdk_mingw64_compile | +===============================+====================+===================+==================+=========================+===================+======================+ | CentOS Stream 9 | PASS | PASS | SKIPPED | SKIPPED | SKIPPED | SKIPPED | +-------------------------------+--------------------+-------------------+------------------+-------------------------+-------------------+----------------------+ | CentOS Stream 10 | PASS | SKIPPED | SKIPPED | SKIPPED | SKIPPED | SKIPPED | +-------------------------------+--------------------+-------------------+------------------+-------------------------+-------------------+----------------------+ | Debian GNU/Linux 12 | PASS | PASS | SKIPPED | SKIPPED | SKIPPED | SKIPPED | +-------------------------------+--------------------+-------------------+------------------+-------------------------+-------------------+----------------------+ | Fedora Linux 42 | PASS | PASS | PASS | SKIPPED | SKIPPED | SKIPPED | +-------------------------------+--------------------+-------------------+------------------+-------------------------+-------------------+----------------------+ | Ubuntu 20.04 | PASS | SKIPPED | SKIPPED | SKIPPED | SKIPPED | SKIPPED | +-------------------------------+--------------------+-------------------+------------------+-------------------------+-------------------+----------------------+ | openSUSE Leap 15.6 | PASS | SKIPPED | SKIPPED | SKIPPED | SKIPPED | SKIPPED | +-------------------------------+--------------------+-------------------+------------------+-------------------------+-------------------+----------------------+ | Red Hat Enterprise Linux 8.10 | PASS | SKIPPED | SKIPPED | SKIPPED | SKIPPED | SKIPPED | +-------------------------------+--------------------+-------------------+------------------+-------------------------+-------------------+----------------------+ | Red Hat Enterprise Linux 9.5 | PASS | SKIPPED | SKIPPED | SKIPPED | SKIPPED | SKIPPED | +-------------------------------+--------------------+-------------------+------------------+-------------------------+-------------------+----------------------+ | Ubuntu 22.04 | PASS | PASS | SKIPPED | SKIPPED | SKIPPED | SKIPPED | +-------------------------------+--------------------+-------------------+------------------+-------------------------+-------------------+----------------------+ | FreeBSD 14.2 | PASS | SKIPPED | SKIPPED | SKIPPED | SKIPPED | SKIPPED | +-------------------------------+--------------------+-------------------+------------------+-------------------------+-------------------+----------------------+ | Ubuntu 24.04 | PASS | PASS | PASS | SKIPPED | SKIPPED | SKIPPED | +-------------------------------+--------------------+-------------------+------------------+-------------------------+-------------------+----------------------+ | Alpine Linux 3.22.0 | PASS | SKIPPED | SKIPPED | SKIPPED | SKIPPED | SKIPPED | +-------------------------------+--------------------+-------------------+------------------+-------------------------+-------------------+----------------------+ | Windows Server 2022 | SKIPPED | SKIPPED | SKIPPED | PASS | PASS | PASS | +-------------------------------+--------------------+-------------------+------------------+-------------------------+-------------------+----------------------+ CentOS Stream 9 Kernel: 5.15 Compiler: gcc gcc (GCC) 11.5.0 20240719 (Red Hat 11.5.0-11) CentOS Stream 10 Kernel: 5.15 Compiler: gcc gcc (GCC) 14.2.1 20250110 (Red Hat 14.2.1-8) Debian GNU/Linux 12 Kernel: 5.15 Compiler: gcc gcc (Debian 12.2.0-14+deb12u1) 12.2.0 Fedora Linux 42 Kernel: 5.15 Compiler: clang gcc (GCC) 15.2.1 20250808 (Red Hat 15.2.1-1) Ubuntu 20.04 Kernel: 4.19 Compiler: gcc gcc (Ubuntu 9.4.0-1ubuntu1~20.04.2) 9.4.0 openSUSE Leap 15.6 Kernel: 5.15 Compiler: gcc gcc (SUSE Linux) 7.5.0 Red Hat Enterprise Linux 8.10 Kernel: 5.15 Compiler: gcc gcc (GCC) 8.5.0 20210514 (Red Hat 8.5.0-22) Red Hat Enterprise Linux 9.5 Kernel: 5.15 Compiler: gcc gcc (GCC) 11.5.0 20240719 (Red Hat 11.5.0-2) Ubuntu 22.04 Kernel: 5.15 Compiler: gcc gcc (Ubuntu 11.4.0-1ubuntu1~22.04) 11.4.0 FreeBSD 14.2 Kernel: 14.2-RELEASE Compiler: clang 18.1.6 Ubuntu 24.04 Kernel: 5.15 Compiler: gcc gcc (Ubuntu 13.3.0-6ubuntu2~24.04) 13.3.0 Alpine Linux 3.22.0 Kernel: 5.15 Compiler: gcc gcc (Alpine 14.2.0) 14.2.0 Windows Server 2022 Kernel: 10.0.20348.2031 Compiler: clang 15.0.7, gcc 14.1.0 (MinGW), and MSVC VS 19.39.33521 To view detailed results, visit: https://lab.dpdk.org/results/dashboard/patchsets/34287/ UNH-IOL DPDK Community Lab To manage your email subscriptions, visit: https://lab.dpdk.org/results/dashboard/preferences/subscriptions/