From mboxrd@z Thu Jan 1 00:00:00 1970 Return-Path: Received: from mails.dpdk.org (mails.dpdk.org [217.70.189.124]) by inbox.dpdk.org (Postfix) with ESMTP id 8EDC248946 for ; Wed, 15 Oct 2025 21:22:58 +0200 (CEST) Received: from mails.dpdk.org (localhost [127.0.0.1]) by mails.dpdk.org (Postfix) with ESMTP id 6F7C740273; Wed, 15 Oct 2025 21:22:58 +0200 (CEST) Received: from mail-ot1-f98.google.com (mail-ot1-f98.google.com [209.85.210.98]) by mails.dpdk.org (Postfix) with ESMTP id 6F2F540273 for ; Wed, 15 Oct 2025 21:22:57 +0200 (CEST) Received: by mail-ot1-f98.google.com with SMTP id 46e09a7af769-7a4a993dea6so2271120a34.1 for ; Wed, 15 Oct 2025 12:22:57 -0700 (PDT) DKIM-Signature: v=1; a=rsa-sha256; c=relaxed/relaxed; d=iol.unh.edu; s=unh-iol; t=1760556176; x=1761160976; darn=dpdk.org; h=references:in-reply-to:cc:to:from:subject:message-id:date:from:to :cc:subject:date:message-id:reply-to; bh=DWX5/YET2nFvcWsk0VOSKgRqpKQyqnQzVd+EHqg7ALs=; b=IUm6rvBUNiyvA6TJ6L4Z+oEtDucszQWeqKwBJ7qpdLIaxDYeiV3brspOeYfCC1Q3Mj xHa/R7F82n608G80gtS/SEXp7KA46N6J91W3IP0tZSGsgwGU43Sd0244WjeGNH2VhSNy uzsF4pwOzE2FbVnBS/D/dCVFvQ6M/rkSElAB4= X-Google-DKIM-Signature: v=1; a=rsa-sha256; c=relaxed/relaxed; d=1e100.net; s=20230601; t=1760556176; x=1761160976; h=references:in-reply-to:cc:to:from:subject:message-id:date :x-gm-message-state:from:to:cc:subject:date:message-id:reply-to; bh=DWX5/YET2nFvcWsk0VOSKgRqpKQyqnQzVd+EHqg7ALs=; b=rcRF9xMNzgNKlDS3HE8AzH+RZ0MCxaHUGo9zl/MjN/ML/Ka0ipeHrP1ZwfiKf6XVNm pRyCmdjlZ8iOCdcrwcaRE6YHFg5ly5IXmP2wZL4mdGX6wIuFXjbNg9qPRXZIo4c+akPr 8lxwYj7kq65bFA/NUK1UkHasdIL3Bv+c7lADxhuM80GVNLvES+l50UfmPyunczePSmB6 roZhR+Jwzxsk2o7VB/dhF6VTbhd5VBPxNP3LsB8s1ls/MlofedZ3yzsTz8sVRv8ljXTk HCdtJdHaC3GjFlWYwp1JA7qxO3F4OPsIyaDuBgAX/vZWaiespeycgMhW0qlYO/BEKtFu EKhQ== X-Gm-Message-State: AOJu0YwNdrugvO1/8Z6Y8XIYcfTuQ5Yg5/lcpF1BejX8M2B02LK14sxg zxJ/2NHHxJZ8F2pVZutiXpOXEoVT4xBhHbtatwV8p0uxx2t9Nlg92dHHDgFbwkCnmv4oCO6dO4h 2f4KzuOU5RoN5k6pMLy11x6pA5zT3DfsFT92n2jcblUIORgRQdQ6TJxVQ8/20 X-Gm-Gg: ASbGncvGzTgAlwWZMQD2etx7R0yQXclmaj58sZf6iBmhvIfyYJIo4wNHQSU1keZtEc9 zji6mCgVtWZrCwlQqMrTEjqfcfz1afRZBqskFqjfe1Bgx6uG3+lujsLGnOQcAIt4cOZp2fHdIav DXAW6cDZQ9NaHbR/7A6qIkBCXXGd1821XQd8MwYXj1+Qbi3ZI3CXbm7j1wFk0NwTAgcrX+COM/o l7k+JunId7DT29sVn/hgj+izNHcBTUQl6V7tdlqgEigtGK8AUh9f7T612EB/BRe4EZRHXP5gNRq 1Job6bT/BXN9f55AbjRwQ8ihq95a72kdfncdFJocofKsV9V2iw== X-Google-Smtp-Source: AGHT+IE7GEsLOOoOQ/x6xbVKCn/NHF1T5CIkEbvnJmwSnolxA1xQvrkYj5t/A7mW4+odyypKYFbRVSfgcKv4 X-Received: by 2002:a05:6830:2a9e:b0:745:a21c:6a63 with SMTP id 46e09a7af769-7c0df752611mr13492043a34.9.1760556176488; Wed, 15 Oct 2025 12:22:56 -0700 (PDT) Received: from postal.iol.unh.edu (postal.iol.unh.edu. [2606:4100:3880:1234::84]) by smtp-relay.gmail.com with ESMTPS id 46e09a7af769-7c0f901eba1sm1398400a34.1.2025.10.15.12.22.56 (version=TLS1_2 cipher=ECDHE-ECDSA-AES128-GCM-SHA256 bits=128/128); Wed, 15 Oct 2025 12:22:56 -0700 (PDT) X-Relaying-Domain: iol.unh.edu Date: Wed, 15 Oct 2025 12:22:56 -0700 (PDT) Message-ID: <68eff490.050a0220.71873.6005SMTPIN_ADDED_MISSING@mx.google.com> Received: from [172.21.0.5] (unknown [172.18.0.240]) by postal.iol.unh.edu (Postfix) with ESMTP id DA94D6051830; Wed, 15 Oct 2025 15:22:55 -0400 (EDT) Subject: |SUCCESS| pw157682 [PATCH] [v2] net/i40e: fix symmetric toeplitz has From: dpdklab@iol.unh.edu To: Test Report Cc: dpdk-test-reports@iol.unh.edu, Bruce Richardson In-Reply-To: <20251015181150.93621-1-anurag.mandal@intel.com> References: <20251015181150.93621-1-anurag.mandal@intel.com> Content-Type: text/plain X-BeenThere: test-report@dpdk.org X-Mailman-Version: 2.1.29 Precedence: list List-Id: automatic DPDK test reports List-Unsubscribe: , List-Archive: List-Post: List-Help: List-Subscribe: , Errors-To: test-report-bounces@dpdk.org Test-Label: iol-unit-amd64-testing Test-Status: SUCCESS http://dpdk.org/patch/157682 _Testing PASS_ Submitter: Anurag Mandal Date: Wednesday, October 15 2025 18:11:50 DPDK git baseline: Repo:dpdk-next-net-intel Branch: master CommitID:d2d0163cb4200ff7e450fd66eb6a92a931f06de7 157682 --> testing pass Upstream job id: Generic-VM-Unit-Test-DPDK#31816 Test environment and result as below: +-------------------------------+----------------+ | Environment | dpdk_unit_test | +===============================+================+ | CentOS Stream 10 | PASS | +-------------------------------+----------------+ | CentOS Stream 9 | PASS | +-------------------------------+----------------+ | Debian GNU/Linux 12 | PASS | +-------------------------------+----------------+ | Fedora Linux 40 | PASS | +-------------------------------+----------------+ | Red Hat Enterprise Linux 8.10 | PASS | +-------------------------------+----------------+ | Fedora Linux 42 | PASS | +-------------------------------+----------------+ | Fedora Linux 41 | PASS | +-------------------------------+----------------+ | Ubuntu 20.04 | PASS | +-------------------------------+----------------+ | Red Hat Enterprise Linux 9.5 | PASS | +-------------------------------+----------------+ | Ubuntu 22.04 | PASS | +-------------------------------+----------------+ | Ubuntu 24.04 | PASS | +-------------------------------+----------------+ | Windows Server 2022 | PASS | +-------------------------------+----------------+ CentOS Stream 10 Kernel: 5.15 Compiler: gcc gcc (GCC) 14.2.1 20250110 (Red Hat 14.2.1-8) CentOS Stream 9 Kernel: 5.15 Compiler: gcc gcc (GCC) 11.5.0 20240719 (Red Hat 11.5.0-11) Debian GNU/Linux 12 Kernel: 5.15 Compiler: gcc gcc (Debian 12.2.0-14+deb12u1) 12.2.0 Fedora Linux 40 Kernel: 5.15 Compiler: clang gcc (GCC) 14.2.1 20240912 (Red Hat 14.2.1-3) Red Hat Enterprise Linux 8.10 Kernel: 5.15 Compiler: gcc gcc (GCC) 8.5.0 20210514 (Red Hat 8.5.0-22) Fedora Linux 42 Kernel: 5.15 Compiler: clang gcc (GCC) 15.2.1 20250808 (Red Hat 15.2.1-1) Fedora Linux 41 Kernel: 5.15 Compiler: clang gcc (GCC) 14.3.1 20250523 (Red Hat 14.3.1-1) Ubuntu 20.04 Kernel: 5.15 Compiler: gcc gcc (Ubuntu 9.4.0-1ubuntu1~20.04.2) 9.4.0 Red Hat Enterprise Linux 9.5 Kernel: 5.15 Compiler: gcc gcc (GCC) 11.5.0 20240719 (Red Hat 11.5.0-2) Ubuntu 22.04 Kernel: 5.15 Compiler: gcc gcc (Ubuntu 11.4.0-1ubuntu1~22.04) 11.4.0 Ubuntu 24.04 Kernel: 5.15 Compiler: gcc gcc (Ubuntu 13.3.0-6ubuntu2~24.04) 13.3.0 Windows Server 2022 Kernel: 10.0.20348.2031 Compiler: clang 15.0.7, gcc 14.1.0 (MinGW), and MSVC VS 19.39.33521 To view detailed results, visit: https://lab.dpdk.org/results/dashboard/patchsets/34287/ UNH-IOL DPDK Community Lab To manage your email subscriptions, visit: https://lab.dpdk.org/results/dashboard/preferences/subscriptions/