From mboxrd@z Thu Jan 1 00:00:00 1970 Return-Path: Received: from mails.dpdk.org (mails.dpdk.org [217.70.189.124]) by inbox.dpdk.org (Postfix) with ESMTP id 7FAE948946 for ; Wed, 15 Oct 2025 21:42:49 +0200 (CEST) Received: from mails.dpdk.org (localhost [127.0.0.1]) by mails.dpdk.org (Postfix) with ESMTP id 7AD0F40273; Wed, 15 Oct 2025 21:42:49 +0200 (CEST) Received: from mail-vs1-f100.google.com (mail-vs1-f100.google.com [209.85.217.100]) by mails.dpdk.org (Postfix) with ESMTP id 61F3240273 for ; Wed, 15 Oct 2025 21:42:48 +0200 (CEST) Received: by mail-vs1-f100.google.com with SMTP id ada2fe7eead31-5d613937df1so3480070137.3 for ; Wed, 15 Oct 2025 12:42:48 -0700 (PDT) DKIM-Signature: v=1; a=rsa-sha256; c=relaxed/relaxed; d=iol.unh.edu; s=unh-iol; t=1760557368; x=1761162168; darn=dpdk.org; h=references:in-reply-to:cc:to:from:subject:message-id:date:from:to :cc:subject:date:message-id:reply-to; bh=iAhRRxFeoOr86nr26VlRmg4rGZRFKvmTfmlB6LfsF5o=; b=V+EBUXv8Ge6vK00rT7fLYhjVhkDKdMlc6lU4/mCvMwqfIjc8C82cLdUCcaDixWhY2M MDK7jBkE5wv8S5t4PV/0bOkuTCffW5wtjxmHJVsJ3CyC8Ji2xE3LIQf+qLx+gEIAqtDV gapW1LHQlTKstbgqofIgUKq2y+25vKbAy0ihI= X-Google-DKIM-Signature: v=1; a=rsa-sha256; c=relaxed/relaxed; d=1e100.net; s=20230601; t=1760557368; x=1761162168; h=references:in-reply-to:cc:to:from:subject:message-id:date :x-gm-message-state:from:to:cc:subject:date:message-id:reply-to; bh=iAhRRxFeoOr86nr26VlRmg4rGZRFKvmTfmlB6LfsF5o=; b=CAevO4MUq8I+QMYNYGoizWQ/dxEgSOVbiHL9qohgq8yys32uXeZddgGL45TR4NHyg9 +5FxbMRccS+rhh7GUG06GNHL/uCnkY5KS+WuJguAEF3a29ojEOPA9OWX/tEEkf0x+NLt CDF3VSoSMdXkVH97wqhfti6/ISevFPfo/Vn/4ueHuv0kzbXsdTWG4wZzPFzkQehIEfwa OkDm/bS/dgFi92QBUfdd7cQFIi6DubILF8+KnXGWv4E7yVawhjB1bxdA3fIf6EGYHDlg 0mZcwUqaxWmdLHiRzZrpSa3RuAaYdU6Eed8k89Fs8WwYyC0TEqhuGAtKMTe/0Z2TDUiq A6hw== X-Gm-Message-State: AOJu0YwNaMqRdydFd68NI/smC2fkF9MuDGuuzMx3kdfLYFcxFrWVJSxf cqoPr9TP317GVUUZXYyIs1Dq8Y0fRUst0gIPxvciyhRscdc4tDKLAkIElIVcIX2Cl0GDCj8fj/3 N7Q90TyPeWhyM9aUnO5Rj2Gnuc4p65dub/NsXAEX7oqKn X-Gm-Gg: ASbGnctpX89mwk6bmf616QPoLSo+Vov6DpDjrplGH3wGtQ3NRy6Ll7cJDdVpcn3M+Vl pweHc5xA2nEiaKHH4T22hx8WhjtADj/0vxMvgq4kmkKOYejw5/V7pmZMk3vDQty6a7ogBb8Mw7F 9/GZ9azNqwFxNRw3LfVESeg4ZQbUX/VfXLfwlXn+Hu64Zh2DZr6PZtRXlbFGF1zP3TDsRLFo/ac z+vYAyE64nXsFGL3a97/SMMpNwmyC2tiduVOiwCofnhH1YmBBq+gFk8r3oMnnxFTVioJ9CrvmLH mCd+2oeNdiRmL+3fPCy0M2BkXTepU6o9seg5BzuMF1Ku45wOawjNUUJEdu3a9Vi421Tr96oyMij golA4r9tubTsPqKc6EhU96pd1yLQHl6I= X-Google-Smtp-Source: AGHT+IFbIlQlLLG3A6Eoq6B8rwmxxtPwRfPCqgXjWpVNNheeVgcYjFzAPCM2EizuV3wWFnk5XRGpFqbXFR4l X-Received: by 2002:a05:6102:6219:20b0:5d5:e27c:e5a with SMTP id ada2fe7eead31-5d5e27c14e0mr9021536137.4.1760557367654; Wed, 15 Oct 2025 12:42:47 -0700 (PDT) Received: from postal.iol.unh.edu (postal.iol.unh.edu. [132.177.123.84]) by smtp-relay.gmail.com with ESMTPS id ada2fe7eead31-5d5fc919dfdsm2038418137.5.2025.10.15.12.42.47 (version=TLS1_2 cipher=ECDHE-ECDSA-AES128-GCM-SHA256 bits=128/128); Wed, 15 Oct 2025 12:42:47 -0700 (PDT) X-Relaying-Domain: iol.unh.edu Date: Wed, 15 Oct 2025 12:42:47 -0700 (PDT) Message-ID: <68eff937.050a0220.3323c3.3da4SMTPIN_ADDED_MISSING@mx.google.com> Received: from [172.21.0.2] (unknown [172.18.0.240]) by postal.iol.unh.edu (Postfix) with ESMTP id 65F866051830; Wed, 15 Oct 2025 15:42:47 -0400 (EDT) Subject: |SUCCESS| pw157682 [PATCH] [v2] net/i40e: fix symmetric toeplitz has From: dpdklab@iol.unh.edu To: Test Report Cc: dpdk-test-reports@iol.unh.edu, Bruce Richardson In-Reply-To: <20251015181150.93621-1-anurag.mandal@intel.com> References: <20251015181150.93621-1-anurag.mandal@intel.com> Content-Type: text/plain X-BeenThere: test-report@dpdk.org X-Mailman-Version: 2.1.29 Precedence: list List-Id: automatic DPDK test reports List-Unsubscribe: , List-Archive: List-Post: List-Help: List-Subscribe: , Errors-To: test-report-bounces@dpdk.org Test-Label: iol-unit-amd64-testing Test-Status: SUCCESS http://dpdk.org/patch/157682 _Testing PASS_ Submitter: Anurag Mandal Date: Wednesday, October 15 2025 18:11:50 DPDK git baseline: Repo:dpdk-next-net-intel Branch: master CommitID:d2d0163cb4200ff7e450fd66eb6a92a931f06de7 157682 --> testing pass Upstream job id: Generic-VM-Unit-Test-DPDK#31817 Test environment and result as below: +-------------------------------+----------------+ | Environment | dpdk_unit_test | +===============================+================+ | CentOS Stream 10 | PASS | +-------------------------------+----------------+ | CentOS Stream 9 | PASS | +-------------------------------+----------------+ | Debian GNU/Linux 12 | PASS | +-------------------------------+----------------+ | Fedora Linux 40 | PASS | +-------------------------------+----------------+ | Red Hat Enterprise Linux 8.10 | PASS | +-------------------------------+----------------+ | Fedora Linux 42 | PASS | +-------------------------------+----------------+ | Fedora Linux 41 | PASS | +-------------------------------+----------------+ | Ubuntu 20.04 | PASS | +-------------------------------+----------------+ | Red Hat Enterprise Linux 9.5 | PASS | +-------------------------------+----------------+ | Ubuntu 22.04 | PASS | +-------------------------------+----------------+ | Ubuntu 24.04 | PASS | +-------------------------------+----------------+ | Windows Server 2022 | PASS | +-------------------------------+----------------+ CentOS Stream 10 Kernel: 5.15 Compiler: gcc gcc (GCC) 14.2.1 20250110 (Red Hat 14.2.1-8) CentOS Stream 9 Kernel: 5.15 Compiler: gcc gcc (GCC) 11.5.0 20240719 (Red Hat 11.5.0-11) Debian GNU/Linux 12 Kernel: 5.15 Compiler: gcc gcc (Debian 12.2.0-14+deb12u1) 12.2.0 Fedora Linux 40 Kernel: 5.15 Compiler: clang gcc (GCC) 14.2.1 20240912 (Red Hat 14.2.1-3) Red Hat Enterprise Linux 8.10 Kernel: 5.15 Compiler: gcc gcc (GCC) 8.5.0 20210514 (Red Hat 8.5.0-22) Fedora Linux 42 Kernel: 5.15 Compiler: clang gcc (GCC) 15.2.1 20250808 (Red Hat 15.2.1-1) Fedora Linux 41 Kernel: 5.15 Compiler: clang gcc (GCC) 14.3.1 20250523 (Red Hat 14.3.1-1) Ubuntu 20.04 Kernel: 5.15 Compiler: gcc gcc (Ubuntu 9.4.0-1ubuntu1~20.04.2) 9.4.0 Red Hat Enterprise Linux 9.5 Kernel: 5.15 Compiler: gcc gcc (GCC) 11.5.0 20240719 (Red Hat 11.5.0-2) Ubuntu 22.04 Kernel: 5.15 Compiler: gcc gcc (Ubuntu 11.4.0-1ubuntu1~22.04) 11.4.0 Ubuntu 24.04 Kernel: 5.15 Compiler: gcc gcc (Ubuntu 13.3.0-6ubuntu2~24.04) 13.3.0 Windows Server 2022 Kernel: 10.0.20348.2031 Compiler: clang 15.0.7, gcc 14.1.0 (MinGW), and MSVC VS 19.39.33521 To view detailed results, visit: https://lab.dpdk.org/results/dashboard/patchsets/34287/ UNH-IOL DPDK Community Lab To manage your email subscriptions, visit: https://lab.dpdk.org/results/dashboard/preferences/subscriptions/