From mboxrd@z Thu Jan 1 00:00:00 1970 Return-Path: Received: from mails.dpdk.org (mails.dpdk.org [217.70.189.124]) by inbox.dpdk.org (Postfix) with ESMTP id 999D848946 for ; Wed, 15 Oct 2025 21:58:47 +0200 (CEST) Received: from mails.dpdk.org (localhost [127.0.0.1]) by mails.dpdk.org (Postfix) with ESMTP id 9451A40273; Wed, 15 Oct 2025 21:58:47 +0200 (CEST) Received: from mail-pg1-f225.google.com (mail-pg1-f225.google.com [209.85.215.225]) by mails.dpdk.org (Postfix) with ESMTP id 1339D40273 for ; Wed, 15 Oct 2025 21:58:47 +0200 (CEST) Received: by mail-pg1-f225.google.com with SMTP id 41be03b00d2f7-b67ae7e76abso3286704a12.3 for ; Wed, 15 Oct 2025 12:58:46 -0700 (PDT) DKIM-Signature: v=1; a=rsa-sha256; c=relaxed/relaxed; d=iol.unh.edu; s=unh-iol; t=1760558326; x=1761163126; darn=dpdk.org; h=references:in-reply-to:cc:to:from:subject:message-id:date:from:to :cc:subject:date:message-id:reply-to; bh=NX2UxYJJ4HU40+rVrCQIAyE1q9dw94RlbqBB0CaeqYE=; b=Ug5e/hGjACBQF8fMCHcPFlL65m1f+xVpoSlkmEjQiwegFuQtUA6wfe+qc1ojFsmObi wL/CpY7xjaHZ2EY9kBUcRviHRwgrsUZjislP2V52QmreezjOkSZvPzjzMtKKEBM/87dg nI4z2hNKGcVEBd06A31LRz9HzO/rZc0HTF8sI= X-Google-DKIM-Signature: v=1; a=rsa-sha256; c=relaxed/relaxed; d=1e100.net; s=20230601; t=1760558326; x=1761163126; h=references:in-reply-to:cc:to:from:subject:message-id:date :x-gm-message-state:from:to:cc:subject:date:message-id:reply-to; bh=NX2UxYJJ4HU40+rVrCQIAyE1q9dw94RlbqBB0CaeqYE=; b=tO+VcCGpL4csblEPCxVZ0rwVna1NvGlb1p7QaGAQSLDTQI5YeQP/bRm5cPp/zs6GgO N2EE8PMsqpo5H5XZCxunxizZEPP+kfWNxMlqWH+y2hXoqH3wZdzds05JZYjrCxc89Tdw sZqVO+j0jscQ5jepS12JJSPNsxafNhB9UZrfbBJPHvEv78c6ehHK3HeHml9cAXiXLx7V ysDboUCuw5iFNXhQ8dOrF67riIOJFwdFIa1wo/mNG5ANSIVOcjglkch6TnIsoP+vbY4M Tb9lEXdQUMx+aXRRnfrPjwaB0pVPO6cIvGmlyGstW9Rn15q1IeW40jU5CldnYgwZbATc Mz0Q== X-Gm-Message-State: AOJu0YyfuvXQGNc36NUyLXlDuFOLqqYUY61M8x9wE0BHDy7OTuqAAIyK 1qq6WnI+P+dHJtAvD5SDAIu6+BKkUL8IRGIMObWxHVtARZsxyqGD97+vbdZLxs8oTFG6GZr851D vfOzv6zk7qPVky+njkSaqMa7f6lrPIhwoGPHLc+HZqYfD2GibUnKltuIf51DL X-Gm-Gg: ASbGncsvbFezC5iXpWiClDzWxTpsjCVYvAiGQ/9g+VhepvREcRdjQXOvGVKO3FFeFVf 9z6XRY0tLrzrKrfQmLZlGtIgxxf0E2VeMtgskJi268nkIPlwJ/BxXdwpp7X86g8aBgPFiGwfTIR HlRmCj2wQET+u2ukBX9d4y0V5VCd/rhKbGRnP4GQETLy3B+B75QElwyBvypJbXoJIqkebHOQPgV 96+NIO3JTyAVwALQU29FumvuX3jrj81rb3cNFEG7aamMgUnyCYotrUgk7W6QvN2lYY9ljPdt5cn MiF1+dRnMDxJn5WOYLghbrT0/Ew/GdiRODtocBe6um+BiOxRanMwxy1GEfEoQ9gC7oU8zSQVNH+ vDiGGbY9B X-Google-Smtp-Source: AGHT+IHrgysT1pBFCCuT+KwJWFbTg2vxF2wHX4m/L4pF65RTKnPRcWKkBgEaTWB1BQEevKZsWvgJ3CaFdf4l X-Received: by 2002:a17:902:c403:b0:290:29ba:340f with SMTP id d9443c01a7336-29029ba354emr407886395ad.42.1760558326104; Wed, 15 Oct 2025 12:58:46 -0700 (PDT) Received: from postal.iol.unh.edu (postal.iol.unh.edu. [2606:4100:3880:1234::84]) by smtp-relay.gmail.com with ESMTPS id d9443c01a7336-290996755ffsm554515ad.32.2025.10.15.12.58.45 (version=TLS1_2 cipher=ECDHE-ECDSA-AES128-GCM-SHA256 bits=128/128); Wed, 15 Oct 2025 12:58:46 -0700 (PDT) X-Relaying-Domain: iol.unh.edu Date: Wed, 15 Oct 2025 12:58:46 -0700 (PDT) Message-ID: <68effcf6.170a0220.2469e5.3257SMTPIN_ADDED_MISSING@mx.google.com> Received: from [172.21.0.2] (unknown [172.18.0.240]) by postal.iol.unh.edu (Postfix) with ESMTP id 5F52C6051830; Wed, 15 Oct 2025 15:58:45 -0400 (EDT) Subject: |SUCCESS| pw157654-157660 [PATCH] [v2,7/7] net/ice: reformat the Rx From: dpdklab@iol.unh.edu To: Test Report Cc: dpdk-test-reports@iol.unh.edu, Bruce Richardson In-Reply-To: <20251015100723.1603296-8-ciara.loftus@intel.com> References: <20251015100723.1603296-8-ciara.loftus@intel.com> Content-Type: text/plain X-BeenThere: test-report@dpdk.org X-Mailman-Version: 2.1.29 Precedence: list List-Id: automatic DPDK test reports List-Unsubscribe: , List-Archive: List-Post: List-Help: List-Subscribe: , Errors-To: test-report-bounces@dpdk.org Test-Label: iol-unit-arm64-testing Test-Status: SUCCESS http://dpdk.org/patch/157660 _Testing PASS_ Submitter: Ciara Loftus Date: Wednesday, October 15 2025 10:07:23 DPDK git baseline: Repo:dpdk-next-net-intel Branch: master CommitID:d2d0163cb4200ff7e450fd66eb6a92a931f06de7 157654-157660 --> testing pass Upstream job id: Generic-Unit-Test-DPDK#381647 Test environment and result as below: +------------------------------+----------------+---------------------------+------------------------------+--------------+ | Environment | dpdk_unit_test | cryptodev_sw_zuc_autotest | cryptodev_sw_snow3g_autotest | lpm_autotest | +==============================+================+===========================+==============================+==============+ | CentOS Stream 9 | PASS | SKIPPED | SKIPPED | SKIPPED | +------------------------------+----------------+---------------------------+------------------------------+--------------+ | CentOS Stream 10 | PASS | SKIPPED | SKIPPED | SKIPPED | +------------------------------+----------------+---------------------------+------------------------------+--------------+ | Fedora Linux 41 | PASS | SKIPPED | SKIPPED | SKIPPED | +------------------------------+----------------+---------------------------+------------------------------+--------------+ | Fedora Linux 40 | PASS | SKIPPED | SKIPPED | SKIPPED | +------------------------------+----------------+---------------------------+------------------------------+--------------+ | Debian GNU/Linux 12 | PASS | SKIPPED | SKIPPED | SKIPPED | +------------------------------+----------------+---------------------------+------------------------------+--------------+ | Fedora Linux 42 | PASS | SKIPPED | SKIPPED | SKIPPED | +------------------------------+----------------+---------------------------+------------------------------+--------------+ | Ubuntu 20.04 | PASS | SKIPPED | SKIPPED | PASS | +------------------------------+----------------+---------------------------+------------------------------+--------------+ | Red Hat Enterprise Linux 9.5 | PASS | SKIPPED | SKIPPED | SKIPPED | +------------------------------+----------------+---------------------------+------------------------------+--------------+ | Ubuntu 24.04 | PASS | SKIPPED | SKIPPED | SKIPPED | +------------------------------+----------------+---------------------------+------------------------------+--------------+ | Ubuntu 22.04 | PASS | SKIPPED | SKIPPED | SKIPPED | +------------------------------+----------------+---------------------------+------------------------------+--------------+ | Debian 12 (arm) | SKIPPED | PASS | PASS | SKIPPED | +------------------------------+----------------+---------------------------+------------------------------+--------------+ CentOS Stream 9 Kernel: 5.4 Compiler: gcc gcc (GCC) 11.5.0 20240719 (Red Hat 11.5.0-11) CentOS Stream 10 Kernel: 5.4 Compiler: gcc gcc (GCC) 14.2.1 20250110 (Red Hat 14.2.1-8) Fedora Linux 41 Kernel: 5.4 Compiler: gcc gcc (GCC) 14.3.1 20250523 (Red Hat 14.3.1-1) Fedora Linux 40 Kernel: 5.4 Compiler: gcc gcc (GCC) 14.2.1 20240912 (Red Hat 14.2.1-3) Debian GNU/Linux 12 Kernel: 5.4 Compiler: gcc gcc (Debian 12.2.0-14+deb12u1) 12.2.0 Fedora Linux 42 Kernel: 5.4 Compiler: clang gcc (GCC) 15.2.1 20250808 (Red Hat 15.2.1-1) Ubuntu 20.04 Kernel: 5.4 Compiler: gcc gcc (Ubuntu 9.4.0-1ubuntu1~20.04.2) 9.4.0 Red Hat Enterprise Linux 9.5 Kernel: 5.4 Compiler: gcc gcc (GCC) 11.5.0 20240719 (Red Hat 11.5.0-2) Ubuntu 24.04 Kernel: 5.4 Compiler: gcc gcc (Ubuntu 13.3.0-6ubuntu2~24.04) 13.3.0 Ubuntu 22.04 Kernel: 5.4 Compiler: gcc gcc (Ubuntu 11.4.0-1ubuntu1~22.04) 11.4.0 Debian 12 (arm) Kernel: Depends on container host Compiler: gcc (Debian 12.2.0-14) 12.2.0 To view detailed results, visit: https://lab.dpdk.org/results/dashboard/patchsets/34284/ UNH-IOL DPDK Community Lab To manage your email subscriptions, visit: https://lab.dpdk.org/results/dashboard/preferences/subscriptions/