From mboxrd@z Thu Jan 1 00:00:00 1970 Return-Path: Received: from mails.dpdk.org (mails.dpdk.org [217.70.189.124]) by inbox.dpdk.org (Postfix) with ESMTP id 19AC848946 for ; Wed, 15 Oct 2025 22:13:40 +0200 (CEST) Received: from mails.dpdk.org (localhost [127.0.0.1]) by mails.dpdk.org (Postfix) with ESMTP id F354040273; Wed, 15 Oct 2025 22:13:39 +0200 (CEST) Received: from mail-pf1-f228.google.com (mail-pf1-f228.google.com [209.85.210.228]) by mails.dpdk.org (Postfix) with ESMTP id C7B7640273 for ; Wed, 15 Oct 2025 22:13:38 +0200 (CEST) Received: by mail-pf1-f228.google.com with SMTP id d2e1a72fcca58-793021f348fso20816b3a.1 for ; Wed, 15 Oct 2025 13:13:38 -0700 (PDT) DKIM-Signature: v=1; a=rsa-sha256; c=relaxed/relaxed; d=iol.unh.edu; s=unh-iol; t=1760559218; x=1761164018; darn=dpdk.org; h=references:in-reply-to:cc:to:from:subject:message-id:date:from:to :cc:subject:date:message-id:reply-to; bh=SJVz/1dI2a8slfRU928s/kqBI11ZD5A4OtHY6PsjW7k=; b=OCl6w09RwjJOsh9A4i1BDJyxrcwcc6y2n45ORFDFRMYbh0F26W18X7LepyUsswxhQc jI2X4USHgJOKRu9dpIOmAri1yTMEX+AGloMyb11PAB/ZvQrSB9RbbBFoVSz33CG80eZv jK3Z32uK2sdnzmTN06pZM2kQZJ62RipGrebLk= X-Google-DKIM-Signature: v=1; a=rsa-sha256; c=relaxed/relaxed; d=1e100.net; s=20230601; t=1760559218; x=1761164018; h=references:in-reply-to:cc:to:from:subject:message-id:date :x-gm-message-state:from:to:cc:subject:date:message-id:reply-to; bh=SJVz/1dI2a8slfRU928s/kqBI11ZD5A4OtHY6PsjW7k=; b=KTryEfcieAVT7D9ZPQxCDbOS30Ub8qhONiZxfbpSW3oVR4baBNGfiv6B8KQRAr4ISE ILyREVvkd3E/VsjPHYUI7c7FTgFWiYPP8An0HDXgb9nL27vQwDXR9y4nJk5fXzbfCqA/ jegkMx+HOI96Za0fZUgSmnPnfDv7DXtq2bvDglM811tsIcVX+yzUS6DZnugcqcuc4rgk SJJOtaiNxb8QDcTHKmyvM33xa1mppjwq6G5QOrFHUPXedQ8buVK/pDd1TVP/eU7FNpTY no9aiyIwx9ETvxZ/Dp5Epf2VHUoWMIyHD2UHNH+VtbLg2qMa85j4JeGFnUm07oHswnEw BoDQ== X-Gm-Message-State: AOJu0YzHXH/gblBjKnKwpWlMrSxh7ZcOX+yvY2VoYMlT4foUW/oRrnS4 Hyb0aFv5cVpCEVqU6RSIpdlnF8003eOI3vUrcBdTq0FVt/erlQKOAY1qiz56j1gP/xCGxzAK52A kI8XE+iHJF1IqErzsW/4zkII8fhodZSSPd0dy3c00tQ9IfHBi03y7bSmySk7H X-Gm-Gg: ASbGncuzx39JPmLE+Ot3LlRQFo7jKoziMIkf+BTEIhJPzXAyfBzObL05U/Q7vp3sdKE ai9pTKdupYcJzM5+53+dJLlgrMm3rsWzSRL2dFXu37CRM824TDvJRRl1qoe/QCFHiVwia42C0X9 Cy/JcpOXHYdziuE46FQdwYZ6vV8Q0XGKv0LA0SSrEH9fQE1Uyrjahp60gOg6xeFFJFD7suUBguV ifwF71nGDB4181eenkUM7jLnhWVhmmY5WjShOHVGklA7v6bN9V2gheJemtlcFKYveJxmA8tjZH2 H2ygcair5Q7QlluEeEVPdWs+K+eEwsW/hqsP69o/YTn0Npwveg== X-Google-Smtp-Source: AGHT+IFTFqTDNVJO3X4VuVyokgVis/kjMxW20lTe9c6KC/N1m/jLOBlyes44xie4ALGMUzNbpR7Is32OZaFF X-Received: by 2002:a05:6300:218f:b0:2e2:3e68:6e45 with SMTP id adf61e73a8af0-32da8462901mr42104266637.51.1760559217798; Wed, 15 Oct 2025 13:13:37 -0700 (PDT) Received: from postal.iol.unh.edu (postal.iol.unh.edu. [2606:4100:3880:1234::84]) by smtp-relay.gmail.com with ESMTPS id d2e1a72fcca58-79933310e6csm1662925b3a.9.2025.10.15.13.13.37 (version=TLS1_2 cipher=ECDHE-ECDSA-AES128-GCM-SHA256 bits=128/128); Wed, 15 Oct 2025 13:13:37 -0700 (PDT) X-Relaying-Domain: iol.unh.edu Date: Wed, 15 Oct 2025 13:13:37 -0700 (PDT) Message-ID: <68f00071.050a0220.3ced5c.197eSMTPIN_ADDED_MISSING@mx.google.com> Received: from [172.21.0.2] (unknown [172.18.0.240]) by postal.iol.unh.edu (Postfix) with ESMTP id 0B70E6051830; Wed, 15 Oct 2025 16:13:37 -0400 (EDT) Subject: |SUCCESS| pw157681 [PATCH] net/mlx5: fix spurious CPU wakeups caused From: dpdklab@iol.unh.edu To: Test Report Cc: dpdk-test-reports@iol.unh.edu In-Reply-To: <20251015133957.4094235-1-sivaprasad.tummala@amd.com> References: <20251015133957.4094235-1-sivaprasad.tummala@amd.com> Content-Type: text/plain X-BeenThere: test-report@dpdk.org X-Mailman-Version: 2.1.29 Precedence: list List-Id: automatic DPDK test reports List-Unsubscribe: , List-Archive: List-Post: List-Help: List-Subscribe: , Errors-To: test-report-bounces@dpdk.org Test-Label: iol-compile-arm64-testing Test-Status: SUCCESS http://dpdk.org/patch/157681 _Testing PASS_ Submitter: Sivaprasad Tummala Date: Wednesday, October 15 2025 13:39:57 DPDK git baseline: Repo:dpdk-next-net-mlx Branch: master CommitID:2374f33e1d964e100895fd294966380c46f0886d 157681 --> testing pass Upstream job id: Generic-DPDK-Compile-Meson#434553 Test environment and result as below: +------------------------------+--------------------+ | Environment | dpdk_meson_compile | +==============================+====================+ | Red Hat Enterprise Linux 9.5 | PASS | +------------------------------+--------------------+ | Ubuntu 20.04 | PASS | +------------------------------+--------------------+ | Fedora Linux 42 | PASS | +------------------------------+--------------------+ | Debian GNU/Linux 12 | PASS | +------------------------------+--------------------+ | Ubuntu 24.04 | PASS | +------------------------------+--------------------+ | Ubuntu 22.04 | PASS | +------------------------------+--------------------+ | CentOS Stream 10 | PASS | +------------------------------+--------------------+ | CentOS Stream 9 | PASS | +------------------------------+--------------------+ Red Hat Enterprise Linux 9.5 Kernel: 5.4 Compiler: gcc gcc (GCC) 11.5.0 20240719 (Red Hat 11.5.0-2) Ubuntu 20.04 Kernel: 5.15 Compiler: aarch64-linux-gnu-gcc gcc (Ubuntu 9.4.0-1ubuntu1~20.04.2) 9.4.0 Fedora Linux 42 Kernel: 5.4 Compiler: gcc gcc (GCC) 15.2.1 20250808 (Red Hat 15.2.1-1) Debian GNU/Linux 12 Kernel: 5.4 Compiler: gcc gcc (Debian 12.2.0-14+deb12u1) 12.2.0 Ubuntu 24.04 Kernel: 5.4 Compiler: gcc gcc (Ubuntu 13.3.0-6ubuntu2~24.04) 13.3.0 Ubuntu 22.04 Kernel: 5.4 Compiler: gcc gcc (Ubuntu 11.4.0-1ubuntu1~22.04) 11.4.0 CentOS Stream 10 Kernel: 5.4 Compiler: gcc gcc (GCC) 14.2.1 20250110 (Red Hat 14.2.1-8) CentOS Stream 9 Kernel: 5.4 Compiler: gcc gcc (GCC) 11.5.0 20240719 (Red Hat 11.5.0-11) To view detailed results, visit: https://lab.dpdk.org/results/dashboard/patchsets/34286/ UNH-IOL DPDK Community Lab To manage your email subscriptions, visit: https://lab.dpdk.org/results/dashboard/preferences/subscriptions/