From mboxrd@z Thu Jan 1 00:00:00 1970 Return-Path: Received: from mails.dpdk.org (mails.dpdk.org [217.70.189.124]) by inbox.dpdk.org (Postfix) with ESMTP id 1CEB848946 for ; Wed, 15 Oct 2025 22:13:55 +0200 (CEST) Received: from mails.dpdk.org (localhost [127.0.0.1]) by mails.dpdk.org (Postfix) with ESMTP id 18E8940273; Wed, 15 Oct 2025 22:13:55 +0200 (CEST) Received: from mail-io1-f98.google.com (mail-io1-f98.google.com [209.85.166.98]) by mails.dpdk.org (Postfix) with ESMTP id 0D61F40273 for ; Wed, 15 Oct 2025 22:13:54 +0200 (CEST) Received: by mail-io1-f98.google.com with SMTP id ca18e2360f4ac-92aee734585so277838639f.3 for ; Wed, 15 Oct 2025 13:13:53 -0700 (PDT) DKIM-Signature: v=1; a=rsa-sha256; c=relaxed/relaxed; d=iol.unh.edu; s=unh-iol; t=1760559233; x=1761164033; darn=dpdk.org; h=references:in-reply-to:cc:to:from:subject:message-id:date:from:to :cc:subject:date:message-id:reply-to; bh=M2bco7K9cJLNRj5nQjzCD8cxnfydVmbUesH4z4KTv6U=; b=V5ql8MljZaKt5pQBfslIE0SRpfgnzsqeuCFZhfrabH+3YfKzIVho6Q+H2qSn2ivy5v gAp7y6+mrErx8f5HxT5zPdMaAzGjRZqwgOPnV0aOrGQ7WYqIDWAhH5dd7XMkWzbvn07L 1X4+tncR6mxVGBcUR4eK9pkqL8YTZ9sPFg2ZA= X-Google-DKIM-Signature: v=1; a=rsa-sha256; c=relaxed/relaxed; d=1e100.net; s=20230601; t=1760559233; x=1761164033; h=references:in-reply-to:cc:to:from:subject:message-id:date :x-gm-message-state:from:to:cc:subject:date:message-id:reply-to; bh=M2bco7K9cJLNRj5nQjzCD8cxnfydVmbUesH4z4KTv6U=; b=OY6LuUnVBTPx/zDKg34r4FGSYbZGQjmKpCZz8NOOjUcDs5P0mptT4BHq4SxWUJBqkb gg/Ehy0W9FVIKtjzoYcvyidnnhhlzv3kM2ylZUKdpJq5w8Bh9K9F2zd/Zn4vuj7QmKij gMaJhw1PmxLggBAusHr/QRxxRpXuOvLjtvhmEe/aj6QjNAFkuFCgmiDPTsb2cUYicN7c Yj7IKDQGZB6qgHE255f5Yn9AFb7hTYsdpFNvxND/bWRtQk+PmTdyS6Dl6GXeNYhzwI6e rVmQ5FtvHkyrKgS64TJysn4qrgH3DIHK8MHjBUgqiJCuZpy4Z0e2kFDu7ndxkjbHVSo0 gVdw== X-Gm-Message-State: AOJu0YwCyC68n2y85xmweitjDVqygi5J8cmq+Xk6zz4ss2+RffVHnw4Y EP4p2UB/I55le7lpxX1Cw27TqNPJFxAVIKmnWGd+m/qGx/nGqZB55guu2YBqGJ8ZqGvKZrS7FH0 D761A2V/F32gM5Fmcwz8rCcy7ZsIf0hWn+p7GFhQ4SlOTWttHxvNjnLxhM/FP X-Gm-Gg: ASbGncvSdJnuvHkKOuPTGBnrMyXh0OutpWI1AqQJxqmQlBOMxSGVf3dVmwmb7eZovOO mI8QXZ7yEqMC9WIl+ce3b4tdFHPWSOY42ETi0cVCWN4g3RqdcvXAjWQP5kiFXVA3Kaciv4/0bX9 YV8cwJJJc5kOq11I5hazXI426Xke1NVGWqmXp/OCPkHPlmey1NYXxflgt2YTMGdXPEffBCodDGC ePdd7u4EYDNEV2q+CGQIAKjDg9siTVocylfq0bM9kOwmHhbABsGfBSVTCqinIhvXVwC6I+4JG4w CuOaLfhQzmM6qDV88arYXlx1siZSXIj/IKS6FazjTtNzFmBbow== X-Google-Smtp-Source: AGHT+IHNv2QdGvg+YFjp7RBoYkcptuj9vyy3iMgqUvxim5RK+ME57kORioSg3yfKPTYYQJwYFO+Bd6gJT1rm X-Received: by 2002:a92:cda2:0:b0:430:a550:3003 with SMTP id e9e14a558f8ab-430a550306dmr87830355ab.14.1760559233317; Wed, 15 Oct 2025 13:13:53 -0700 (PDT) Received: from postal.iol.unh.edu (postal.iol.unh.edu. [2606:4100:3880:1234::84]) by smtp-relay.gmail.com with ESMTPS id e9e14a558f8ab-430b502a1f9sm532495ab.0.2025.10.15.13.13.53 (version=TLS1_2 cipher=ECDHE-ECDSA-AES128-GCM-SHA256 bits=128/128); Wed, 15 Oct 2025 13:13:53 -0700 (PDT) X-Relaying-Domain: iol.unh.edu Date: Wed, 15 Oct 2025 13:13:53 -0700 (PDT) Message-ID: <68f00081.050a0220.13911f.2ef6SMTPIN_ADDED_MISSING@mx.google.com> Received: from [172.21.0.5] (unknown [172.18.0.240]) by postal.iol.unh.edu (Postfix) with ESMTP id DB2EF6051830; Wed, 15 Oct 2025 16:13:52 -0400 (EDT) Subject: |SUCCESS| pw157681 [PATCH] net/mlx5: fix spurious CPU wakeups caused From: dpdklab@iol.unh.edu To: Test Report Cc: dpdk-test-reports@iol.unh.edu In-Reply-To: <20251015133957.4094235-1-sivaprasad.tummala@amd.com> References: <20251015133957.4094235-1-sivaprasad.tummala@amd.com> Content-Type: text/plain X-BeenThere: test-report@dpdk.org X-Mailman-Version: 2.1.29 Precedence: list List-Id: automatic DPDK test reports List-Unsubscribe: , List-Archive: List-Post: List-Help: List-Subscribe: , Errors-To: test-report-bounces@dpdk.org Test-Label: iol-compile-arm64-testing Test-Status: SUCCESS http://dpdk.org/patch/157681 _Testing PASS_ Submitter: Sivaprasad Tummala Date: Wednesday, October 15 2025 13:39:57 DPDK git baseline: Repo:dpdk-next-net-mlx Branch: master CommitID:2374f33e1d964e100895fd294966380c46f0886d 157681 --> testing pass Upstream job id: Generic-DPDK-Compile-Meson#434562 Test environment and result as below: +------------------------------+--------------------+ | Environment | dpdk_meson_compile | +==============================+====================+ | Red Hat Enterprise Linux 9.5 | PASS | +------------------------------+--------------------+ | Ubuntu 20.04 | PASS | +------------------------------+--------------------+ | Fedora Linux 42 | PASS | +------------------------------+--------------------+ | Debian GNU/Linux 12 | PASS | +------------------------------+--------------------+ | Ubuntu 24.04 | PASS | +------------------------------+--------------------+ | Ubuntu 22.04 | PASS | +------------------------------+--------------------+ | CentOS Stream 10 | PASS | +------------------------------+--------------------+ | CentOS Stream 9 | PASS | +------------------------------+--------------------+ Red Hat Enterprise Linux 9.5 Kernel: 5.4 Compiler: gcc gcc (GCC) 11.5.0 20240719 (Red Hat 11.5.0-2) Ubuntu 20.04 Kernel: 5.15 Compiler: aarch64-linux-gnu-gcc gcc (Ubuntu 9.4.0-1ubuntu1~20.04.2) 9.4.0 Fedora Linux 42 Kernel: 5.4 Compiler: gcc gcc (GCC) 15.2.1 20250808 (Red Hat 15.2.1-1) Debian GNU/Linux 12 Kernel: 5.4 Compiler: gcc gcc (Debian 12.2.0-14+deb12u1) 12.2.0 Ubuntu 24.04 Kernel: 5.4 Compiler: gcc gcc (Ubuntu 13.3.0-6ubuntu2~24.04) 13.3.0 Ubuntu 22.04 Kernel: 5.4 Compiler: gcc gcc (Ubuntu 11.4.0-1ubuntu1~22.04) 11.4.0 CentOS Stream 10 Kernel: 5.4 Compiler: gcc gcc (GCC) 14.2.1 20250110 (Red Hat 14.2.1-8) CentOS Stream 9 Kernel: 5.4 Compiler: gcc gcc (GCC) 11.5.0 20240719 (Red Hat 11.5.0-11) To view detailed results, visit: https://lab.dpdk.org/results/dashboard/patchsets/34286/ UNH-IOL DPDK Community Lab To manage your email subscriptions, visit: https://lab.dpdk.org/results/dashboard/preferences/subscriptions/