From mboxrd@z Thu Jan 1 00:00:00 1970 Return-Path: Received: from mails.dpdk.org (mails.dpdk.org [217.70.189.124]) by inbox.dpdk.org (Postfix) with ESMTP id 27C4548946 for ; Wed, 15 Oct 2025 22:14:06 +0200 (CEST) Received: from mails.dpdk.org (localhost [127.0.0.1]) by mails.dpdk.org (Postfix) with ESMTP id 2406D40273; Wed, 15 Oct 2025 22:14:06 +0200 (CEST) Received: from mail-pj1-f98.google.com (mail-pj1-f98.google.com [209.85.216.98]) by mails.dpdk.org (Postfix) with ESMTP id EEC2540273 for ; Wed, 15 Oct 2025 22:14:04 +0200 (CEST) Received: by mail-pj1-f98.google.com with SMTP id 98e67ed59e1d1-339d7c4039aso35260a91.0 for ; Wed, 15 Oct 2025 13:14:04 -0700 (PDT) DKIM-Signature: v=1; a=rsa-sha256; c=relaxed/relaxed; d=iol.unh.edu; s=unh-iol; t=1760559244; x=1761164044; darn=dpdk.org; h=references:in-reply-to:cc:to:from:subject:message-id:date:from:to :cc:subject:date:message-id:reply-to; bh=/606Ywqbf6BZ0Jovo2iT6pwZ1XwiZ6lTMr/AU2nje2s=; b=QVXMQq/K0ZOfg+PzK2Hijh0Z/OTp6g+MdpVE39xf6EVE9Ul6DogW2L8xcHYEPK6VbO 1pRChhe1OYEHjWfE76l2Nu6O1Nm1mT52ZrdzGUd6IapvzT19WZ3zt5CtE2llzYoDiwW5 /p+HpDGvK5ciyMZeExPe+FumSC92J/1OnyfUE= X-Google-DKIM-Signature: v=1; a=rsa-sha256; c=relaxed/relaxed; d=1e100.net; s=20230601; t=1760559244; x=1761164044; h=references:in-reply-to:cc:to:from:subject:message-id:date :x-gm-message-state:from:to:cc:subject:date:message-id:reply-to; bh=/606Ywqbf6BZ0Jovo2iT6pwZ1XwiZ6lTMr/AU2nje2s=; b=MRlImyb38UEnptVlEPl4C9u3cVE/rDyZIiW0ASYQRJsRqQTubBxl7aTosLXGPJI5of 2OLjM+iGNz40ZaWuhDf4xIqMWw5K4uOYw7aJz6MGrKKZt5d0mJ6LxybJYtRLv64+tz9t eS9U7CHzaxNmZA32IDBzrTfRSJ8pycE3Xnd0KbLqmgMO5S7CPkAIxyVeH12O5AgyqhSf SPV2UQh5pXi/shvlI8WnsJXFO1nfYdTg4itWd44194guRMsUXSwkot7NZvtPi5v0Xbl0 AO/+DT216H9AuTqO+CKs8GIebaYU4QjNuLbihBiRmyCTysCdiqOcPKg34SqaI4GWWqOe zM0Q== X-Gm-Message-State: AOJu0YyBHKM6nn0yKc/efmtY1Q1tpamVir+IddtPxMxIGWqTzvIpFyHb 6RjGGLtbzjf37ckeC9lBQaYZHKrOsxcVV95VXQs5IbZSx4k9MZRRo39270dpbzQJetKDh+9Rxqe VAqjc1yogvAwSrp58G0abqp3kZo87eMFxhLcbhgS6bsek X-Gm-Gg: ASbGncusa/7Tj9mc5s2z9leVNJq4B21vY/AtKMM7u1Ugl9MadEdGN+Fal7jjSUsaCem UNVsx9Sf7ppTdBtVqJ+bpVRsaQ6E5ZwSQ4qpC26cHO54cKG1PJ0phPxB8hh4xHgdLJEnFKviFTL 8bKAwp1t9lA8gFf0dv2omE5/B2yhvG87OULwS/zWxUinz1dEGbmvqEqwcQv31g1YWrFONk4Cqfc WwVI83EKr8VjjAjTHj6lTgZna5YX0RWHuwjCUYptbkH5xmgewqSx5asIH1tl9nzTQh9RZTSqN6u d7a8ShDySuZHQR9h8gNOonPLK4Gs66/sVo2OITTfhBDVQsRgwiQ9wROTg1/mufSJ77sahWWrZzM HDUNa/+2yBJpYREniVsLiekUiLu/qWDM= X-Google-Smtp-Source: AGHT+IGmAgI4/yXPzasGw4WwAt4mrdQhgQsJNZhsgXDahqIFKvt9UtZKe6sCovuP4146QeUjIKqLMgXaSR3K X-Received: by 2002:a17:90b:3884:b0:32e:3829:a71c with SMTP id 98e67ed59e1d1-33b5112974amr43358808a91.16.1760559244176; Wed, 15 Oct 2025 13:14:04 -0700 (PDT) Received: from postal.iol.unh.edu (postal.iol.unh.edu. [132.177.123.84]) by smtp-relay.gmail.com with ESMTPS id 98e67ed59e1d1-33b626b3867sm1522376a91.4.2025.10.15.13.14.04 (version=TLS1_2 cipher=ECDHE-ECDSA-AES128-GCM-SHA256 bits=128/128); Wed, 15 Oct 2025 13:14:04 -0700 (PDT) X-Relaying-Domain: iol.unh.edu Date: Wed, 15 Oct 2025 13:14:04 -0700 (PDT) Message-ID: <68f0008c.170a0220.16f102.a976SMTPIN_ADDED_MISSING@mx.google.com> Received: from [172.21.0.2] (unknown [172.18.0.240]) by postal.iol.unh.edu (Postfix) with ESMTP id 762F46051830; Wed, 15 Oct 2025 16:14:03 -0400 (EDT) Subject: |SUCCESS| pw157681 [PATCH] net/mlx5: fix spurious CPU wakeups caused From: dpdklab@iol.unh.edu To: Test Report Cc: dpdk-test-reports@iol.unh.edu In-Reply-To: <20251015133957.4094235-1-sivaprasad.tummala@amd.com> References: <20251015133957.4094235-1-sivaprasad.tummala@amd.com> Content-Type: text/plain X-BeenThere: test-report@dpdk.org X-Mailman-Version: 2.1.29 Precedence: list List-Id: automatic DPDK test reports List-Unsubscribe: , List-Archive: List-Post: List-Help: List-Subscribe: , Errors-To: test-report-bounces@dpdk.org Test-Label: iol-compile-arm64-testing Test-Status: SUCCESS http://dpdk.org/patch/157681 _Testing PASS_ Submitter: Sivaprasad Tummala Date: Wednesday, October 15 2025 13:39:57 DPDK git baseline: Repo:dpdk-next-net-mlx Branch: master CommitID:2374f33e1d964e100895fd294966380c46f0886d 157681 --> testing pass Upstream job id: Generic-DPDK-Compile-Meson#434561 Test environment and result as below: +------------------------------+--------------------+ | Environment | dpdk_meson_compile | +==============================+====================+ | Red Hat Enterprise Linux 9.5 | PASS | +------------------------------+--------------------+ | Ubuntu 20.04 | PASS | +------------------------------+--------------------+ | Fedora Linux 42 | PASS | +------------------------------+--------------------+ | Debian GNU/Linux 12 | PASS | +------------------------------+--------------------+ | Ubuntu 24.04 | PASS | +------------------------------+--------------------+ | Ubuntu 22.04 | PASS | +------------------------------+--------------------+ | CentOS Stream 10 | PASS | +------------------------------+--------------------+ | CentOS Stream 9 | PASS | +------------------------------+--------------------+ Red Hat Enterprise Linux 9.5 Kernel: 5.4 Compiler: gcc gcc (GCC) 11.5.0 20240719 (Red Hat 11.5.0-2) Ubuntu 20.04 Kernel: 5.15 Compiler: aarch64-linux-gnu-gcc gcc (Ubuntu 9.4.0-1ubuntu1~20.04.2) 9.4.0 Fedora Linux 42 Kernel: 5.4 Compiler: gcc gcc (GCC) 15.2.1 20250808 (Red Hat 15.2.1-1) Debian GNU/Linux 12 Kernel: 5.4 Compiler: gcc gcc (Debian 12.2.0-14+deb12u1) 12.2.0 Ubuntu 24.04 Kernel: 5.4 Compiler: gcc gcc (Ubuntu 13.3.0-6ubuntu2~24.04) 13.3.0 Ubuntu 22.04 Kernel: 5.4 Compiler: gcc gcc (Ubuntu 11.4.0-1ubuntu1~22.04) 11.4.0 CentOS Stream 10 Kernel: 5.4 Compiler: gcc gcc (GCC) 14.2.1 20250110 (Red Hat 14.2.1-8) CentOS Stream 9 Kernel: 5.4 Compiler: gcc gcc (GCC) 11.5.0 20240719 (Red Hat 11.5.0-11) To view detailed results, visit: https://lab.dpdk.org/results/dashboard/patchsets/34286/ UNH-IOL DPDK Community Lab To manage your email subscriptions, visit: https://lab.dpdk.org/results/dashboard/preferences/subscriptions/