From mboxrd@z Thu Jan 1 00:00:00 1970 Return-Path: Received: from mails.dpdk.org (mails.dpdk.org [217.70.189.124]) by inbox.dpdk.org (Postfix) with ESMTP id 66D7148946 for ; Wed, 15 Oct 2025 22:37:24 +0200 (CEST) Received: from mails.dpdk.org (localhost [127.0.0.1]) by mails.dpdk.org (Postfix) with ESMTP id 4225B40273; Wed, 15 Oct 2025 22:37:24 +0200 (CEST) Received: from mail-il1-f225.google.com (mail-il1-f225.google.com [209.85.166.225]) by mails.dpdk.org (Postfix) with ESMTP id 5731740273 for ; Wed, 15 Oct 2025 22:37:22 +0200 (CEST) Received: by mail-il1-f225.google.com with SMTP id e9e14a558f8ab-430af8922bfso4319845ab.2 for ; Wed, 15 Oct 2025 13:37:22 -0700 (PDT) DKIM-Signature: v=1; a=rsa-sha256; c=relaxed/relaxed; d=iol.unh.edu; s=unh-iol; t=1760560641; x=1761165441; darn=dpdk.org; h=references:in-reply-to:cc:to:from:subject:message-id:date:from:to :cc:subject:date:message-id:reply-to; bh=Y+9eE7I4ygz+snBAQUuezHaHwpQ9DNUpYLS/uGZUZQM=; b=KYIOLWXELrfDO/ZmYCyblbzJwl5JGwkEOPEgeeyWsTvACEzO1dIuW5/hSt+O+lCx6+ IJZqbjkbU3qtHimo/bZI2GvSJSwhmPvbQ+PL7kONTZZa5sbAQGgMmUvrU0d0dpUUz7Cl YD9wZNeqLaW8JHFtvKdfI4G+/a7SEiPEuLJ0o= X-Google-DKIM-Signature: v=1; a=rsa-sha256; c=relaxed/relaxed; d=1e100.net; s=20230601; t=1760560641; x=1761165441; h=references:in-reply-to:cc:to:from:subject:message-id:date :x-gm-message-state:from:to:cc:subject:date:message-id:reply-to; bh=Y+9eE7I4ygz+snBAQUuezHaHwpQ9DNUpYLS/uGZUZQM=; b=QJ05OsfpDGZ8VJ65ccr4U7Q77b2AFIjYduNp8nplfWogwwk9ywGaUdlsiW8wU295N9 xEg82ztu52YVEKJlLSOSvcpWRt/4QsULMZ72JZIvZmZE4iBAg0jhaVmvpR/K/3nCpebk F5afPOmptL/pHu4Z+Y6RcsdPpQSt353ahYhGqbaylhXGVUnG9p7hCDnlcsjC7/CV28dr PvDMBaxLGjFgz5hgitbOPhdiiD0AKZ4ifj6C7tn0HKW0uLrst8VI50Xa21fto8UJKSPm zIzLZrD5RUUzp4Kb4ajjumqpaUA/r2EsHI9KKvPYD+gk0Dn8ZkQay2lahuH2MsKReu85 SJQA== X-Gm-Message-State: AOJu0YzZrbAId4HVOvo5Kr7DPc138rauXZRtGEQ9ieUF/UJGnIhSSjY/ OnJ5VRy57M+xHN11g/aL73Vigype8/36rlR9vgpF75GTy0fqT1GZ3TELGHZCioJxgeJo3f/e0My aiT5EkfQTPaV91xEFUJxc8G+b9zOZ/Y9JaNn3Ol+AHjG+hiE7/molk/X3B/Pk X-Gm-Gg: ASbGncuuRs7b4/eZ2Bpo+1uN0QYBsN0IvT61h4Pq9KCYYIgLkKuyp3uhsOoOyqbOezr IcGSDLvTux0Jn34MhRhZDZ1kXBy3xEuB/leRpCgqBrUVxljpPW9n3kjvz+XRp/9ADVEmj5Syew2 QxgEl6T5pgrmvFFHoAUYe7jTcW2cOPW+jOvKsRvM/VSCtYTri3RD7JPliHt8tUDMlTPy0Fc89xq Sl6RxtJrArSu012yqd8dV8mpjm1AAGPw7V/UQ/cKzSc9HHyVtTdg5FxZGrnrzvQyRzTf0qcCsgx 04D6EltSmnmAUUK+iZ4sXKU1FfF6nTsKM761r6yKrXCX91R+kQ== X-Google-Smtp-Source: AGHT+IG3BWHUAwfs5YMQNIp7OzeAynlqEmoDnWH5UkmNfPqYtV0PNFYqn3V18V19/wHTOo+Y7rbG8RKsH3Jo X-Received: by 2002:a05:6e02:1a89:b0:42d:8b25:47ed with SMTP id e9e14a558f8ab-42f8736d49amr343357135ab.6.1760560641538; Wed, 15 Oct 2025 13:37:21 -0700 (PDT) Received: from postal.iol.unh.edu (postal.iol.unh.edu. [2606:4100:3880:1234::84]) by smtp-relay.gmail.com with ESMTPS id e9e14a558f8ab-430b51405adsm569795ab.30.2025.10.15.13.37.21 (version=TLS1_2 cipher=ECDHE-ECDSA-AES128-GCM-SHA256 bits=128/128); Wed, 15 Oct 2025 13:37:21 -0700 (PDT) X-Relaying-Domain: iol.unh.edu Date: Wed, 15 Oct 2025 13:37:21 -0700 (PDT) Message-ID: <68f00601.050a0220.1cd46d.34edSMTPIN_ADDED_MISSING@mx.google.com> Received: from [172.21.0.2] (unknown [172.18.0.240]) by postal.iol.unh.edu (Postfix) with ESMTP id 2E8FB60003E8; Wed, 15 Oct 2025 16:37:21 -0400 (EDT) Subject: |SUCCESS| pw157683 [PATCH] dmadev: replace zero length array From: dpdklab@iol.unh.edu To: Test Report Cc: dpdk-test-reports@iol.unh.edu In-Reply-To: <20251015185946.338417-1-stephen@networkplumber.org> References: <20251015185946.338417-1-stephen@networkplumber.org> Content-Type: text/plain X-BeenThere: test-report@dpdk.org X-Mailman-Version: 2.1.29 Precedence: list List-Id: automatic DPDK test reports List-Unsubscribe: , List-Archive: List-Post: List-Help: List-Subscribe: , Errors-To: test-report-bounces@dpdk.org Test-Label: iol-unit-amd64-testing Test-Status: SUCCESS http://dpdk.org/patch/157683 _Testing PASS_ Submitter: Stephen Hemminger Date: Wednesday, October 15 2025 18:59:46 DPDK git baseline: Repo:dpdk Branch: master CommitID:f15575af65c3ede008ecf89665a265fd2793b6ec 157683 --> testing pass Upstream job id: Generic-Unit-Test-DPDK#381801 Test environment and result as below: +-------------------------------+----------------+ | Environment | dpdk_unit_test | +===============================+================+ | CentOS Stream 9 | PASS | +-------------------------------+----------------+ | CentOS Stream 10 | PASS | +-------------------------------+----------------+ | Fedora Linux 41 | PASS | +-------------------------------+----------------+ | Fedora Linux 40 | PASS | +-------------------------------+----------------+ | Debian GNU/Linux 12 | PASS | +-------------------------------+----------------+ | Fedora Linux 42 | PASS | +-------------------------------+----------------+ | Red Hat Enterprise Linux 9.5 | PASS | +-------------------------------+----------------+ | Red Hat Enterprise Linux 8.10 | PASS | +-------------------------------+----------------+ | Ubuntu 22.04 | PASS | +-------------------------------+----------------+ | Ubuntu 20.04 | PASS | +-------------------------------+----------------+ | Ubuntu 24.04 | PASS | +-------------------------------+----------------+ | Windows Server 2022 | PASS | +-------------------------------+----------------+ CentOS Stream 9 Kernel: 5.15 Compiler: gcc gcc (GCC) 11.5.0 20240719 (Red Hat 11.5.0-11) CentOS Stream 10 Kernel: 5.15 Compiler: gcc gcc (GCC) 14.2.1 20250110 (Red Hat 14.2.1-8) Fedora Linux 41 Kernel: 5.15 Compiler: gcc gcc (GCC) 14.3.1 20250523 (Red Hat 14.3.1-1) Fedora Linux 40 Kernel: 5.15 Compiler: gcc gcc (GCC) 14.2.1 20240912 (Red Hat 14.2.1-3) Debian GNU/Linux 12 Kernel: 5.15 Compiler: gcc gcc (Debian 12.2.0-14+deb12u1) 12.2.0 Fedora Linux 42 Kernel: 5.15 Compiler: gcc gcc (GCC) 15.2.1 20250808 (Red Hat 15.2.1-1) Red Hat Enterprise Linux 9.5 Kernel: 5.15 Compiler: gcc gcc (GCC) 11.5.0 20240719 (Red Hat 11.5.0-2) Red Hat Enterprise Linux 8.10 Kernel: 5.15 Compiler: gcc gcc (GCC) 8.5.0 20210514 (Red Hat 8.5.0-22) Ubuntu 22.04 Kernel: 5.15 Compiler: gcc gcc (Ubuntu 11.4.0-1ubuntu1~22.04) 11.4.0 Ubuntu 20.04 Kernel: 5.15 Compiler: gcc gcc (Ubuntu 9.4.0-1ubuntu1~20.04.2) 9.4.0 Ubuntu 24.04 Kernel: 5.15 Compiler: gcc gcc (Ubuntu 13.3.0-6ubuntu2~24.04) 13.3.0 Windows Server 2022 Kernel: 10.0.20348.2031 Compiler: clang 15.0.7, gcc 14.1.0 (MinGW), and MSVC VS 19.39.33521 To view detailed results, visit: https://lab.dpdk.org/results/dashboard/patchsets/34288/ UNH-IOL DPDK Community Lab To manage your email subscriptions, visit: https://lab.dpdk.org/results/dashboard/preferences/subscriptions/