From mboxrd@z Thu Jan 1 00:00:00 1970 Return-Path: Received: from mails.dpdk.org (mails.dpdk.org [217.70.189.124]) by inbox.dpdk.org (Postfix) with ESMTP id 526E548946 for ; Wed, 15 Oct 2025 22:46:42 +0200 (CEST) Received: from mails.dpdk.org (localhost [127.0.0.1]) by mails.dpdk.org (Postfix) with ESMTP id 202D240273; Wed, 15 Oct 2025 22:46:42 +0200 (CEST) Received: from mail-pl1-f226.google.com (mail-pl1-f226.google.com [209.85.214.226]) by mails.dpdk.org (Postfix) with ESMTP id 1BD7D40273 for ; Wed, 15 Oct 2025 22:46:40 +0200 (CEST) Received: by mail-pl1-f226.google.com with SMTP id d9443c01a7336-27eec33b737so365325ad.1 for ; Wed, 15 Oct 2025 13:46:40 -0700 (PDT) DKIM-Signature: v=1; a=rsa-sha256; c=relaxed/relaxed; d=iol.unh.edu; s=unh-iol; t=1760561199; x=1761165999; darn=dpdk.org; h=references:in-reply-to:cc:to:from:subject:message-id:date:from:to :cc:subject:date:message-id:reply-to; bh=j0FWSHK7T+OnTd0jpSlGnYrx8kJs5vIzoqp1zw9r35U=; b=IeWpH/QTmPzuv1bPKvEoqOrlQ+IP7GdGHmQV0sxmSZhjWdODr+3GPCEu4PLxMXPqZH VPw+deE2NnA+AtDSrNDEveaY/QvfsSmd1MAD44iXvtNzDaAg7jQvSYEEdtdcxIiijN+6 HOro4XoEBFkcfb2I0yQ54og33hx9xB9NkgPY8= X-Google-DKIM-Signature: v=1; a=rsa-sha256; c=relaxed/relaxed; d=1e100.net; s=20230601; t=1760561199; x=1761165999; h=references:in-reply-to:cc:to:from:subject:message-id:date :x-gm-message-state:from:to:cc:subject:date:message-id:reply-to; bh=j0FWSHK7T+OnTd0jpSlGnYrx8kJs5vIzoqp1zw9r35U=; b=LhzHrmr2AaBTwHwFPKk5c7Qt+k6RXjo0kPIPgqTmcHq9x/4h7B4B0NE/dXRXVFbl0y BMPYgwSmE33FYdQ0hjxQGVY/qEBflfW/DMBRQlqm6HLQYwqeHSrtSHhWhWTMf94zJH3c CORRgbZUIJTqXjM4cuNnpVvx5dFnxFAvEZvkRbqRl7BSnL1jAFdfHT7w8MGzBnoDeF4z SwkD9E3HIX0nuhPd1DF08Yg0WCRpSTkchxDIlvNbPtqTGNJVnXq+OeNQsPtLo+DBwazL hL57cHyiw3vWExozBsoqGPCikDWyMHcoTROuK7mTOoR1iEehizyYX4rImm7ebYRjztPa cKLw== X-Gm-Message-State: AOJu0YynHjl1qteywfMMQKhkIHt0/RhmwFrLSmaFZZKX5IdUR5y4Gqze QjkR8DGPx2uFxWgtIW1qQTeoBLhbegYTjOEyZFQVOaFYrXG9cn8CEFbugxLh3j0GE1oEz1ZG5NN Fj4HeZ9ndk00RyFHzH9JlXJgkkVKkiM+PE8Msh+fuy1RG22VGB5UDt6qINTve X-Gm-Gg: ASbGnctCU4slSjUtID9iFMk5hEr07NCmbcL4n4hHfSUr58VZQfEUw22VyH42LLPvrwY QW8COr0Q/qJtg45Leyp4SG7BoXpFLxVfGn0QywnGiopn6i3somNrM99ReRM837cp111kkcyRaAT P1gMJe4QWz3UUg4C5yZXMp7Rb722L22K5BGe6zAn4RNQDeNRGBHAWSSPzvPHUpz8uFx8+1aHKVP oBJNdG2+HwmL3p3yHPkTkr7FUaG4rZNUes+JOjCsjYqA0gJh+m8rmilqGDCt128Y5CpUhVtK+vu s1j35evaLzbpVp5Mm28dMzPO5Q8hzuf3jjaAypPfq4XEjSUUyKeX5Bs425s4/KWELR1Nb18C7uN V/adNeKrT X-Google-Smtp-Source: AGHT+IEcGR+6ib2YV99fRQx13xldk4cIT2MqrOOwIIhLugd+DsDA6bH7u/cEEQwV34RwK/uyTGR6fHktszuM X-Received: by 2002:a17:903:faf:b0:276:9863:44da with SMTP id d9443c01a7336-2902721560emr326314095ad.8.1760561199196; Wed, 15 Oct 2025 13:46:39 -0700 (PDT) Received: from postal.iol.unh.edu (postal.iol.unh.edu. [2606:4100:3880:1234::84]) by smtp-relay.gmail.com with ESMTPS id 41be03b00d2f7-b6a22776d03sm50675a12.0.2025.10.15.13.46.39 (version=TLS1_2 cipher=ECDHE-ECDSA-AES128-GCM-SHA256 bits=128/128); Wed, 15 Oct 2025 13:46:39 -0700 (PDT) X-Relaying-Domain: iol.unh.edu Date: Wed, 15 Oct 2025 13:46:39 -0700 (PDT) Message-ID: <68f0082f.050a0220.2efbf9.2d18SMTPIN_ADDED_MISSING@mx.google.com> Received: from [172.21.0.2] (unknown [172.18.0.240]) by postal.iol.unh.edu (Postfix) with ESMTP id A071B6051830; Wed, 15 Oct 2025 16:46:38 -0400 (EDT) Subject: |WARNING| pw157683 [PATCH] dmadev: replace zero length array From: dpdklab@iol.unh.edu To: Test Report Cc: dpdk-test-reports@iol.unh.edu In-Reply-To: <20251015185946.338417-1-stephen@networkplumber.org> References: <20251015185946.338417-1-stephen@networkplumber.org> Content-Type: text/plain X-BeenThere: test-report@dpdk.org X-Mailman-Version: 2.1.29 Precedence: list List-Id: automatic DPDK test reports List-Unsubscribe: , List-Archive: List-Post: List-Help: List-Subscribe: , Errors-To: test-report-bounces@dpdk.org Test-Label: iol-compile-amd64-testing Test-Status: WARNING http://dpdk.org/patch/157683 _Testing issues_ Submitter: Stephen Hemminger Date: Wednesday, October 15 2025 18:59:46 DPDK git baseline: Repo:dpdk Branch: master CommitID:f15575af65c3ede008ecf89665a265fd2793b6ec 157683 --> testing issues Upstream job id: Generic-DPDK-Compile-Meson#434608 Test environment and result as below: +-------------------------------+--------------------+-------------------+------------------+-------------------------+-------------------+----------------------+ | Environment | dpdk_meson_compile | dpdk_compile_spdk | dpdk_compile_ovs | dpdk_llvm_clang_compile | dpdk_msvc_compile | dpdk_mingw64_compile | +===============================+====================+===================+==================+=========================+===================+======================+ | CentOS Stream 9 | PASS | WARN | SKIPPED | SKIPPED | SKIPPED | SKIPPED | +-------------------------------+--------------------+-------------------+------------------+-------------------------+-------------------+----------------------+ | CentOS Stream 10 | PASS | SKIPPED | SKIPPED | SKIPPED | SKIPPED | SKIPPED | +-------------------------------+--------------------+-------------------+------------------+-------------------------+-------------------+----------------------+ | Debian GNU/Linux 12 | PASS | WARN | SKIPPED | SKIPPED | SKIPPED | SKIPPED | +-------------------------------+--------------------+-------------------+------------------+-------------------------+-------------------+----------------------+ | Ubuntu 20.04 | PASS | SKIPPED | SKIPPED | SKIPPED | SKIPPED | SKIPPED | +-------------------------------+--------------------+-------------------+------------------+-------------------------+-------------------+----------------------+ | Fedora Linux 42 | PASS | WARN | PASS | SKIPPED | SKIPPED | SKIPPED | +-------------------------------+--------------------+-------------------+------------------+-------------------------+-------------------+----------------------+ | Red Hat Enterprise Linux 8.10 | PASS | SKIPPED | SKIPPED | SKIPPED | SKIPPED | SKIPPED | +-------------------------------+--------------------+-------------------+------------------+-------------------------+-------------------+----------------------+ | openSUSE Leap 15.6 | PASS | SKIPPED | SKIPPED | SKIPPED | SKIPPED | SKIPPED | +-------------------------------+--------------------+-------------------+------------------+-------------------------+-------------------+----------------------+ | FreeBSD 14.2 | PASS | SKIPPED | SKIPPED | SKIPPED | SKIPPED | SKIPPED | +-------------------------------+--------------------+-------------------+------------------+-------------------------+-------------------+----------------------+ | Red Hat Enterprise Linux 9.5 | PASS | SKIPPED | SKIPPED | SKIPPED | SKIPPED | SKIPPED | +-------------------------------+--------------------+-------------------+------------------+-------------------------+-------------------+----------------------+ | Ubuntu 22.04 | PASS | WARN | SKIPPED | SKIPPED | SKIPPED | SKIPPED | +-------------------------------+--------------------+-------------------+------------------+-------------------------+-------------------+----------------------+ | Ubuntu 24.04 | PASS | WARN | PASS | SKIPPED | SKIPPED | SKIPPED | +-------------------------------+--------------------+-------------------+------------------+-------------------------+-------------------+----------------------+ | Alpine Linux 3.22.0 | PASS | SKIPPED | SKIPPED | SKIPPED | SKIPPED | SKIPPED | +-------------------------------+--------------------+-------------------+------------------+-------------------------+-------------------+----------------------+ | Windows Server 2022 | SKIPPED | SKIPPED | SKIPPED | PASS | PASS | PASS | +-------------------------------+--------------------+-------------------+------------------+-------------------------+-------------------+----------------------+ ==== 20 line log output for Ubuntu 24.04 (dpdk_compile_spdk): ==== --- Failed to get log output --- ==== End log output ==== CentOS Stream 9 Kernel: 5.15 Compiler: gcc gcc (GCC) 11.5.0 20240719 (Red Hat 11.5.0-11) CentOS Stream 10 Kernel: 5.15 Compiler: gcc gcc (GCC) 14.2.1 20250110 (Red Hat 14.2.1-8) Debian GNU/Linux 12 Kernel: 5.15 Compiler: gcc gcc (Debian 12.2.0-14+deb12u1) 12.2.0 Ubuntu 20.04 Kernel: 4.19 Compiler: gcc gcc (Ubuntu 9.4.0-1ubuntu1~20.04.2) 9.4.0 Fedora Linux 42 Kernel: 5.15 Compiler: clang gcc (GCC) 15.2.1 20250808 (Red Hat 15.2.1-1) Red Hat Enterprise Linux 8.10 Kernel: 5.15 Compiler: gcc gcc (GCC) 8.5.0 20210514 (Red Hat 8.5.0-22) openSUSE Leap 15.6 Kernel: 5.15 Compiler: gcc gcc (SUSE Linux) 7.5.0 FreeBSD 14.2 Kernel: 14.2-RELEASE Compiler: clang 18.1.6 Red Hat Enterprise Linux 9.5 Kernel: 5.15 Compiler: gcc gcc (GCC) 11.5.0 20240719 (Red Hat 11.5.0-2) Ubuntu 22.04 Kernel: 5.15 Compiler: gcc gcc (Ubuntu 11.4.0-1ubuntu1~22.04) 11.4.0 Ubuntu 24.04 Kernel: 5.15 Compiler: gcc gcc (Ubuntu 13.3.0-6ubuntu2~24.04) 13.3.0 Alpine Linux 3.22.0 Kernel: 5.15 Compiler: gcc gcc (Alpine 14.2.0) 14.2.0 Windows Server 2022 Kernel: 10.0.20348.2031 Compiler: clang 15.0.7, gcc 14.1.0 (MinGW), and MSVC VS 19.39.33521 To view detailed results, visit: https://lab.dpdk.org/results/dashboard/patchsets/34288/ UNH-IOL DPDK Community Lab To manage your email subscriptions, visit: https://lab.dpdk.org/results/dashboard/preferences/subscriptions/