From mboxrd@z Thu Jan 1 00:00:00 1970 Return-Path: Received: from mails.dpdk.org (mails.dpdk.org [217.70.189.124]) by inbox.dpdk.org (Postfix) with ESMTP id D554448946 for ; Wed, 15 Oct 2025 23:15:48 +0200 (CEST) Received: from mails.dpdk.org (localhost [127.0.0.1]) by mails.dpdk.org (Postfix) with ESMTP id BED8140273; Wed, 15 Oct 2025 23:15:48 +0200 (CEST) Received: from mail-pl1-f228.google.com (mail-pl1-f228.google.com [209.85.214.228]) by mails.dpdk.org (Postfix) with ESMTP id 34CE340273 for ; Wed, 15 Oct 2025 23:15:48 +0200 (CEST) Received: by mail-pl1-f228.google.com with SMTP id d9443c01a7336-29091d29fc8so485065ad.0 for ; Wed, 15 Oct 2025 14:15:48 -0700 (PDT) DKIM-Signature: v=1; a=rsa-sha256; c=relaxed/relaxed; d=iol.unh.edu; s=unh-iol; t=1760562947; x=1761167747; darn=dpdk.org; h=cc:to:from:subject:message-id:date:from:to:cc:subject:date :message-id:reply-to; bh=npgQPlj4W922yaJDUv/uy0k40XdfwwWhldUo1VpMFow=; b=HFcwTxZ7LNvTPv6WHkGRzdJ4IEDv1EyAe9gyTDpgJ5yJLiMiB9PYu412i/AZTMNsii 2sXekTF1cxF4rhi+OpWljJbA/z4JyIVbMjoUdG9yIwZWbzjDpPj+Vf68VH+mgr9p/uDq h3xPLBnQfiaJ/pzSEug572O7K4yei4QDswG0c= X-Google-DKIM-Signature: v=1; a=rsa-sha256; c=relaxed/relaxed; d=1e100.net; s=20230601; t=1760562947; x=1761167747; h=cc:to:from:subject:message-id:date:x-gm-message-state:from:to:cc :subject:date:message-id:reply-to; bh=npgQPlj4W922yaJDUv/uy0k40XdfwwWhldUo1VpMFow=; b=qzQLtcHjv3TtRxNI76RrdpdvA4Yt3NlRGggZJB5WYFII4BKcDoRjWfH0lOx6zF5r8q +4YLCk+iu5KSgZtN+HP4ejY7RpRPfTAobwJRPZLDwyskWvhwJZp2U6NcY1/y+67CTHSk Y5mwEjp0ABsnqDv4e2HSkg8EG62hHnoQgBdskg7iSyd+VKWbnt02AADdZId8dNdVVXWd SESRZWZF3deELzL1KI6VZyUAZproo3KeEJMknwPuVD3oPDIunk9aFmGqLL1DhHZ0WIS6 CVWikLNdc2CKSF8bbiEHbsQdD+FmNKVrSboFiHYfeUyk0Ux8MaJduF8Tmmw1LP3BDu1K Wuaw== X-Gm-Message-State: AOJu0YzgDWS6A+TcYMXC2mirMUWdcDSaicrNjJEpgkQZtUISHm9OJiCl g4w68TZZ4TwsPlaqz0NoIkHuweglzZEQcekmmNHaZ7OUMiMsR+Rd/7lBVTjeD+04BOWHd7EwCrZ mfKrUv2I6IEHm15oZrM+kRVSZIgrKnSLIWdddezWVaiURRt6Eo8fIiBZRNKk9 X-Gm-Gg: ASbGncsLhF6getXNIxKszq7ZWNx0QHa7T82yLFFSYbNrSYb9lFRj0lNk+Ocat+o1jMM /eJCH8JKoFymufePhtV07TYTZw3+5FtNZf77fEkXdkDtEhApnw0ntIZrsxINeOgLAAg0iYgaX1Q 0Lfh+v9hGvJxrDaQs63UTdjclVRHvL1hd+vFlM2qzlUGTj0oFVJdC4a1mt3iPkfB3SzLmJi0eFN 1IsGfx4aCzbnucO9T7Hec7PkpXm4Yxvzt3VbqEfd0WnIlQho6T5DnfUgUmE2RimL74hN6qL35y2 DidgiOwM9r7QM5ERs6qSNTF9FRaDES/V9CGYJHTkHqmmGJnpRw== X-Google-Smtp-Source: AGHT+IHMRYCI/GSUU5Ece1i/EpY6SRutTdtxLdDB2dtLMy3DZHLsv2b4DLLurqypqLj6bk4SyEaawzYLywC8 X-Received: by 2002:a17:903:4b46:b0:27d:6f49:febc with SMTP id d9443c01a7336-290272159d1mr393098665ad.1.1760562947254; Wed, 15 Oct 2025 14:15:47 -0700 (PDT) Received: from postal.iol.unh.edu (postal.iol.unh.edu. [2606:4100:3880:1234::84]) by smtp-relay.gmail.com with ESMTPS id 98e67ed59e1d1-33b62587e8dsm1627605a91.0.2025.10.15.14.15.47 (version=TLS1_2 cipher=ECDHE-ECDSA-AES128-GCM-SHA256 bits=128/128); Wed, 15 Oct 2025 14:15:47 -0700 (PDT) X-Relaying-Domain: iol.unh.edu Date: Wed, 15 Oct 2025 14:15:47 -0700 (PDT) Message-ID: <68f00f03.170a0220.b466.0b18SMTPIN_ADDED_MISSING@mx.google.com> Received: from [172.21.0.2] (unknown [172.18.0.240]) by postal.iol.unh.edu (Postfix) with ESMTP id 6FB296051830; Wed, 15 Oct 2025 17:15:46 -0400 (EDT) Subject: |SUCCESS| [GIT MASTER] d2d0163cb4200ff7e450fd66eb6a92a931f06de7 From: dpdklab@iol.unh.edu To: Test Report Cc: dpdk-test-reports@iol.unh.edu, Bruce Richardson Content-Type: text/plain X-BeenThere: test-report@dpdk.org X-Mailman-Version: 2.1.29 Precedence: list List-Id: automatic DPDK test reports List-Unsubscribe: , List-Archive: List-Post: List-Help: List-Subscribe: , Errors-To: test-report-bounces@dpdk.org _Testing PASS_ Branch: dpdk-next-net-intel d2d0163cb4200ff7e450fd66eb6a92a931f06de7 --> testing pass Upstream job id: Generic-Unit-Test-DPDK#381673 Test environment and result as below: +------------------------------+--------------+---------------------------+------------------------------+----------------+ | Environment | lpm_autotest | cryptodev_sw_zuc_autotest | cryptodev_sw_snow3g_autotest | dpdk_unit_test | +==============================+==============+===========================+==============================+================+ | Ubuntu 20.04 | PASS | SKIPPED | SKIPPED | PASS | +------------------------------+--------------+---------------------------+------------------------------+----------------+ | Debian 12 (arm) | SKIPPED | PASS | PASS | SKIPPED | +------------------------------+--------------+---------------------------+------------------------------+----------------+ | CentOS Stream 9 | SKIPPED | SKIPPED | SKIPPED | PASS | +------------------------------+--------------+---------------------------+------------------------------+----------------+ | Fedora Linux 40 | SKIPPED | SKIPPED | SKIPPED | PASS | +------------------------------+--------------+---------------------------+------------------------------+----------------+ | CentOS Stream 10 | SKIPPED | SKIPPED | SKIPPED | PASS | +------------------------------+--------------+---------------------------+------------------------------+----------------+ | Debian GNU/Linux 12 | SKIPPED | SKIPPED | SKIPPED | PASS | +------------------------------+--------------+---------------------------+------------------------------+----------------+ | Fedora Linux 42 | SKIPPED | SKIPPED | SKIPPED | PASS | +------------------------------+--------------+---------------------------+------------------------------+----------------+ | Red Hat Enterprise Linux 9.5 | SKIPPED | SKIPPED | SKIPPED | PASS | +------------------------------+--------------+---------------------------+------------------------------+----------------+ | Fedora Linux 41 | SKIPPED | SKIPPED | SKIPPED | PASS | +------------------------------+--------------+---------------------------+------------------------------+----------------+ | Ubuntu 22.04 | SKIPPED | SKIPPED | SKIPPED | PASS | +------------------------------+--------------+---------------------------+------------------------------+----------------+ | Ubuntu 24.04 | SKIPPED | SKIPPED | SKIPPED | PASS | +------------------------------+--------------+---------------------------+------------------------------+----------------+ Ubuntu 20.04 Kernel: 5.4 Compiler: gcc gcc (Ubuntu 9.4.0-1ubuntu1~20.04.2) 9.4.0 Debian 12 (arm) Kernel: Depends on container host Compiler: gcc (Debian 12.2.0-14) 12.2.0 CentOS Stream 9 Kernel: 5.4 Compiler: gcc gcc (GCC) 11.5.0 20240719 (Red Hat 11.5.0-11) Fedora Linux 40 Kernel: 5.4 Compiler: gcc gcc (GCC) 14.2.1 20240912 (Red Hat 14.2.1-3) CentOS Stream 10 Kernel: 5.4 Compiler: gcc gcc (GCC) 14.2.1 20250110 (Red Hat 14.2.1-8) Debian GNU/Linux 12 Kernel: 5.4 Compiler: gcc gcc (Debian 12.2.0-14+deb12u1) 12.2.0 Fedora Linux 42 Kernel: 5.4 Compiler: gcc gcc (GCC) 15.2.1 20250808 (Red Hat 15.2.1-1) Red Hat Enterprise Linux 9.5 Kernel: 5.4 Compiler: gcc gcc (GCC) 11.5.0 20240719 (Red Hat 11.5.0-2) Fedora Linux 41 Kernel: 5.4 Compiler: gcc gcc (GCC) 14.3.1 20250523 (Red Hat 14.3.1-1) Ubuntu 22.04 Kernel: 5.4 Compiler: gcc gcc (Ubuntu 11.4.0-1ubuntu1~22.04) 11.4.0 Ubuntu 24.04 Kernel: 5.4 Compiler: gcc gcc (Ubuntu 13.3.0-6ubuntu2~24.04) 13.3.0 To view detailed results, visit: https://lab.dpdk.org/results/dashboard/tarballs/35217/ UNH-IOL DPDK Community Lab To manage your email subscriptions, visit: https://lab.dpdk.org/results/dashboard/preferences/subscriptions/