From mboxrd@z Thu Jan 1 00:00:00 1970 Return-Path: Received: from mails.dpdk.org (mails.dpdk.org [217.70.189.124]) by inbox.dpdk.org (Postfix) with ESMTP id 0F5654894C for ; Thu, 16 Oct 2025 00:00:37 +0200 (CEST) Received: from mails.dpdk.org (localhost [127.0.0.1]) by mails.dpdk.org (Postfix) with ESMTP id E6D7840273; Thu, 16 Oct 2025 00:00:36 +0200 (CEST) Received: from mail-pl1-f226.google.com (mail-pl1-f226.google.com [209.85.214.226]) by mails.dpdk.org (Postfix) with ESMTP id D936240273 for ; Thu, 16 Oct 2025 00:00:34 +0200 (CEST) Received: by mail-pl1-f226.google.com with SMTP id d9443c01a7336-29091d29fc8so734585ad.0 for ; Wed, 15 Oct 2025 15:00:34 -0700 (PDT) DKIM-Signature: v=1; a=rsa-sha256; c=relaxed/relaxed; d=iol.unh.edu; s=unh-iol; t=1760565634; x=1761170434; darn=dpdk.org; h=references:in-reply-to:cc:to:from:subject:message-id:date:from:to :cc:subject:date:message-id:reply-to; bh=dUqxAmUsrn2MsMuzE3I/wlTWdHuhHEMNs7FMl7RMqB8=; b=DuYyo0AhiaRIdXbdUNjifN8O9XdXA1RE0oQKJQ6MWxZiwGs24p8jzT9EMYYX60gBDP wQSwGFvWUDwxlE3S+5/DjehqSNhKuhLFKdPhig7bvqr7RqLa448N3gYwvLT6ZzC3k93u bTUBvIySRZe+Es0dtocOt/T8/spGt9nN4StpU= X-Google-DKIM-Signature: v=1; a=rsa-sha256; c=relaxed/relaxed; d=1e100.net; s=20230601; t=1760565634; x=1761170434; h=references:in-reply-to:cc:to:from:subject:message-id:date :x-gm-message-state:from:to:cc:subject:date:message-id:reply-to; bh=dUqxAmUsrn2MsMuzE3I/wlTWdHuhHEMNs7FMl7RMqB8=; b=wOma2cKKBboKZ6gDyhTGF7luxfLvO2hQvhbn2bsaOwzrbvEldQFSPNhYWJTTYBSZGX XTkYLpDp6GM4VtzVLE7tu9pu4AW7KJ7LLl2aspBzw2vsFWlaRFOASnF5/nEshKV/k+Th QhVefXe2miIojnB+vFOLRBiowVLWH8fjvey2pd+67fBpI4wsfSixNhN+LZOV5nJWEESy bXgps6X2Ta4R2pfTlLk42UzKisW+nkBMnJ0TM8y5nMUj0QAk3gMan4wEhwoBj2CRGHtN +TsMMHv+qveUlXyNFvIs4//h0XqO/EV2jQSJqrtfGp+VRg+krfZ6MsKUP2KkFAvyRvZd Zing== X-Gm-Message-State: AOJu0Yy7O7t5WthlKLHmljUAOHlAELTqfd8M9s6w7KrbUB5zuYtA2kyg mHxe8UcHtTgzDu3Lb/icfpyuZuDbA0y559wB/qRizhafHA4JFcO8LYsqMR2Rt2awWpohI/sN4V1 BlzRTlkqD/jIc323LErLJ+vGni+TRfp5MyXe9k7CWYzL1 X-Gm-Gg: ASbGncus17ui9LU7rUXxWRncLAmCE0Wh0t9qyK7arZgl4YwClr5tgHZnE9p6Ydmb0aD 39BflXWE9xT78VCiHtamvolDZSs4uinqq8K7YIBaLkBZg1VvSR1Zl1tmuCgdUAWaaDcAnlO1KuP 2CmEbUhyLsK1U1cEeHPEoYSFqiruWKs6gHALXZOlytM2pIe16af3Vn1eePw6Zs9cukiSO7+JH/Q is4htjcbn3TFM1HKMsd7iMfZfemseq7k3jIAS06xPWKcynuiLYaDUXgPWN6FxVhao2/ui2VYbm3 RxWWBH808g25tUNuZ6jepGd7qc382XQWc2ccz14wx790TZI57jX4dl/Vo/VqhFOn5fDq7I31CPX qXAcyROOaq/3hlEYEiXneXq/rCuOXbzk= X-Google-Smtp-Source: AGHT+IHswNMj/t6J5I7jphqlJ2Y1ugUdWPVMeAbUEGXQnxh10ycy4EXiKB2CynmH4yMe2yx8tayIVRiquCPl X-Received: by 2002:a17:903:2350:b0:274:aab9:4ed4 with SMTP id d9443c01a7336-29027312ffamr362426405ad.57.1760565633816; Wed, 15 Oct 2025 15:00:33 -0700 (PDT) Received: from postal.iol.unh.edu (postal.iol.unh.edu. [132.177.123.84]) by smtp-relay.gmail.com with ESMTPS id d9443c01a7336-2909ee4f845sm467215ad.62.2025.10.15.15.00.33 (version=TLS1_2 cipher=ECDHE-ECDSA-AES128-GCM-SHA256 bits=128/128); Wed, 15 Oct 2025 15:00:33 -0700 (PDT) X-Relaying-Domain: iol.unh.edu Date: Wed, 15 Oct 2025 15:00:33 -0700 (PDT) Message-ID: <68f01981.170a0220.3c0a43.6f62SMTPIN_ADDED_MISSING@mx.google.com> Received: from [172.21.0.3] (unknown [172.18.0.240]) by postal.iol.unh.edu (Postfix) with ESMTP id 0F2026051830; Wed, 15 Oct 2025 18:00:32 -0400 (EDT) Subject: |SUCCESS| pw157682 [PATCH] [v2] net/i40e: fix symmetric toeplitz has From: dpdklab@iol.unh.edu To: Test Report Cc: dpdk-test-reports@iol.unh.edu, Bruce Richardson In-Reply-To: <20251015181150.93621-1-anurag.mandal@intel.com> References: <20251015181150.93621-1-anurag.mandal@intel.com> Content-Type: text/plain X-BeenThere: test-report@dpdk.org X-Mailman-Version: 2.1.29 Precedence: list List-Id: automatic DPDK test reports List-Unsubscribe: , List-Archive: List-Post: List-Help: List-Subscribe: , Errors-To: test-report-bounces@dpdk.org Test-Label: iol-compile-arm64-testing Test-Status: SUCCESS http://dpdk.org/patch/157682 _Testing PASS_ Submitter: Anurag Mandal Date: Wednesday, October 15 2025 18:11:50 DPDK git baseline: Repo:dpdk-next-net-intel Branch: master CommitID:d2d0163cb4200ff7e450fd66eb6a92a931f06de7 157682 --> testing pass Upstream job id: Generic-DPDK-Compile-Meson#434577 Test environment and result as below: +------------------------------+--------------------+ | Environment | dpdk_meson_compile | +==============================+====================+ | Red Hat Enterprise Linux 9.5 | PASS | +------------------------------+--------------------+ | Ubuntu 20.04 | PASS | +------------------------------+--------------------+ | Debian GNU/Linux 12 | PASS | +------------------------------+--------------------+ | Fedora Linux 42 | PASS | +------------------------------+--------------------+ | Ubuntu 22.04 | PASS | +------------------------------+--------------------+ | Ubuntu 24.04 | PASS | +------------------------------+--------------------+ | CentOS Stream 9 | PASS | +------------------------------+--------------------+ | CentOS Stream 10 | PASS | +------------------------------+--------------------+ Red Hat Enterprise Linux 9.5 Kernel: 5.4 Compiler: gcc gcc (GCC) 11.5.0 20240719 (Red Hat 11.5.0-2) Ubuntu 20.04 Kernel: 5.15 Compiler: aarch64-linux-gnu-gcc gcc (Ubuntu 9.4.0-1ubuntu1~20.04.2) 9.4.0 Debian GNU/Linux 12 Kernel: 5.4 Compiler: gcc gcc (Debian 12.2.0-14+deb12u1) 12.2.0 Fedora Linux 42 Kernel: 5.4 Compiler: gcc gcc (GCC) 15.2.1 20250808 (Red Hat 15.2.1-1) Ubuntu 22.04 Kernel: 5.4 Compiler: gcc gcc (Ubuntu 11.4.0-1ubuntu1~22.04) 11.4.0 Ubuntu 24.04 Kernel: 5.4 Compiler: gcc gcc (Ubuntu 13.3.0-6ubuntu2~24.04) 13.3.0 CentOS Stream 9 Kernel: 5.4 Compiler: gcc gcc (GCC) 11.5.0 20240719 (Red Hat 11.5.0-11) CentOS Stream 10 Kernel: 5.4 Compiler: gcc gcc (GCC) 14.2.1 20250110 (Red Hat 14.2.1-8) To view detailed results, visit: https://lab.dpdk.org/results/dashboard/patchsets/34287/ UNH-IOL DPDK Community Lab To manage your email subscriptions, visit: https://lab.dpdk.org/results/dashboard/preferences/subscriptions/