From mboxrd@z Thu Jan 1 00:00:00 1970 Return-Path: Received: from mails.dpdk.org (mails.dpdk.org [217.70.189.124]) by inbox.dpdk.org (Postfix) with ESMTP id 205C248946 for ; Thu, 16 Oct 2025 00:17:59 +0200 (CEST) Received: from mails.dpdk.org (localhost [127.0.0.1]) by mails.dpdk.org (Postfix) with ESMTP id 1B6AE40E03; Thu, 16 Oct 2025 00:17:59 +0200 (CEST) Received: from mail-il1-f227.google.com (mail-il1-f227.google.com [209.85.166.227]) by mails.dpdk.org (Postfix) with ESMTP id 981B940E03 for ; Thu, 16 Oct 2025 00:17:58 +0200 (CEST) Received: by mail-il1-f227.google.com with SMTP id e9e14a558f8ab-42f7b17f9f7so764365ab.1 for ; Wed, 15 Oct 2025 15:17:58 -0700 (PDT) DKIM-Signature: v=1; a=rsa-sha256; c=relaxed/relaxed; d=iol.unh.edu; s=unh-iol; t=1760566678; x=1761171478; darn=dpdk.org; h=references:in-reply-to:cc:to:from:subject:message-id:date:from:to :cc:subject:date:message-id:reply-to; bh=XniOtRbWKYEDGJpe90a9g0GDKLm/umxE1lTLvOb25WQ=; b=C6lVzHu5SKapCvY6D5wpAOeg0OZKRvyMZgZJsLBshro1cY3hHEfBUQ9LmU77n2AcW8 TMihXtX00wPGHoVJRNLaZrjAT3j/Dxfeva68Cj05zUQqmX/aPo1jq/6mlPrTipdZr7pM etiC23b/21YhKfPvalty3VbLhvgQy9Q7GE4yA= X-Google-DKIM-Signature: v=1; a=rsa-sha256; c=relaxed/relaxed; d=1e100.net; s=20230601; t=1760566678; x=1761171478; h=references:in-reply-to:cc:to:from:subject:message-id:date :x-gm-message-state:from:to:cc:subject:date:message-id:reply-to; bh=XniOtRbWKYEDGJpe90a9g0GDKLm/umxE1lTLvOb25WQ=; b=ofkmsLSZqqGxSI7u5Ayu58MBedoHXkos3hD2r8m772lFPcUK8qYgh9Wz2PGHEv1mTl IuLnjKgn0DiN493Z3BWv0P7H+Pfa4b0WQ0RGNGIEo7fhuZKhJpLg3fLA4X8f/ppsOVTT N3rOFHb+6fUksqLyGgvN8DTjQKrVAZxWHqVmY/86QrLsa8b4v2RBXQMZuHrkcoS2YnNC Fe5rRYKv6YEAxD/oa2lejtebNPzVZlKCWncMSctE07hYuB6re/dmYbwzGQ5pDHvuX/hc UbCe/6CjFoZpNV+Hp0pugLBdMjmMQ7qMTcKhWMe4K007/hO0bEnbrZeP2exOwratmNgT /v8w== X-Gm-Message-State: AOJu0YymTPIPylQnGJzgazb/Um6exaNNTIYIDS3itZ76QbtRGX5Y34tn BwUya+PCVe/XwSwP9J7g2A0wMC5Ua3fxHXYT8Cdb0l0KJt87lEoD61tDXQ5H18wUkVaPWxD7i1a jDOWk2FNsTJqNrqOss5/HL0S8Qqt0lJhplrYtj0r5BtLL X-Gm-Gg: ASbGncuLdPAGmoe9TffnOGmU3l39mNTffBu4mPlr8MHMjR85V+7YNNvZkuMZp0qguHp ifoouuKFlFUNj6Ymn7zwuTlHcH0aNiT3aIZUtlr0xmbJ3fxEWnHMPv43tIYXcPTbYBdz0Vedqm7 o3aH230SF/HvTEshxMIqjAXcIY7jhhxwEfnn45OY11wlNPFGpe1tKhTtjD1FxJjpC74g8/ow1bs Qqi0i8X4qKz2baYCR5dMPD+tbUbW2oEt0l0qxvHcXnNi4mMsRZykRQIExdg40PtSM9uaGQ2g3sR gg+gOF/OeLc10LQXhxIBD9Rc+3PeGyVB8sCziEEHV5/lHonypXBPsq2s9JdbLS/ikYj6WAifeSJ E6imrEEqTFT21V6vX+2wI+J3DC84Y2K0= X-Google-Smtp-Source: AGHT+IGMXJkTMfuu1Mq63ZqMEUaQdRbKJ6EPt0IwAvjgrOMCy94IHOB44FgA/g/Gi/wZ04nyuabzMPuWzd10 X-Received: by 2002:a05:6e02:1808:b0:42f:a6cf:8afa with SMTP id e9e14a558f8ab-42fa6cf8cc8mr215676435ab.19.1760566677901; Wed, 15 Oct 2025 15:17:57 -0700 (PDT) Received: from postal.iol.unh.edu (postal.iol.unh.edu. [132.177.123.84]) by smtp-relay.gmail.com with ESMTPS id 8926c6da1cb9f-58f6d042b50sm1384283173.9.2025.10.15.15.17.57 (version=TLS1_2 cipher=ECDHE-ECDSA-AES128-GCM-SHA256 bits=128/128); Wed, 15 Oct 2025 15:17:57 -0700 (PDT) X-Relaying-Domain: iol.unh.edu Date: Wed, 15 Oct 2025 15:17:57 -0700 (PDT) Message-ID: <68f01d95.050a0220.29fc06.5902SMTPIN_ADDED_MISSING@mx.google.com> Received: from [172.21.0.2] (unknown [172.18.0.240]) by postal.iol.unh.edu (Postfix) with ESMTP id 639776051830; Wed, 15 Oct 2025 18:17:57 -0400 (EDT) Subject: |SUCCESS| pw157661-157680 [PATCH] [v2,20/20] net/ena: upgrade driver From: dpdklab@iol.unh.edu To: Test Report Cc: dpdk-test-reports@iol.unh.edu In-Reply-To: <20251015121436.3219-1-shaibran@amazon.com> References: <20251015121436.3219-1-shaibran@amazon.com> Content-Type: text/plain X-BeenThere: test-report@dpdk.org X-Mailman-Version: 2.1.29 Precedence: list List-Id: automatic DPDK test reports List-Unsubscribe: , List-Archive: List-Post: List-Help: List-Subscribe: , Errors-To: test-report-bounces@dpdk.org Test-Label: iol-unit-arm64-testing Test-Status: SUCCESS http://dpdk.org/patch/157680 _Testing PASS_ Submitter: Shai Brandes Date: Wednesday, October 15 2025 12:14:36 DPDK git baseline: Repo:dpdk Branch: master CommitID:c4b0762fce81ba6edfec0d935cf23342f78018e3 157661-157680 --> testing pass Upstream job id: Generic-Unit-Test-DPDK#381703 Test environment and result as below: +------------------------------+------------------------------+--------------+---------------------------+----------------+ | Environment | cryptodev_sw_snow3g_autotest | lpm_autotest | cryptodev_sw_zuc_autotest | dpdk_unit_test | +==============================+==============================+==============+===========================+================+ | Debian 12 (arm) | PASS | SKIPPED | PASS | SKIPPED | +------------------------------+------------------------------+--------------+---------------------------+----------------+ | Ubuntu 20.04 | SKIPPED | PASS | SKIPPED | PASS | +------------------------------+------------------------------+--------------+---------------------------+----------------+ | CentOS Stream 10 | SKIPPED | SKIPPED | SKIPPED | PASS | +------------------------------+------------------------------+--------------+---------------------------+----------------+ | CentOS Stream 9 | SKIPPED | SKIPPED | SKIPPED | PASS | +------------------------------+------------------------------+--------------+---------------------------+----------------+ | Debian GNU/Linux 12 | SKIPPED | SKIPPED | SKIPPED | PASS | +------------------------------+------------------------------+--------------+---------------------------+----------------+ | Fedora Linux 41 | SKIPPED | SKIPPED | SKIPPED | PASS | +------------------------------+------------------------------+--------------+---------------------------+----------------+ | Fedora Linux 40 | SKIPPED | SKIPPED | SKIPPED | PASS | +------------------------------+------------------------------+--------------+---------------------------+----------------+ | Fedora Linux 42 | SKIPPED | SKIPPED | SKIPPED | PASS | +------------------------------+------------------------------+--------------+---------------------------+----------------+ | Red Hat Enterprise Linux 9.5 | SKIPPED | SKIPPED | SKIPPED | PASS | +------------------------------+------------------------------+--------------+---------------------------+----------------+ | Ubuntu 22.04 | SKIPPED | SKIPPED | SKIPPED | PASS | +------------------------------+------------------------------+--------------+---------------------------+----------------+ | Ubuntu 24.04 | SKIPPED | SKIPPED | SKIPPED | PASS | +------------------------------+------------------------------+--------------+---------------------------+----------------+ Debian 12 (arm) Kernel: Depends on container host Compiler: gcc (Debian 12.2.0-14) 12.2.0 Ubuntu 20.04 Kernel: 5.4 Compiler: gcc gcc (Ubuntu 9.4.0-1ubuntu1~20.04.2) 9.4.0 CentOS Stream 10 Kernel: 5.4 Compiler: gcc gcc (GCC) 14.2.1 20250110 (Red Hat 14.2.1-8) CentOS Stream 9 Kernel: 5.4 Compiler: gcc gcc (GCC) 11.5.0 20240719 (Red Hat 11.5.0-11) Debian GNU/Linux 12 Kernel: 5.4 Compiler: gcc gcc (Debian 12.2.0-14+deb12u1) 12.2.0 Fedora Linux 41 Kernel: 5.4 Compiler: gcc gcc (GCC) 14.3.1 20250523 (Red Hat 14.3.1-1) Fedora Linux 40 Kernel: 5.4 Compiler: gcc gcc (GCC) 14.2.1 20240912 (Red Hat 14.2.1-3) Fedora Linux 42 Kernel: 5.4 Compiler: gcc gcc (GCC) 15.2.1 20250808 (Red Hat 15.2.1-1) Red Hat Enterprise Linux 9.5 Kernel: 5.4 Compiler: gcc gcc (GCC) 11.5.0 20240719 (Red Hat 11.5.0-2) Ubuntu 22.04 Kernel: 5.4 Compiler: gcc gcc (Ubuntu 11.4.0-1ubuntu1~22.04) 11.4.0 Ubuntu 24.04 Kernel: 5.4 Compiler: gcc gcc (Ubuntu 13.3.0-6ubuntu2~24.04) 13.3.0 To view detailed results, visit: https://lab.dpdk.org/results/dashboard/patchsets/34285/ UNH-IOL DPDK Community Lab To manage your email subscriptions, visit: https://lab.dpdk.org/results/dashboard/preferences/subscriptions/