From mboxrd@z Thu Jan 1 00:00:00 1970 Return-Path: Received: from mails.dpdk.org (mails.dpdk.org [217.70.189.124]) by inbox.dpdk.org (Postfix) with ESMTP id 0F34F48948 for ; Thu, 16 Oct 2025 02:59:20 +0200 (CEST) Received: from mails.dpdk.org (localhost [127.0.0.1]) by mails.dpdk.org (Postfix) with ESMTP id 0934740273; Thu, 16 Oct 2025 02:59:20 +0200 (CEST) Received: from mail-yw1-f227.google.com (mail-yw1-f227.google.com [209.85.128.227]) by mails.dpdk.org (Postfix) with ESMTP id 29E7540273 for ; Thu, 16 Oct 2025 02:59:18 +0200 (CEST) Received: by mail-yw1-f227.google.com with SMTP id 00721157ae682-72e565bf2feso1763967b3.3 for ; Wed, 15 Oct 2025 17:59:18 -0700 (PDT) DKIM-Signature: v=1; a=rsa-sha256; c=relaxed/relaxed; d=iol.unh.edu; s=unh-iol; t=1760576357; x=1761181157; darn=dpdk.org; h=references:in-reply-to:cc:to:from:subject:message-id:date:from:to :cc:subject:date:message-id:reply-to; bh=7vUow0rAro6mzCS82PPD4cv8lDZYu1EqJv3/1houCUM=; b=eY6JHsh/wVRPmu8U01OWRTovBhGgZqqHeBzyXgqF5NWZZPhWsYOi0fb4isXUm3/IkI Sir77FbfO6iquyAriZ46oPic/Q+7ce4AMMYx7of7L1PP3yY6nz1EYx0whMr0mxDcf12P gMha1kYtCjZNNXsfr/7BhJFzSV2J6wicfAvMA= X-Google-DKIM-Signature: v=1; a=rsa-sha256; c=relaxed/relaxed; d=1e100.net; s=20230601; t=1760576357; x=1761181157; h=references:in-reply-to:cc:to:from:subject:message-id:date :x-gm-message-state:from:to:cc:subject:date:message-id:reply-to; bh=7vUow0rAro6mzCS82PPD4cv8lDZYu1EqJv3/1houCUM=; b=C1tllliOL5YfXnw6ye/iPspYvE0vE2Z0u40xVI+x/ulILogKC2brBhmRr1ishf4oe/ UXo9y1X+C179rHP9xQXWSLrF4dOtaftDbjKGW0TRYN9cERAsXLvGClfvmQ1fjgjAaEEF ZYgvtHoB9Z71ZXjWTceEELle2MAYyQitJEnKbNDWYCOdN2Q9HYTRjaJ0d0bKFzFMSmFL uBNDyLOwidXaZjY3/yYrzjz9gK7q+Qdvxw8ATNXhnGXgplOm94ivgCuHlWFDUsnq50Wu c4zYc81WeZaNNHvSBLwPE9YasJDMS9eax9LPwGjVuU2BQc6Nl4KjNrSjQYon5mpunjJw LUGQ== X-Gm-Message-State: AOJu0Yy29hXSKCiZ2DuBvoU6zEspLsuwAyp/nslSXSsBpaY+dVGeGfWy +oiphAMBnCt8qVBDcTK3W8Ltzh9KDLch2YenAVSmQXDJ5yK/4s3Gxbx8w4Y5H8ex4AUNRVEhouf lD2Wt9o5Q95wPOWwrrCghKLBnKNNyT+kqZaYIC4nwtwUj X-Gm-Gg: ASbGncszo0HM7IuBKz7d1ToHbOWSagPiHS+ZkBDFRtm+/m2eiDgOUVYJbMXUzv8kz86 dRX+QqsY8SF9hwQ/f9eMZC8vwNz8vEYxgb0xlsCB+iXTosZq0MKDZomUNtS902UIlqeX4mW7qNx v8aUlzo6AZDnsII6AvHsNjhMQN9mS3bRCxlA1SgjZNRphpmT3wiOxqAo9xREAdsn4LG98Mt/ixs fdHntldMIeat/Lvy1caCsfmvTk1xwTeALlFDvoGPzsrHI+9l3A8WTWu6KTcD6C9q6EAcDnbjLp3 3Djl7PlwUZ6x4ivueaM3McFhiThOtnMnZ3zPSpeQkrCImVP1gcPfMOdRUTyQN1OqHYCJEX4xOe+ Zp6MAHTRTDLYe+h/tdKsMO4+81SEp81w= X-Google-Smtp-Source: AGHT+IHmVkprt/90C2m9GALmKU+x95gCZIuTpFZg2g0bopCHWk/jq7fH6rQMhEIv2vhaWR0VyuhwmloLd4Zc X-Received: by 2002:a53:d946:0:b0:636:d6e5:b5f4 with SMTP id 956f58d0204a3-63ccb853d9amr19436569d50.16.1760576357400; Wed, 15 Oct 2025 17:59:17 -0700 (PDT) Received: from postal.iol.unh.edu (postal.iol.unh.edu. [132.177.123.84]) by smtp-relay.gmail.com with ESMTPS id 956f58d0204a3-63cd95e76dcsm1137666d50.14.2025.10.15.17.59.17 (version=TLS1_2 cipher=ECDHE-ECDSA-AES128-GCM-SHA256 bits=128/128); Wed, 15 Oct 2025 17:59:17 -0700 (PDT) X-Relaying-Domain: iol.unh.edu Date: Wed, 15 Oct 2025 17:59:17 -0700 (PDT) Message-ID: <68f04365.530a0220.2a9069.9756SMTPIN_ADDED_MISSING@mx.google.com> Received: from [172.21.0.4] (unknown [172.18.0.240]) by postal.iol.unh.edu (Postfix) with ESMTP id 19BFE6051830; Wed, 15 Oct 2025 20:59:17 -0400 (EDT) Subject: |SUCCESS| pw157687 [PATCH] net/enic: make local variable static From: dpdklab@iol.unh.edu To: Test Report Cc: dpdk-test-reports@iol.unh.edu, Stephen Hemminger In-Reply-To: <20251015231106.876172-1-stephen@networkplumber.org> References: <20251015231106.876172-1-stephen@networkplumber.org> Content-Type: text/plain X-BeenThere: test-report@dpdk.org X-Mailman-Version: 2.1.29 Precedence: list List-Id: automatic DPDK test reports List-Unsubscribe: , List-Archive: List-Post: List-Help: List-Subscribe: , Errors-To: test-report-bounces@dpdk.org Test-Label: iol-unit-amd64-testing Test-Status: SUCCESS http://dpdk.org/patch/157687 _Testing PASS_ Submitter: Stephen Hemminger Date: Wednesday, October 15 2025 23:11:06 DPDK git baseline: Repo:dpdk-next-net Branch: master CommitID:791cea04798a8e2de014b99c009cd25b5929000a 157687 --> testing pass Upstream job id: Generic-Unit-Test-DPDK#381835 Test environment and result as below: +-------------------------------+----------------+ | Environment | dpdk_unit_test | +===============================+================+ | CentOS Stream 9 | PASS | +-------------------------------+----------------+ | Debian GNU/Linux 12 | PASS | +-------------------------------+----------------+ | CentOS Stream 10 | PASS | +-------------------------------+----------------+ | Fedora Linux 40 | PASS | +-------------------------------+----------------+ | Fedora Linux 41 | PASS | +-------------------------------+----------------+ | Fedora Linux 42 | PASS | +-------------------------------+----------------+ | Red Hat Enterprise Linux 8.10 | PASS | +-------------------------------+----------------+ | Ubuntu 20.04 | PASS | +-------------------------------+----------------+ | Red Hat Enterprise Linux 9.5 | PASS | +-------------------------------+----------------+ | Ubuntu 24.04 | PASS | +-------------------------------+----------------+ | Ubuntu 22.04 | PASS | +-------------------------------+----------------+ | Windows Server 2022 | PASS | +-------------------------------+----------------+ CentOS Stream 9 Kernel: 5.15 Compiler: gcc gcc (GCC) 11.5.0 20240719 (Red Hat 11.5.0-11) Debian GNU/Linux 12 Kernel: 5.15 Compiler: gcc gcc (Debian 12.2.0-14+deb12u1) 12.2.0 CentOS Stream 10 Kernel: 5.15 Compiler: gcc gcc (GCC) 14.2.1 20250110 (Red Hat 14.2.1-8) Fedora Linux 40 Kernel: 5.15 Compiler: gcc gcc (GCC) 14.2.1 20240912 (Red Hat 14.2.1-3) Fedora Linux 41 Kernel: 5.15 Compiler: clang gcc (GCC) 14.3.1 20250523 (Red Hat 14.3.1-1) Fedora Linux 42 Kernel: 5.15 Compiler: clang gcc (GCC) 15.2.1 20250808 (Red Hat 15.2.1-1) Red Hat Enterprise Linux 8.10 Kernel: 5.15 Compiler: gcc gcc (GCC) 8.5.0 20210514 (Red Hat 8.5.0-22) Ubuntu 20.04 Kernel: 5.15 Compiler: gcc gcc (Ubuntu 9.4.0-1ubuntu1~20.04.2) 9.4.0 Red Hat Enterprise Linux 9.5 Kernel: 5.15 Compiler: gcc gcc (GCC) 11.5.0 20240719 (Red Hat 11.5.0-2) Ubuntu 24.04 Kernel: 5.15 Compiler: gcc gcc (Ubuntu 13.3.0-6ubuntu2~24.04) 13.3.0 Ubuntu 22.04 Kernel: 5.15 Compiler: gcc gcc (Ubuntu 11.4.0-1ubuntu1~22.04) 11.4.0 Windows Server 2022 Kernel: 10.0.20348.2031 Compiler: clang 15.0.7, gcc 14.1.0 (MinGW), and MSVC VS 19.39.33521 To view detailed results, visit: https://lab.dpdk.org/results/dashboard/patchsets/34290/ UNH-IOL DPDK Community Lab To manage your email subscriptions, visit: https://lab.dpdk.org/results/dashboard/preferences/subscriptions/