From mboxrd@z Thu Jan 1 00:00:00 1970 Return-Path: Received: from mails.dpdk.org (mails.dpdk.org [217.70.189.124]) by inbox.dpdk.org (Postfix) with ESMTP id 83A1148948 for ; Thu, 16 Oct 2025 03:16:53 +0200 (CEST) Received: from mails.dpdk.org (localhost [127.0.0.1]) by mails.dpdk.org (Postfix) with ESMTP id 7CA4B40269; Thu, 16 Oct 2025 03:16:53 +0200 (CEST) Received: from mail-oa1-f99.google.com (mail-oa1-f99.google.com [209.85.160.99]) by mails.dpdk.org (Postfix) with ESMTP id 9F65A40269 for ; Thu, 16 Oct 2025 03:16:51 +0200 (CEST) Received: by mail-oa1-f99.google.com with SMTP id 586e51a60fabf-3c972dec6easo126588fac.3 for ; Wed, 15 Oct 2025 18:16:51 -0700 (PDT) DKIM-Signature: v=1; a=rsa-sha256; c=relaxed/relaxed; d=iol.unh.edu; s=unh-iol; t=1760577411; x=1761182211; darn=dpdk.org; h=references:in-reply-to:cc:to:from:subject:message-id:date:from:to :cc:subject:date:message-id:reply-to; bh=eJUTCJ4SeEir/gl5m9ooff2wJjxEsosm4azVgZeYvgo=; b=e0Eh9RWBNXnjvm5kxxmPkDLcgFhdPySV79atnqXZwPdPG2+ArhKc+qKxup7J7h/SJN oTAO+8ofdpK7Qpt4xfDEsMKzNIEQy+C2xAeT1nHjNWpvjU3MtkzYHUYlLKa4VxWS0WWi KxGDsCJfM2OXoUKud0qcfU9RX30ogarjg8TOw= X-Google-DKIM-Signature: v=1; a=rsa-sha256; c=relaxed/relaxed; d=1e100.net; s=20230601; t=1760577411; x=1761182211; h=references:in-reply-to:cc:to:from:subject:message-id:date :x-gm-message-state:from:to:cc:subject:date:message-id:reply-to; bh=eJUTCJ4SeEir/gl5m9ooff2wJjxEsosm4azVgZeYvgo=; b=mnT+paq8yQ8HkFXbiXEDavlV93fAgNkCXALuv7nTG+FtkH2to83PqOjuU294l2IMRl HcFtZ7NWpz9dOvSe/o/+f6oVS1eqn2kYByyEBOUI3mN8ZL7OYO+XW7yPJ4AK8zGBLPtk 919cC8bqYcsyQMeUNL8Ym2hEHdlBH9e/bZaoyadKqnCGD0x5w+GCKKF9onh5wL88HL2p 2nUDcpprCXCismtIR/dunVPDAEPmqLb55KmrMk94mWquVwfcvUwY5mSORrHYV7tvckWr HFum7Gwj9l+hADnQROj7hKeft14X8zy/+tjD6g/Dr4cduuMz9Vkg5WGeiehsdcxt+uhz gKbQ== X-Gm-Message-State: AOJu0Yyy8Bk9FBUE5qnGW/iUSXh8x5BnsFUKBIl7l/ozGtuldg7e52vK ZMp77TKGI074QTxzGduW5w4Bl6p1yQH98rxFxsuBrQBfpPI+YG0f34NhFvfrmhXiKBb6Xq1Y5Mh 0TdE5ZHRX+h1huYmvNClBUNrLbODr+SSh6HLD37FP30EFP1+Ch0xUk9iz5bFD X-Gm-Gg: ASbGncv7j49U6A0JdvSnyMBy9xzfK6HJ7ex8hVjwf1XWODoxJP3W77uk2mZ+VekeFvw VllfqRss9dMO1jxKrWKJ2Yxvg61uCNgdjOJSWC9e1TiVv0qTWgTZEDU5lfQzR+R12eeeQfKKr1J lKfa5FwERombO5SXFWMgtGx4UyeHsaJk3K1VvLMdf7AUlcL1drMVF8Kpp8feZ8/mngrgHahhMYZ knna6022MltSzfPW5r+eo6TERH+zmznU2D9XRw4rBdYkMbg8ULRCeIyCN9c/fwnt/z/QmdVBg91 KMLJiAD9UIdle9a7omiFy7Nl84FKJh+2yN7LXD4h49CGCf2aNKPsmx1KcUSV8+ZRhezk9iIjzGt 7HMM9COaB X-Google-Smtp-Source: AGHT+IF/Tr9nsp/J2AqWBCcLj+OE6FjETavC6wT62sVjCD0SS5cig8XLpQv03Ty7SA789h6NJtQ2PprtENu+ X-Received: by 2002:a05:6870:8985:b0:3c9:7b0c:8b60 with SMTP id 586e51a60fabf-3c97b0c98ebmr29367fac.2.1760577410791; Wed, 15 Oct 2025 18:16:50 -0700 (PDT) Received: from postal.iol.unh.edu (postal.iol.unh.edu. [2606:4100:3880:1234::84]) by smtp-relay.gmail.com with ESMTPS id 586e51a60fabf-3c976caa88dsm33039fac.18.2025.10.15.18.16.50 (version=TLS1_2 cipher=ECDHE-ECDSA-AES128-GCM-SHA256 bits=128/128); Wed, 15 Oct 2025 18:16:50 -0700 (PDT) X-Relaying-Domain: iol.unh.edu Date: Wed, 15 Oct 2025 18:16:50 -0700 (PDT) Message-ID: <68f04782.050a0220.2c81b7.1dfbSMTPIN_ADDED_MISSING@mx.google.com> Received: from [172.21.0.3] (unknown [172.18.0.240]) by postal.iol.unh.edu (Postfix) with ESMTP id 4D96D6051830; Wed, 15 Oct 2025 21:16:50 -0400 (EDT) Subject: |WARNING| pw157687 [PATCH] net/enic: make local variable static From: dpdklab@iol.unh.edu To: Test Report Cc: dpdk-test-reports@iol.unh.edu, Stephen Hemminger In-Reply-To: <20251015231106.876172-1-stephen@networkplumber.org> References: <20251015231106.876172-1-stephen@networkplumber.org> Content-Type: text/plain X-BeenThere: test-report@dpdk.org X-Mailman-Version: 2.1.29 Precedence: list List-Id: automatic DPDK test reports List-Unsubscribe: , List-Archive: List-Post: List-Help: List-Subscribe: , Errors-To: test-report-bounces@dpdk.org Test-Label: iol-compile-amd64-testing Test-Status: WARNING http://dpdk.org/patch/157687 _Testing issues_ Submitter: Stephen Hemminger Date: Wednesday, October 15 2025 23:11:06 DPDK git baseline: Repo:dpdk-next-net Branch: master CommitID:791cea04798a8e2de014b99c009cd25b5929000a 157687 --> testing issues Upstream job id: Generic-DPDK-Compile-Meson#434624 Test environment and result as below: +-------------------------------+--------------------+-------------------+------------------+-------------------------+-------------------+----------------------+ | Environment | dpdk_meson_compile | dpdk_compile_spdk | dpdk_compile_ovs | dpdk_llvm_clang_compile | dpdk_msvc_compile | dpdk_mingw64_compile | +===============================+====================+===================+==================+=========================+===================+======================+ | CentOS Stream 9 | PASS | WARN | SKIPPED | SKIPPED | SKIPPED | SKIPPED | +-------------------------------+--------------------+-------------------+------------------+-------------------------+-------------------+----------------------+ | CentOS Stream 10 | PASS | SKIPPED | SKIPPED | SKIPPED | SKIPPED | SKIPPED | +-------------------------------+--------------------+-------------------+------------------+-------------------------+-------------------+----------------------+ | Ubuntu 20.04 | PASS | SKIPPED | SKIPPED | SKIPPED | SKIPPED | SKIPPED | +-------------------------------+--------------------+-------------------+------------------+-------------------------+-------------------+----------------------+ | Debian GNU/Linux 12 | PASS | WARN | SKIPPED | SKIPPED | SKIPPED | SKIPPED | +-------------------------------+--------------------+-------------------+------------------+-------------------------+-------------------+----------------------+ | Fedora Linux 42 | PASS | WARN | PASS | SKIPPED | SKIPPED | SKIPPED | +-------------------------------+--------------------+-------------------+------------------+-------------------------+-------------------+----------------------+ | openSUSE Leap 15.6 | PASS | SKIPPED | SKIPPED | SKIPPED | SKIPPED | SKIPPED | +-------------------------------+--------------------+-------------------+------------------+-------------------------+-------------------+----------------------+ | Red Hat Enterprise Linux 8.10 | PASS | SKIPPED | SKIPPED | SKIPPED | SKIPPED | SKIPPED | +-------------------------------+--------------------+-------------------+------------------+-------------------------+-------------------+----------------------+ | Red Hat Enterprise Linux 9.5 | PASS | SKIPPED | SKIPPED | SKIPPED | SKIPPED | SKIPPED | +-------------------------------+--------------------+-------------------+------------------+-------------------------+-------------------+----------------------+ | Ubuntu 22.04 | PASS | WARN | SKIPPED | SKIPPED | SKIPPED | SKIPPED | +-------------------------------+--------------------+-------------------+------------------+-------------------------+-------------------+----------------------+ | FreeBSD 14.2 | PASS | SKIPPED | SKIPPED | SKIPPED | SKIPPED | SKIPPED | +-------------------------------+--------------------+-------------------+------------------+-------------------------+-------------------+----------------------+ | Ubuntu 24.04 | PASS | WARN | PASS | SKIPPED | SKIPPED | SKIPPED | +-------------------------------+--------------------+-------------------+------------------+-------------------------+-------------------+----------------------+ | Alpine Linux 3.22.0 | PASS | SKIPPED | SKIPPED | SKIPPED | SKIPPED | SKIPPED | +-------------------------------+--------------------+-------------------+------------------+-------------------------+-------------------+----------------------+ | Windows Server 2022 | SKIPPED | SKIPPED | SKIPPED | PASS | PASS | PASS | +-------------------------------+--------------------+-------------------+------------------+-------------------------+-------------------+----------------------+ ==== 20 line log output for Ubuntu 24.04 (dpdk_compile_spdk): ==== --- Failed to get log output --- ==== End log output ==== CentOS Stream 9 Kernel: 5.15 Compiler: gcc gcc (GCC) 11.5.0 20240719 (Red Hat 11.5.0-11) CentOS Stream 10 Kernel: 5.15 Compiler: gcc gcc (GCC) 14.2.1 20250110 (Red Hat 14.2.1-8) Ubuntu 20.04 Kernel: 4.19 Compiler: gcc gcc (Ubuntu 9.4.0-1ubuntu1~20.04.2) 9.4.0 Debian GNU/Linux 12 Kernel: 5.15 Compiler: gcc gcc (Debian 12.2.0-14+deb12u1) 12.2.0 Fedora Linux 42 Kernel: 5.15 Compiler: clang gcc (GCC) 15.2.1 20250808 (Red Hat 15.2.1-1) openSUSE Leap 15.6 Kernel: 5.15 Compiler: gcc gcc (SUSE Linux) 7.5.0 Red Hat Enterprise Linux 8.10 Kernel: 5.15 Compiler: gcc gcc (GCC) 8.5.0 20210514 (Red Hat 8.5.0-22) Red Hat Enterprise Linux 9.5 Kernel: 5.15 Compiler: gcc gcc (GCC) 11.5.0 20240719 (Red Hat 11.5.0-2) Ubuntu 22.04 Kernel: 5.15 Compiler: gcc gcc (Ubuntu 11.4.0-1ubuntu1~22.04) 11.4.0 FreeBSD 14.2 Kernel: 14.2-RELEASE Compiler: clang 18.1.6 Ubuntu 24.04 Kernel: 5.15 Compiler: gcc gcc (Ubuntu 13.3.0-6ubuntu2~24.04) 13.3.0 Alpine Linux 3.22.0 Kernel: 5.15 Compiler: gcc gcc (Alpine 14.2.0) 14.2.0 Windows Server 2022 Kernel: 10.0.20348.2031 Compiler: clang 15.0.7, gcc 14.1.0 (MinGW), and MSVC VS 19.39.33521 To view detailed results, visit: https://lab.dpdk.org/results/dashboard/patchsets/34290/ UNH-IOL DPDK Community Lab To manage your email subscriptions, visit: https://lab.dpdk.org/results/dashboard/preferences/subscriptions/