From mboxrd@z Thu Jan 1 00:00:00 1970 Return-Path: Received: from mails.dpdk.org (mails.dpdk.org [217.70.189.124]) by inbox.dpdk.org (Postfix) with ESMTP id 3AC9A48948 for ; Thu, 16 Oct 2025 03:50:03 +0200 (CEST) Received: from mails.dpdk.org (localhost [127.0.0.1]) by mails.dpdk.org (Postfix) with ESMTP id 1619B40269; Thu, 16 Oct 2025 03:50:03 +0200 (CEST) Received: from mail-pf1-f228.google.com (mail-pf1-f228.google.com [209.85.210.228]) by mails.dpdk.org (Postfix) with ESMTP id C7F3940269 for ; Thu, 16 Oct 2025 03:50:01 +0200 (CEST) Received: by mail-pf1-f228.google.com with SMTP id d2e1a72fcca58-7841da939deso213585b3a.2 for ; Wed, 15 Oct 2025 18:50:01 -0700 (PDT) DKIM-Signature: v=1; a=rsa-sha256; c=relaxed/relaxed; d=iol.unh.edu; s=unh-iol; t=1760579401; x=1761184201; darn=dpdk.org; h=cc:to:from:subject:message-id:date:from:to:cc:subject:date :message-id:reply-to; bh=vHRH47nV9YoQSqfIbTsyjWDNLKIALkGoHFv6vDSvDxo=; b=NTNt39E6S70lg0T/wsuz2253+mhCZXmms1AeqJ68NfbLIe8jqf9gY2alr5G+OtRZw1 HKmK76TvTwD0tTVUPwTOUI0Mk2m58bepSJpS9ruZxO5gPh3u6P0yYWhld7T1OoT4bQxS m3Haot9iAcp3Wt4njbAULLg5HkRnxokNTIZFw= X-Google-DKIM-Signature: v=1; a=rsa-sha256; c=relaxed/relaxed; d=1e100.net; s=20230601; t=1760579401; x=1761184201; h=cc:to:from:subject:message-id:date:x-gm-message-state:from:to:cc :subject:date:message-id:reply-to; bh=vHRH47nV9YoQSqfIbTsyjWDNLKIALkGoHFv6vDSvDxo=; b=psFGfuGdQkYqJNfsmQseNYPWOPw74mRRFu4JHfH39WPTp4MnVY/CiV4NXs97FxHF8h y1My4whKYZ2G3kD7sU1Mx8u2eLdSQ7+pf7tvtPS3U/qUY6UkXMv2FLCLa4PC0yS8Bjzv Az+aO4IkVNgVPGG0qyhen322nv2NdLN1cTFiP5AMrAIv2Hc+Z7SIcMOV2eSOz3Wb0ie/ +gAn9rjQJJLE5EfNNZ2je9srWhnb9eFWFIE1g28cWKpgAn+assLL4Xmb+a3KtNivi4wp 93V1wNNrzBrWBrS29vc4+7AWHGLTBlVNqJ1qq/NNT0xqCwfSmPES+1JRcHnawY9zmz8p 09UA== X-Gm-Message-State: AOJu0Yzc6V5ZHQxM5l0giRjBjzln9l/KwMIXGIQQyh4IyYV9RPNngK83 tO+xlS19X68P6L3IMLUaAMnHacsEJzt3cWqQNxibAKIqdKGosDbvcBrTRiX8ti5NrgAPM9KokeX qzvMHshGrM2ilyNhQxXMv2N7oYZCZmDMOKL0gSEvBjXFU X-Gm-Gg: ASbGncslsl1JpUbLAefLly95ifzcDQLbfvbfGxaRXgsjuiZwEbdhN+H+iap//2MAY8H VL4XRjaBoLEWxPX58piupQU6SRKLzhGRYAgTXeKkjDgr6IWAAiGB0qPlruoWyF0NGgbrEtfujD3 iVWas0oPVnzR8TtNc78YQ4qq9l4TUYm64cZFFwkFVYYwZOsA+9wiH1ky3OBWIWXNTyLgcV5D4LA 9VYDvcjHU3/8Ox5w1hvElopodx+Me5a3sIw3Ehv5nqBBKMaOA7ghUL4HQwsRIsWGxzOCaecdSes yDYu9md5plDVIiXjoigUghC2fKMDjVMiHp59+djX8OXussgADWBTZrXJO8EitlhZ9IwjIcL14Cm inoGNs77TrMfDBBjAwMI6p1tY+sZRkG4= X-Google-Smtp-Source: AGHT+IGoZCg02+c+lqz3fw+SkL3v4njL+cWqZbWh+wIW9KV1oS6DFRME//z1ndlXWBfrYe9Z1irZqmMfsX+0 X-Received: by 2002:a05:6a00:6518:b0:784:5d3a:5f63 with SMTP id d2e1a72fcca58-79385327962mr27242342b3a.2.1760579400837; Wed, 15 Oct 2025 18:50:00 -0700 (PDT) Received: from postal.iol.unh.edu (postal.iol.unh.edu. [132.177.123.84]) by smtp-relay.gmail.com with ESMTPS id d2e1a72fcca58-79930562ba6sm1653897b3a.4.2025.10.15.18.50.00 (version=TLS1_2 cipher=ECDHE-ECDSA-AES128-GCM-SHA256 bits=128/128); Wed, 15 Oct 2025 18:50:00 -0700 (PDT) X-Relaying-Domain: iol.unh.edu Date: Wed, 15 Oct 2025 18:50:00 -0700 (PDT) Message-ID: <68f04f48.050a0220.3a5053.316cSMTPIN_ADDED_MISSING@mx.google.com> Received: from [172.21.0.3] (unknown [172.18.0.240]) by postal.iol.unh.edu (Postfix) with ESMTP id 061B46051830; Wed, 15 Oct 2025 21:50:00 -0400 (EDT) Subject: |WARNING| [GIT MASTER] 16f4c522003dcfecf23c8d38e009b95a3bbefd03 From: dpdklab@iol.unh.edu To: Test Report Cc: dpdk-test-reports@iol.unh.edu Content-Type: text/plain X-BeenThere: test-report@dpdk.org X-Mailman-Version: 2.1.29 Precedence: list List-Id: automatic DPDK test reports List-Unsubscribe: , List-Archive: List-Post: List-Help: List-Subscribe: , Errors-To: test-report-bounces@dpdk.org _Testing issues_ Branch: dpdk 16f4c522003dcfecf23c8d38e009b95a3bbefd03 --> testing issues Upstream job id: Generic-DPDK-Compile-Meson#434657 Test environment and result as below: +-------------------------------+--------------------+-------------------+------------------+-------------------+-------------------------+----------------------+ | Environment | dpdk_meson_compile | dpdk_compile_spdk | dpdk_compile_ovs | dpdk_msvc_compile | dpdk_llvm_clang_compile | dpdk_mingw64_compile | +===============================+====================+===================+==================+===================+=========================+======================+ | CentOS Stream 9 | PASS | WARN | SKIPPED | SKIPPED | SKIPPED | SKIPPED | +-------------------------------+--------------------+-------------------+------------------+-------------------+-------------------------+----------------------+ | Red Hat Enterprise Linux 8.10 | PASS | SKIPPED | SKIPPED | SKIPPED | SKIPPED | SKIPPED | +-------------------------------+--------------------+-------------------+------------------+-------------------+-------------------------+----------------------+ | CentOS Stream 10 | PASS | SKIPPED | SKIPPED | SKIPPED | SKIPPED | SKIPPED | +-------------------------------+--------------------+-------------------+------------------+-------------------+-------------------------+----------------------+ | Ubuntu 20.04 | PASS | SKIPPED | SKIPPED | SKIPPED | SKIPPED | SKIPPED | +-------------------------------+--------------------+-------------------+------------------+-------------------+-------------------------+----------------------+ | FreeBSD 14.2 | PASS | SKIPPED | SKIPPED | SKIPPED | SKIPPED | SKIPPED | +-------------------------------+--------------------+-------------------+------------------+-------------------+-------------------------+----------------------+ | Debian GNU/Linux 12 | PASS | WARN | SKIPPED | SKIPPED | SKIPPED | SKIPPED | +-------------------------------+--------------------+-------------------+------------------+-------------------+-------------------------+----------------------+ | Fedora Linux 42 | PASS | WARN | PASS | SKIPPED | SKIPPED | SKIPPED | +-------------------------------+--------------------+-------------------+------------------+-------------------+-------------------------+----------------------+ | openSUSE Leap 15.6 | PASS | SKIPPED | SKIPPED | SKIPPED | SKIPPED | SKIPPED | +-------------------------------+--------------------+-------------------+------------------+-------------------+-------------------------+----------------------+ | Red Hat Enterprise Linux 9.5 | PASS | SKIPPED | SKIPPED | SKIPPED | SKIPPED | SKIPPED | +-------------------------------+--------------------+-------------------+------------------+-------------------+-------------------------+----------------------+ | Ubuntu 24.04 | PASS | WARN | PASS | SKIPPED | SKIPPED | SKIPPED | +-------------------------------+--------------------+-------------------+------------------+-------------------+-------------------------+----------------------+ | Arch Linux 20250613.0.365270 | PASS | SKIPPED | SKIPPED | SKIPPED | SKIPPED | SKIPPED | +-------------------------------+--------------------+-------------------+------------------+-------------------+-------------------------+----------------------+ | Ubuntu 22.04 | PASS | WARN | SKIPPED | SKIPPED | SKIPPED | SKIPPED | +-------------------------------+--------------------+-------------------+------------------+-------------------+-------------------------+----------------------+ | Alpine Linux 3.22.0 | PASS | SKIPPED | SKIPPED | SKIPPED | SKIPPED | SKIPPED | +-------------------------------+--------------------+-------------------+------------------+-------------------+-------------------------+----------------------+ | Windows Server 2022 | SKIPPED | SKIPPED | SKIPPED | PASS | PASS | PASS | +-------------------------------+--------------------+-------------------+------------------+-------------------+-------------------------+----------------------+ ==== 20 line log output for Ubuntu 22.04 (dpdk_compile_spdk): ==== --- Failed to get log output --- ==== End log output ==== CentOS Stream 9 Kernel: 5.15 Compiler: gcc gcc (GCC) 11.5.0 20240719 (Red Hat 11.5.0-11) Red Hat Enterprise Linux 8.10 Kernel: 5.15 Compiler: gcc gcc (GCC) 8.5.0 20210514 (Red Hat 8.5.0-22) CentOS Stream 10 Kernel: 5.15 Compiler: gcc gcc (GCC) 14.2.1 20250110 (Red Hat 14.2.1-8) Ubuntu 20.04 Kernel: 4.19 Compiler: gcc gcc (Ubuntu 9.4.0-1ubuntu1~20.04.2) 9.4.0 FreeBSD 14.2 Kernel: 14.2-RELEASE Compiler: clang 18.1.6 Debian GNU/Linux 12 Kernel: 5.15 Compiler: gcc gcc (Debian 12.2.0-14+deb12u1) 12.2.0 Fedora Linux 42 Kernel: 5.15 Compiler: gcc gcc (GCC) 15.2.1 20250808 (Red Hat 15.2.1-1) openSUSE Leap 15.6 Kernel: 5.15 Compiler: gcc gcc (SUSE Linux) 7.5.0 Red Hat Enterprise Linux 9.5 Kernel: 5.15 Compiler: gcc gcc (GCC) 11.5.0 20240719 (Red Hat 11.5.0-2) Ubuntu 24.04 Kernel: 5.15 Compiler: gcc gcc (Ubuntu 13.3.0-6ubuntu2~24.04) 13.3.0 Arch Linux 20250613.0.365270 Kernel: 5.15 Compiler: gcc gcc (GCC) 15.1.1 20250425 Ubuntu 22.04 Kernel: 5.15 Compiler: gcc gcc (Ubuntu 11.4.0-1ubuntu1~22.04) 11.4.0 Alpine Linux 3.22.0 Kernel: 5.15 Compiler: gcc gcc (Alpine 14.2.0) 14.2.0 Windows Server 2022 Kernel: 10.0.20348.2031 Compiler: clang 15.0.7, gcc 14.1.0 (MinGW), and MSVC VS 19.39.33521 To view detailed results, visit: https://lab.dpdk.org/results/dashboard/tarballs/35223/ UNH-IOL DPDK Community Lab To manage your email subscriptions, visit: https://lab.dpdk.org/results/dashboard/preferences/subscriptions/