From mboxrd@z Thu Jan 1 00:00:00 1970 Return-Path: Received: from mails.dpdk.org (mails.dpdk.org [217.70.189.124]) by inbox.dpdk.org (Postfix) with ESMTP id 7176948948 for ; Thu, 16 Oct 2025 03:53:44 +0200 (CEST) Received: from mails.dpdk.org (localhost [127.0.0.1]) by mails.dpdk.org (Postfix) with ESMTP id 6B72F40B98; Thu, 16 Oct 2025 03:53:44 +0200 (CEST) Received: from mail-vk1-f225.google.com (mail-vk1-f225.google.com [209.85.221.225]) by mails.dpdk.org (Postfix) with ESMTP id C483240B98 for ; Thu, 16 Oct 2025 03:53:43 +0200 (CEST) Received: by mail-vk1-f225.google.com with SMTP id 71dfb90a1353d-554a627a257so82053e0c.1 for ; Wed, 15 Oct 2025 18:53:43 -0700 (PDT) DKIM-Signature: v=1; a=rsa-sha256; c=relaxed/relaxed; d=iol.unh.edu; s=unh-iol; t=1760579623; x=1761184423; darn=dpdk.org; h=cc:to:from:subject:message-id:date:from:to:cc:subject:date :message-id:reply-to; bh=OctZ2+98L0I3nDVRBRujeo9+xZCHJCsUiGZJZXgCg7o=; b=Nn9DKsZfKmpwP/V3gEQKkJ/iU7pmRxPzmnb0hoXfqBn9VfyfxonvxrL+CEj1MTtsNd W4FGNS71atMT+x8oGhkTjFnLGSAPC+zJthYcMu9hl2O6q/ugRSaBoU9nnAXa/NPAxf6+ 0REYiuzfuGyogYekH4RqHyH5L7HPNF+LGt4uk= X-Google-DKIM-Signature: v=1; a=rsa-sha256; c=relaxed/relaxed; d=1e100.net; s=20230601; t=1760579623; x=1761184423; h=cc:to:from:subject:message-id:date:x-gm-message-state:from:to:cc :subject:date:message-id:reply-to; bh=OctZ2+98L0I3nDVRBRujeo9+xZCHJCsUiGZJZXgCg7o=; b=DfxdECnF0FLB+y/DNHLSaIzqDb4ONcnmbo5ovBQyLMxWE37ITCBHBb/ABqhhFhtFwa X1cRiiq12sQH/FnzaaaUT7l5tTcqkKY4U3kZzeMxadCokOfeaHn3QJiSQa72YbDMZ5Pb Z+38kadUDOuxmjvLyM/7wp6Tg+sc0OJalkEqx4EmBqkqf/V0KLmDuC6h6Eki7j43RLvy wkXW5IYmXuUMtgx8RnsFVP7GOAIieP1YVhS899GEbNr7aiUn/TuxgSYVzLEHlFRZDqkO ajTCqe23JCSyGmRqX0EvuH/ShBHPrTKKxZSHye4cNgVEVt8uLUqweP25mzqlHYT2n2An 2YPg== X-Gm-Message-State: AOJu0Yw/7kGjl44v6w+Qi6okfme9FbPRjuKHTQ9wwIsopuKRFNpSMlt5 aO5EeGML/TVxMFWy1CWWp+UpYwHy+lBIB0eIj3LfQnTCoPXxdbldTzMnuy1X1i6yDe23OPgCu8V ZD2Z4nnkb2pGyDTwFsVqzkLrIoaAhlhvAeDTRJAqRsaIa X-Gm-Gg: ASbGncv65eL+pPjA4SnKh6phm2s9t6vh/PfF0F0uJtpgEz8UKHzR0vjYGjRsLi8L3l4 bWHSP7Lot3AG4OnYdiJHaus7UFmSMrZXi2pImYMfUqrhGK10A3z23+aHA20zBbhCuGhWN33wO/7 KWfgxKRB6kJ0QzsITuKLsIjC0a87Iym3tERmK2pkXII3rrA+NHRdHOLjVKyUx4TZ9ipZrKwrl30 py+Iq7gM+ShHJkikF6dAPKRFMiMqd/6Co2vaYAMc6X6i8bdeoAj2OgtmK2QPKsMoWAc79wgfXa+ DInWNnnH5Qkjfyn6SN0fnD0Eb2CO58LDBUiefPZE88p51+fGOSSto3q9C2FyvFMCe7w6G9ORz4G jVD4/QlQpmzylmoMSdVSzBf+X5l3IO04= X-Google-Smtp-Source: AGHT+IGiLh6l2Op4kqrGx/ZoBaUk7Gzqfo1nHUhLswyCuZId5dUAiZS0RAyNAc1QJUFXCOi812tMBN5PSKHR X-Received: by 2002:a05:6122:2a0d:b0:554:afe3:1fb1 with SMTP id 71dfb90a1353d-554b8cf023dmr10859370e0c.14.1760579623076; Wed, 15 Oct 2025 18:53:43 -0700 (PDT) Received: from postal.iol.unh.edu (postal.iol.unh.edu. [132.177.123.84]) by smtp-relay.gmail.com with ESMTPS id 71dfb90a1353d-554d7fc3c57sm1943111e0c.3.2025.10.15.18.53.43 (version=TLS1_2 cipher=ECDHE-ECDSA-AES128-GCM-SHA256 bits=128/128); Wed, 15 Oct 2025 18:53:43 -0700 (PDT) X-Relaying-Domain: iol.unh.edu Date: Wed, 15 Oct 2025 18:53:43 -0700 (PDT) Message-ID: <68f05027.050a0220.36a3ef.0d42SMTPIN_ADDED_MISSING@mx.google.com> Received: from [172.21.0.3] (unknown [172.18.0.240]) by postal.iol.unh.edu (Postfix) with ESMTP id B56D16051830; Wed, 15 Oct 2025 21:53:42 -0400 (EDT) Subject: |SUCCESS| [GIT MASTER] 16f4c522003dcfecf23c8d38e009b95a3bbefd03 From: dpdklab@iol.unh.edu To: Test Report Cc: dpdk-test-reports@iol.unh.edu Content-Type: text/plain X-BeenThere: test-report@dpdk.org X-Mailman-Version: 2.1.29 Precedence: list List-Id: automatic DPDK test reports List-Unsubscribe: , List-Archive: List-Post: List-Help: List-Subscribe: , Errors-To: test-report-bounces@dpdk.org _Testing PASS_ Branch: dpdk 16f4c522003dcfecf23c8d38e009b95a3bbefd03 --> testing pass Upstream job id: Generic-Unit-Test-DPDK#381853 Test environment and result as below: +-------------------------------+----------------+ | Environment | dpdk_unit_test | +===============================+================+ | Arch Linux 20250613.0.365270 | PASS | +-------------------------------+----------------+ | CentOS Stream 9 | PASS | +-------------------------------+----------------+ | Debian GNU/Linux 12 | PASS | +-------------------------------+----------------+ | Red Hat Enterprise Linux 8.10 | PASS | +-------------------------------+----------------+ | Fedora Linux 40 | PASS | +-------------------------------+----------------+ | Fedora Linux 41 | PASS | +-------------------------------+----------------+ | CentOS Stream 10 | PASS | +-------------------------------+----------------+ | Fedora Linux 42 | PASS | +-------------------------------+----------------+ | Red Hat Enterprise Linux 9.5 | PASS | +-------------------------------+----------------+ | Ubuntu 22.04 | PASS | +-------------------------------+----------------+ | Ubuntu 20.04 | PASS | +-------------------------------+----------------+ | Ubuntu 24.04 | PASS | +-------------------------------+----------------+ | Windows Server 2022 | PASS | +-------------------------------+----------------+ Arch Linux 20250613.0.365270 Kernel: 5.15 Compiler: gcc gcc (GCC) 15.1.1 20250425 CentOS Stream 9 Kernel: 5.15 Compiler: gcc gcc (GCC) 11.5.0 20240719 (Red Hat 11.5.0-11) Debian GNU/Linux 12 Kernel: 5.15 Compiler: gcc gcc (Debian 12.2.0-14+deb12u1) 12.2.0 Red Hat Enterprise Linux 8.10 Kernel: 5.15 Compiler: gcc gcc (GCC) 8.5.0 20210514 (Red Hat 8.5.0-22) Fedora Linux 40 Kernel: 5.15 Compiler: gcc gcc (GCC) 14.2.1 20240912 (Red Hat 14.2.1-3) Fedora Linux 41 Kernel: 5.15 Compiler: gcc gcc (GCC) 14.3.1 20250523 (Red Hat 14.3.1-1) CentOS Stream 10 Kernel: 5.15 Compiler: gcc gcc (GCC) 14.2.1 20250110 (Red Hat 14.2.1-8) Fedora Linux 42 Kernel: 5.15 Compiler: gcc gcc (GCC) 15.2.1 20250808 (Red Hat 15.2.1-1) Red Hat Enterprise Linux 9.5 Kernel: 5.15 Compiler: gcc gcc (GCC) 11.5.0 20240719 (Red Hat 11.5.0-2) Ubuntu 22.04 Kernel: 5.15 Compiler: gcc gcc (Ubuntu 11.4.0-1ubuntu1~22.04) 11.4.0 Ubuntu 20.04 Kernel: 5.15 Compiler: gcc gcc (Ubuntu 9.4.0-1ubuntu1~20.04.2) 9.4.0 Ubuntu 24.04 Kernel: 5.15 Compiler: gcc gcc (Ubuntu 13.3.0-6ubuntu2~24.04) 13.3.0 Windows Server 2022 Kernel: 10.0.20348.2031 Compiler: clang 15.0.7, gcc 14.1.0 (MinGW), and MSVC VS 19.39.33521 To view detailed results, visit: https://lab.dpdk.org/results/dashboard/tarballs/35223/ UNH-IOL DPDK Community Lab To manage your email subscriptions, visit: https://lab.dpdk.org/results/dashboard/preferences/subscriptions/