From mboxrd@z Thu Jan 1 00:00:00 1970 Return-Path: Received: from mails.dpdk.org (mails.dpdk.org [217.70.189.124]) by inbox.dpdk.org (Postfix) with ESMTP id 8D4944894A for ; Thu, 16 Oct 2025 06:04:55 +0200 (CEST) Received: from mails.dpdk.org (localhost [127.0.0.1]) by mails.dpdk.org (Postfix) with ESMTP id 53FD340B90; Thu, 16 Oct 2025 06:04:55 +0200 (CEST) Received: from mail-pg1-f225.google.com (mail-pg1-f225.google.com [209.85.215.225]) by mails.dpdk.org (Postfix) with ESMTP id 7A04440616 for ; Thu, 16 Oct 2025 06:04:53 +0200 (CEST) Received: by mail-pg1-f225.google.com with SMTP id 41be03b00d2f7-b5507d3ccd8so204783a12.0 for ; Wed, 15 Oct 2025 21:04:53 -0700 (PDT) DKIM-Signature: v=1; a=rsa-sha256; c=relaxed/relaxed; d=iol.unh.edu; s=unh-iol; t=1760587492; x=1761192292; darn=dpdk.org; h=references:in-reply-to:cc:to:from:subject:message-id:date:from:to :cc:subject:date:message-id:reply-to; bh=NcQywKO1EcgDu8TFVC31mzhB4kmHZHvIjas1I5xPYQI=; b=DQfFvPJNkbF+EeZ2LbKS/gsaKI3hauLQvxZR26aUTdfv4KMHrsaFnoDs2NBkgehQZT KHLKuuvfnwJvKsLbtWqxTfZFT7vTXYDl4Crx+RkVdXXjUEXGefT99DvaQQ66cr/a5JaJ xKkfIzs6VQ6buAkyQREbdH7ILRcDvOiogjdIs= X-Google-DKIM-Signature: v=1; a=rsa-sha256; c=relaxed/relaxed; d=1e100.net; s=20230601; t=1760587492; x=1761192292; h=references:in-reply-to:cc:to:from:subject:message-id:date :x-gm-message-state:from:to:cc:subject:date:message-id:reply-to; bh=NcQywKO1EcgDu8TFVC31mzhB4kmHZHvIjas1I5xPYQI=; b=kpR0S07Y5fxLH4azF7+dTXx88QPTOyUCZYkoiI36NY+CMoo55WNbdsKqsURfdVK4Gx Ow15p5meCIzcOw4zn8I2iq9enT8O5+XZ5F7VzAkHhsPPnd0miG+MDEaOwkCgluC11/ww RmHROplVJbldpOKcxLS/Z/jJP+EigHgpytkGWx6nglx/XQsDAQIHwo8pTm0o6JoVkYjb qHWUs3Ww0cVSRHOm0GSzhklBNiFqmUxNcY4AIDGPPyqDklyBRrKkcFXH7uNuXqTHk4sc jLvXIfwzD2D52rw8sAq7v1hMnR+fFtTDQBHe7mRWfdApPMwzTGFlsPECYKvryiOdEdHB JH1w== X-Gm-Message-State: AOJu0Yx5WsmzxnQnBT6nhDjF6Suyb5qKIUfFRUb9rxUdrNdMwW5Ib/0r 8mG1IQx5hfv5APfHFetNtzBUtt+wF85aq91+pbw7SIfcUnERBRFmGDl91jadManzuy3ZHBshnKV pZRh0X24J7A4QhV4+HBH4QwLFJpR/S64aD1bwBbVGm93YsYYvicpXL93DRlNh X-Gm-Gg: ASbGncus0MVn0ZB6yOps0tC2gTbav110aw8m9RhEKYArd+QKhBFt0stl6gAbc0wST4h GK6znBbzLMhPHT0uuZEiJUNO9MGvwcGsOscm/nINME7Uwl4mQU8vAmYn/at3EWPZUGsosVM3LBo pKkAmYisKVYNF6/nybULs0r/DhFTrC4F75d80MUEKfQkrRSft8LMDtNjWfgtBav6dO5R6OFouTb hKJ5S84io82Zv/ZxThvOeMadQD6noZ/B6oQdJu99v3Tm7sdEw9WPAaz/sQMr7dehDnXjnCBtwYW cvNnO+5QOC0QhbzZmaeLdFAT3JrkL60PYbbWKHVaR6wqwnhL0zXHk7SMGCf8aicHVDAABNgbM0a +inyJh4vL X-Google-Smtp-Source: AGHT+IGc8qcAoJmo9d4rQ//kYoPi+J4S1vT1Ptb6RoHT2iE72gbvnaxeANzLGq8jeVr2MRzn+YDmOK4a/Cof X-Received: by 2002:a17:902:da8f:b0:265:9878:4852 with SMTP id d9443c01a7336-2902723d410mr465516365ad.15.1760587492487; Wed, 15 Oct 2025 21:04:52 -0700 (PDT) Received: from postal.iol.unh.edu (postal.iol.unh.edu. [2606:4100:3880:1234::84]) by smtp-relay.gmail.com with ESMTPS id d9443c01a7336-29099ab1cb6sm1627295ad.69.2025.10.15.21.04.52 (version=TLS1_2 cipher=ECDHE-ECDSA-AES128-GCM-SHA256 bits=128/128); Wed, 15 Oct 2025 21:04:52 -0700 (PDT) X-Relaying-Domain: iol.unh.edu Date: Wed, 15 Oct 2025 21:04:52 -0700 (PDT) Message-ID: <68f06ee4.170a0220.10768a.8b9fSMTPIN_ADDED_MISSING@mx.google.com> Received: from [172.21.0.4] (unknown [172.18.0.240]) by postal.iol.unh.edu (Postfix) with ESMTP id E91D76051830; Thu, 16 Oct 2025 00:04:51 -0400 (EDT) Subject: |SUCCESS| pw157692 [PATCH] dma/hisi_pciep: rename hisilicon driver From: dpdklab@iol.unh.edu To: Test Report Cc: dpdk-test-reports@iol.unh.edu In-Reply-To: <20251016023747.18871-1-fengchengwen@huawei.com> References: <20251016023747.18871-1-fengchengwen@huawei.com> Content-Type: text/plain X-BeenThere: test-report@dpdk.org X-Mailman-Version: 2.1.29 Precedence: list List-Id: automatic DPDK test reports List-Unsubscribe: , List-Archive: List-Post: List-Help: List-Subscribe: , Errors-To: test-report-bounces@dpdk.org Test-Label: iol-unit-amd64-testing Test-Status: SUCCESS http://dpdk.org/patch/157692 _Testing PASS_ Submitter: Chengwen Feng Date: Thursday, October 16 2025 02:37:47 DPDK git baseline: Repo:dpdk Branch: master CommitID:16f4c522003dcfecf23c8d38e009b95a3bbefd03 157692 --> testing pass Upstream job id: Generic-Unit-Test-DPDK#381904 Test environment and result as below: +-------------------------------+----------------+ | Environment | dpdk_unit_test | +===============================+================+ | CentOS Stream 9 | PASS | +-------------------------------+----------------+ | Ubuntu 24.04 | PASS | +-------------------------------+----------------+ | Ubuntu 20.04 | PASS | +-------------------------------+----------------+ | Ubuntu 22.04 | PASS | +-------------------------------+----------------+ | Red Hat Enterprise Linux 8.10 | PASS | +-------------------------------+----------------+ | CentOS Stream 10 | PASS | +-------------------------------+----------------+ | Fedora Linux 41 | PASS | +-------------------------------+----------------+ | Fedora Linux 42 | PASS | +-------------------------------+----------------+ | Debian GNU/Linux 12 | PASS | +-------------------------------+----------------+ | Red Hat Enterprise Linux 9.5 | PASS | +-------------------------------+----------------+ | Fedora Linux 40 | PASS | +-------------------------------+----------------+ | Windows Server 2022 | PASS | +-------------------------------+----------------+ CentOS Stream 9 Kernel: 5.15 Compiler: gcc gcc (GCC) 11.5.0 20240719 (Red Hat 11.5.0-11) Ubuntu 24.04 Kernel: 5.15 Compiler: gcc gcc (Ubuntu 13.3.0-6ubuntu2~24.04) 13.3.0 Ubuntu 20.04 Kernel: 5.15 Compiler: gcc gcc (Ubuntu 9.4.0-1ubuntu1~20.04.2) 9.4.0 Ubuntu 22.04 Kernel: 5.15 Compiler: gcc gcc (Ubuntu 11.4.0-1ubuntu1~22.04) 11.4.0 Red Hat Enterprise Linux 8.10 Kernel: 5.15 Compiler: gcc gcc (GCC) 8.5.0 20210514 (Red Hat 8.5.0-22) CentOS Stream 10 Kernel: 5.15 Compiler: gcc gcc (GCC) 14.2.1 20250110 (Red Hat 14.2.1-8) Fedora Linux 41 Kernel: 5.15 Compiler: gcc gcc (GCC) 14.3.1 20250523 (Red Hat 14.3.1-1) Fedora Linux 42 Kernel: 5.15 Compiler: gcc gcc (GCC) 15.2.1 20250808 (Red Hat 15.2.1-1) Debian GNU/Linux 12 Kernel: 5.15 Compiler: gcc gcc (Debian 12.2.0-14+deb12u1) 12.2.0 Red Hat Enterprise Linux 9.5 Kernel: 5.15 Compiler: gcc gcc (GCC) 11.5.0 20240719 (Red Hat 11.5.0-2) Fedora Linux 40 Kernel: 5.15 Compiler: clang gcc (GCC) 14.2.1 20240912 (Red Hat 14.2.1-3) Windows Server 2022 Kernel: 10.0.20348.2031 Compiler: clang 15.0.7, gcc 14.1.0 (MinGW), and MSVC VS 19.39.33521 To view detailed results, visit: https://lab.dpdk.org/results/dashboard/patchsets/34292/ UNH-IOL DPDK Community Lab To manage your email subscriptions, visit: https://lab.dpdk.org/results/dashboard/preferences/subscriptions/