From mboxrd@z Thu Jan 1 00:00:00 1970 Return-Path: Received: from mails.dpdk.org (mails.dpdk.org [217.70.189.124]) by inbox.dpdk.org (Postfix) with ESMTP id 77F854894A for ; Thu, 16 Oct 2025 06:04:55 +0200 (CEST) Received: from mails.dpdk.org (localhost [127.0.0.1]) by mails.dpdk.org (Postfix) with ESMTP id 492E440269; Thu, 16 Oct 2025 06:04:55 +0200 (CEST) Received: from mail-pg1-f228.google.com (mail-pg1-f228.google.com [209.85.215.228]) by mails.dpdk.org (Postfix) with ESMTP id 788E640269 for ; Thu, 16 Oct 2025 06:04:53 +0200 (CEST) Received: by mail-pg1-f228.google.com with SMTP id 41be03b00d2f7-b5f2c1a7e48so160110a12.0 for ; Wed, 15 Oct 2025 21:04:53 -0700 (PDT) DKIM-Signature: v=1; a=rsa-sha256; c=relaxed/relaxed; d=iol.unh.edu; s=unh-iol; t=1760587492; x=1761192292; darn=dpdk.org; h=references:in-reply-to:cc:to:from:subject:message-id:date:from:to :cc:subject:date:message-id:reply-to; bh=OEU3dqtjA1tUQeUJeGMd1z8jMclMa3V0TFwzmOaWGoA=; b=AMIEc2r4uR5+iWzaQiPN3N1mY2hM6tCRF+wZZVfMTM1Dbn1vWNaqIrYBwIEjqM0OdB 9KSIh5FhQIBZbd+q7mV816wWJPTIb80iFpU10fFVd3AUKTlXG6yaci24oma31cIcMUPl mXiWCx86Trfi6LE+p3HZRDuPl+Q6l1e9BWu84= X-Google-DKIM-Signature: v=1; a=rsa-sha256; c=relaxed/relaxed; d=1e100.net; s=20230601; t=1760587492; x=1761192292; h=references:in-reply-to:cc:to:from:subject:message-id:date :x-gm-message-state:from:to:cc:subject:date:message-id:reply-to; bh=OEU3dqtjA1tUQeUJeGMd1z8jMclMa3V0TFwzmOaWGoA=; b=Nw7a6ZmnHnwg9PeAG+uyNlsWY4iVYItZ/qWrg+nnUVUW/AmYL4o9umOWoi6DsC5rUp Ep3oAN1dUFUbA/hlCJGar0wV37vrvnKiiJtV/rS2Im3fNqWUNUMfq1DhV1QoNoST/OW4 Ve/fBTnv1o/syBtqtblH+ma+kjNl1Cnl2LAWbJr8e//GASTG4467ztkodi6pWIwfnFLN Ovuty5xkqluYNw2eU+RSAGGZdlbiq0fY2tGe0pSlx2UgwwL2KyABrYdJR+QCWZGh2x3g kEbFTZw06lcCMF5EH57qSUOT/yBKO1hWpwhGFaNAJZikBcd/Q7WrOKW9NGNeV5fxoEOn fejw== X-Gm-Message-State: AOJu0Yyj4QwYbp6uHng5PCESbPNKbj6Fnv3ZmLAqdKONujaC/ByzN9nX aH/HawvbHERnyvi2gK8RKE+Ilks+lJzeldCCtPssYWZzTjwxKWLVtqdsFENZYUL5eoLozZDJqlF u7Pi/EHsy04kpF9+TXo8ctF5A/BbmYR9Idj7lFdHj7Z8+ X-Gm-Gg: ASbGncs4Vw8gHVr+KNCSFoDZ5pS3eAtgUS9LUpSg1CpIFTcZ2NHFcuJkXpifA3geOOT UlaB2aqCwco6L1YLXyMW580Z046E2lv1FIcOgz/kALpYHJPY5uyIMDj2FQyAbH8qu7SOZOEYIn6 Tkw3oWqPaA8h9ygbyJfF5af1cvHEyuNepKymUqAm80cb1CzXOl+biqJvpOZLxDjpPre6FlXp42K eCbLsSbp7RoEeQ+/cn5EDpZ+oX8rHg5jZqSecymBFPlnuz63dDE6hQ6beU0P7KwXa5kq8xlvbuL QB2xQTUmLLjEH77mRxP1cyFWtyz7xXFkPNvdm5HnK+1WPtvoZDNjotqyKkY4xRjo1+sSvKyjdg/ 9KMAfTgpgfbrwpNTQOqqXK5pIhbTfpdo= X-Google-Smtp-Source: AGHT+IGtyEiGk3OrmCnIkUIN1Eu72oDqHUY+D2X/d3It+hJpDLKUCOv6OcPjINL0DYQ7P0y0h0rcA7NauhZh X-Received: by 2002:a17:903:2a8d:b0:262:661d:eb1d with SMTP id d9443c01a7336-290272901e1mr396355335ad.1.1760587492632; Wed, 15 Oct 2025 21:04:52 -0700 (PDT) Received: from postal.iol.unh.edu (postal.iol.unh.edu. [132.177.123.84]) by smtp-relay.gmail.com with ESMTPS id d9443c01a7336-29098e8aa2csm1629875ad.10.2025.10.15.21.04.52 (version=TLS1_2 cipher=ECDHE-ECDSA-AES128-GCM-SHA256 bits=128/128); Wed, 15 Oct 2025 21:04:52 -0700 (PDT) X-Relaying-Domain: iol.unh.edu Date: Wed, 15 Oct 2025 21:04:52 -0700 (PDT) Message-ID: <68f06ee4.170a0220.1c3469.886cSMTPIN_ADDED_MISSING@mx.google.com> Received: from [172.21.0.3] (unknown [172.18.0.240]) by postal.iol.unh.edu (Postfix) with ESMTP id 2594E6051835; Thu, 16 Oct 2025 00:04:52 -0400 (EDT) Subject: |SUCCESS| pw157692 [PATCH] dma/hisi_pciep: rename hisilicon driver From: dpdklab@iol.unh.edu To: Test Report Cc: dpdk-test-reports@iol.unh.edu In-Reply-To: <20251016023747.18871-1-fengchengwen@huawei.com> References: <20251016023747.18871-1-fengchengwen@huawei.com> Content-Type: text/plain X-BeenThere: test-report@dpdk.org X-Mailman-Version: 2.1.29 Precedence: list List-Id: automatic DPDK test reports List-Unsubscribe: , List-Archive: List-Post: List-Help: List-Subscribe: , Errors-To: test-report-bounces@dpdk.org Test-Label: iol-unit-amd64-testing Test-Status: SUCCESS http://dpdk.org/patch/157692 _Testing PASS_ Submitter: Chengwen Feng Date: Thursday, October 16 2025 02:37:47 DPDK git baseline: Repo:dpdk Branch: master CommitID:16f4c522003dcfecf23c8d38e009b95a3bbefd03 157692 --> testing pass Upstream job id: Generic-VM-Unit-Test-DPDK#31827 Test environment and result as below: +-------------------------------+----------------+ | Environment | dpdk_unit_test | +===============================+================+ | CentOS Stream 9 | PASS | +-------------------------------+----------------+ | Ubuntu 24.04 | PASS | +-------------------------------+----------------+ | Ubuntu 20.04 | PASS | +-------------------------------+----------------+ | Ubuntu 22.04 | PASS | +-------------------------------+----------------+ | Red Hat Enterprise Linux 8.10 | PASS | +-------------------------------+----------------+ | CentOS Stream 10 | PASS | +-------------------------------+----------------+ | Fedora Linux 41 | PASS | +-------------------------------+----------------+ | Fedora Linux 42 | PASS | +-------------------------------+----------------+ | Debian GNU/Linux 12 | PASS | +-------------------------------+----------------+ | Red Hat Enterprise Linux 9.5 | PASS | +-------------------------------+----------------+ | Fedora Linux 40 | PASS | +-------------------------------+----------------+ | Windows Server 2022 | PASS | +-------------------------------+----------------+ CentOS Stream 9 Kernel: 5.15 Compiler: gcc gcc (GCC) 11.5.0 20240719 (Red Hat 11.5.0-11) Ubuntu 24.04 Kernel: 5.15 Compiler: gcc gcc (Ubuntu 13.3.0-6ubuntu2~24.04) 13.3.0 Ubuntu 20.04 Kernel: 5.15 Compiler: gcc gcc (Ubuntu 9.4.0-1ubuntu1~20.04.2) 9.4.0 Ubuntu 22.04 Kernel: 5.15 Compiler: gcc gcc (Ubuntu 11.4.0-1ubuntu1~22.04) 11.4.0 Red Hat Enterprise Linux 8.10 Kernel: 5.15 Compiler: gcc gcc (GCC) 8.5.0 20210514 (Red Hat 8.5.0-22) CentOS Stream 10 Kernel: 5.15 Compiler: gcc gcc (GCC) 14.2.1 20250110 (Red Hat 14.2.1-8) Fedora Linux 41 Kernel: 5.15 Compiler: gcc gcc (GCC) 14.3.1 20250523 (Red Hat 14.3.1-1) Fedora Linux 42 Kernel: 5.15 Compiler: gcc gcc (GCC) 15.2.1 20250808 (Red Hat 15.2.1-1) Debian GNU/Linux 12 Kernel: 5.15 Compiler: gcc gcc (Debian 12.2.0-14+deb12u1) 12.2.0 Red Hat Enterprise Linux 9.5 Kernel: 5.15 Compiler: gcc gcc (GCC) 11.5.0 20240719 (Red Hat 11.5.0-2) Fedora Linux 40 Kernel: 5.15 Compiler: clang gcc (GCC) 14.2.1 20240912 (Red Hat 14.2.1-3) Windows Server 2022 Kernel: 10.0.20348.2031 Compiler: clang 15.0.7, gcc 14.1.0 (MinGW), and MSVC VS 19.39.33521 To view detailed results, visit: https://lab.dpdk.org/results/dashboard/patchsets/34292/ UNH-IOL DPDK Community Lab To manage your email subscriptions, visit: https://lab.dpdk.org/results/dashboard/preferences/subscriptions/