From: dpdklab@iol.unh.edu
To: Test Report <test-report@dpdk.org>
Cc: dpdk-test-reports@iol.unh.edu
Subject: |SUCCESS| pw157692 [PATCH] dma/hisi_pciep: rename hisilicon driver
Date: Wed, 15 Oct 2025 21:06:39 -0700 (PDT) [thread overview]
Message-ID: <68f06f4f.170a0220.3ad217.901aSMTPIN_ADDED_MISSING@mx.google.com> (raw)
In-Reply-To: <20251016023747.18871-1-fengchengwen@huawei.com>
Test-Label: iol-sample-apps-testing
Test-Status: SUCCESS
http://dpdk.org/patch/157692
_Testing PASS_
Submitter: Chengwen Feng <fengchengwen@huawei.com>
Date: Thursday, October 16 2025 02:37:47
DPDK git baseline: Repo:dpdk
Branch: master
CommitID:16f4c522003dcfecf23c8d38e009b95a3bbefd03
157692 --> testing pass
Upstream job id: Template-DTS-Pipeline#249614
Test environment and result as below:
+--------------+----------------------+----------------------+
| Environment | dpdk_fips_validation | compressdev_zlib_pmd |
+==============+======================+======================+
| Ubuntu 20.04 | PASS | SKIPPED |
+--------------+----------------------+----------------------+
| Ubuntu 22.04 | SKIPPED | PASS |
+--------------+----------------------+----------------------+
Ubuntu 20.04
Kernel: 5.15
Compiler: gcc gcc (Ubuntu 9.4.0-1ubuntu1~20.04.2) 9.4.0
Ubuntu 22.04
Kernel: 5.15
Compiler: gcc gcc (Ubuntu 11.4.0-1ubuntu1~22.04.2) 11.4.0
To view detailed results, visit:
https://lab.dpdk.org/results/dashboard/patchsets/34292/
UNH-IOL DPDK Community Lab
To manage your email subscriptions, visit:
https://lab.dpdk.org/results/dashboard/preferences/subscriptions/
next prev parent reply other threads:[~2025-10-16 4:06 UTC|newest]
Thread overview: 25+ messages / expand[flat|nested] mbox.gz Atom feed top
[not found] <20251016023747.18871-1-fengchengwen@huawei.com>
2025-10-16 2:04 ` qemudev
2025-10-16 2:09 ` qemudev
2025-10-16 2:39 ` checkpatch
2025-10-16 3:01 ` |PENDING| " dpdklab
2025-10-16 3:04 ` |SUCCESS| " dpdklab
2025-10-16 3:08 ` dpdklab
2025-10-16 3:09 ` |PENDING| " dpdklab
2025-10-16 3:14 ` dpdklab
2025-10-16 3:16 ` dpdklab
2025-10-16 3:23 ` |SUCCESS| " dpdklab
2025-10-16 3:26 ` dpdklab
2025-10-16 3:29 ` dpdklab
2025-10-16 3:30 ` |PENDING| " dpdklab
2025-10-16 3:49 ` |SUCCESS| " dpdklab
2025-10-16 3:53 ` dpdklab
2025-10-16 3:57 ` dpdklab
2025-10-16 4:04 ` dpdklab
2025-10-16 4:04 ` dpdklab
2025-10-16 4:06 ` dpdklab [this message]
2025-10-16 4:09 ` 0-day Robot
2025-10-16 4:09 ` 0-day Robot
2025-10-16 4:37 ` dpdklab
2025-10-16 4:40 ` dpdklab
2025-10-16 6:50 ` |WARNING| " dpdklab
2025-10-16 8:00 ` dpdklab
Reply instructions:
You may reply publicly to this message via plain-text email
using any one of the following methods:
* Save the following mbox file, import it into your mail client,
and reply-to-all from there: mbox
Avoid top-posting and favor interleaved quoting:
https://en.wikipedia.org/wiki/Posting_style#Interleaved_style
* Reply using the --to, --cc, and --in-reply-to
switches of git-send-email(1):
git send-email \
--in-reply-to=68f06f4f.170a0220.3ad217.901aSMTPIN_ADDED_MISSING@mx.google.com \
--to=dpdklab@iol.unh.edu \
--cc=dpdk-test-reports@iol.unh.edu \
--cc=test-report@dpdk.org \
/path/to/YOUR_REPLY
https://kernel.org/pub/software/scm/git/docs/git-send-email.html
* If your mail client supports setting the In-Reply-To header
via mailto: links, try the mailto: link
Be sure your reply has a Subject: header at the top and a blank line
before the message body.
This is a public inbox, see mirroring instructions
for how to clone and mirror all data and code used for this inbox;
as well as URLs for NNTP newsgroup(s).