From mboxrd@z Thu Jan 1 00:00:00 1970 Return-Path: Received: from mails.dpdk.org (mails.dpdk.org [217.70.189.124]) by inbox.dpdk.org (Postfix) with ESMTP id F1D0F4894A for ; Thu, 16 Oct 2025 06:35:57 +0200 (CEST) Received: from mails.dpdk.org (localhost [127.0.0.1]) by mails.dpdk.org (Postfix) with ESMTP id B94B940269; Thu, 16 Oct 2025 06:35:57 +0200 (CEST) Received: from mail-qv1-f97.google.com (mail-qv1-f97.google.com [209.85.219.97]) by mails.dpdk.org (Postfix) with ESMTP id 3037D40269 for ; Thu, 16 Oct 2025 06:35:56 +0200 (CEST) Received: by mail-qv1-f97.google.com with SMTP id 6a1803df08f44-7900f7f4ba9so4472156d6.0 for ; Wed, 15 Oct 2025 21:35:56 -0700 (PDT) DKIM-Signature: v=1; a=rsa-sha256; c=relaxed/relaxed; d=iol.unh.edu; s=unh-iol; t=1760589355; x=1761194155; darn=dpdk.org; h=references:in-reply-to:cc:to:from:subject:message-id:date:from:to :cc:subject:date:message-id:reply-to; bh=6SHa1MlXW/YaHHP/0CjArKaPFacOUZJvMyQ6J+tqqok=; b=I/RoEkUtuBbYIOBEY7+hhpd0tvqQi6G+iwzhjYzHMGJZU3Ksg5FdIKhTw07ep7H2Yo O3rfK9MPa7NPXgd+AowhvShNtD8zpjb7H2lYCaj4wntCT3mv6FY5Dyo9MC/NhODo5nBi G08CgwQc1fLCwtaZbEr/Ct4rDv+/M9lkWvmoI= X-Google-DKIM-Signature: v=1; a=rsa-sha256; c=relaxed/relaxed; d=1e100.net; s=20230601; t=1760589355; x=1761194155; h=references:in-reply-to:cc:to:from:subject:message-id:date :x-gm-message-state:from:to:cc:subject:date:message-id:reply-to; bh=6SHa1MlXW/YaHHP/0CjArKaPFacOUZJvMyQ6J+tqqok=; b=dW0I/L+1XHAzbeMf0H6vqcZ4c0pu1pPXyD60ZFZnmiZIky3b2Rm6Tqi9D9XLhkZ0fD V1WA0tp1s9QxeZyMrbItjCKjjdG5hZ+2tBRNlzbWyYYn6Af4M1w/7UGncBQPsZu0MAQ3 sQeaR5ovXWh4x6DwdAhuRRlWr0q2EzE04Wknuh/99xqLwizrLKdtFO0+uCFmWvo8nLtM kks/2RHMdKpMDcvVG/ojkUoRR5+29GH+xeh6kFEpF9Xkydnz/3aHwxEk2AZRRauhf4jk nui7Y+Qk/rmjE9tDFjtnhcW9VOsRUr9RmEVhVkFkgPSJk46jeaEIp0K+6jwvVH2917Jy Pqtg== X-Gm-Message-State: AOJu0YwKjaOcCPZgspUbA5MOklFUyGlXo6Ge/EFfLisQo28RvVtQO1yk aX+gKWt6lvSYyTG32Ym4Sm9tT0fSA6IY6N5CSVsAkOteR2yuVT5ksNauAkkO+sp8wU8hzokAzQm gNqW/l8yb9CxVTWR6Ro8JhphY2+f9lhONDyFM/YeWZgY3 X-Gm-Gg: ASbGnctLWVgy3siJffP1dRNIpcBv37xw8Ee/mUVYV+msRuKVWf5Wywv5RusCSzB9g3r GOaEPIUnefVgddtGZfdy6SB5qEtTbesnXDAsgKCiSMua94S8onLaA3C6AG75hhYYnWVrMcJgW8g kdn52aPFOGyFZhsa7Jq5XMV12lGm4Ttx+WzSfgPxWWEjMyYxEz99fhQstJXz1tHeONGtjTNStQ1 NBTewmKYcm9JkhvLsYsnLArHq2a/Cc320Qo3f2pkj8O+rUw8U4DuFOFGAF6/56afB86KgqElVDF G0/6Lvto01o5U2DEFWkiydsspKOfOUGwMTxLBl4IAAtFP8b9N5P+FABHZSn+ZwpRWeVePS54Xej AkTWiHF4LowWXIzg3pT+MPkQ0USjIm4o= X-Google-Smtp-Source: AGHT+IGSEyBdAcTfzJznDqwYg9MzYAAy+fen/ylxHevL876+nyoMMdE5CJCuKLe1EKA3dQq21u3L4rUXqmXK X-Received: by 2002:a05:6214:2f06:b0:87c:651:da29 with SMTP id 6a1803df08f44-87c0651db58mr55450286d6.35.1760589355546; Wed, 15 Oct 2025 21:35:55 -0700 (PDT) Received: from postal.iol.unh.edu (postal.iol.unh.edu. [132.177.123.84]) by smtp-relay.gmail.com with ESMTPS id 6a1803df08f44-87c16fbedffsm517816d6.35.2025.10.15.21.35.55 (version=TLS1_2 cipher=ECDHE-ECDSA-AES128-GCM-SHA256 bits=128/128); Wed, 15 Oct 2025 21:35:55 -0700 (PDT) X-Relaying-Domain: iol.unh.edu Date: Wed, 15 Oct 2025 21:35:55 -0700 (PDT) Message-ID: <68f0762b.d40a0220.192934.283fSMTPIN_ADDED_MISSING@mx.google.com> Received: from [172.21.0.2] (unknown [172.18.0.240]) by postal.iol.unh.edu (Postfix) with ESMTP id 3774060003E8; Thu, 16 Oct 2025 00:35:55 -0400 (EDT) Subject: |SUCCESS| pw157695-157696 [PATCH] [v6,4/4] dma/hisi_acc: add doc From: dpdklab@iol.unh.edu To: Test Report Cc: dpdk-test-reports@iol.unh.edu In-Reply-To: <20251016025318.14333-5-fengchengwen@huawei.com> References: <20251016025318.14333-5-fengchengwen@huawei.com> Content-Type: text/plain X-BeenThere: test-report@dpdk.org X-Mailman-Version: 2.1.29 Precedence: list List-Id: automatic DPDK test reports List-Unsubscribe: , List-Archive: List-Post: List-Help: List-Subscribe: , Errors-To: test-report-bounces@dpdk.org Test-Label: iol-compile-amd64-testing Test-Status: SUCCESS http://dpdk.org/patch/157696 _Testing PASS_ Submitter: Chengwen Feng Date: Thursday, October 16 2025 02:53:18 DPDK git baseline: Repo:dpdk Branch: master CommitID:16f4c522003dcfecf23c8d38e009b95a3bbefd03 157695-157696 --> testing pass Upstream job id: Windows-Compile-DPDK-VS#7212 Test environment and result as below: +---------------------+--------------------+-------------------+ | Environment | dpdk_meson_compile | dpdk_msvc_compile | +=====================+====================+===================+ | Ubuntu 20.04 | PASS | SKIPPED | +---------------------+--------------------+-------------------+ | FreeBSD 14.2 | PASS | SKIPPED | +---------------------+--------------------+-------------------+ | Windows Server 2022 | SKIPPED | PASS | +---------------------+--------------------+-------------------+ Ubuntu 20.04 Kernel: 4.19 Compiler: gcc gcc (Ubuntu 9.4.0-1ubuntu1~20.04.2) 9.4.0 FreeBSD 14.2 Kernel: 14.2-RELEASE Compiler: clang 18.1.6 Windows Server 2022 Kernel: 10.0.20348.2031 Compiler: clang 15.0.7, gcc 14.1.0 (MinGW), and MSVC VS 19.39.33521 To view detailed results, visit: https://lab.dpdk.org/results/dashboard/patchsets/34293/ UNH-IOL DPDK Community Lab To manage your email subscriptions, visit: https://lab.dpdk.org/results/dashboard/preferences/subscriptions/