From mboxrd@z Thu Jan 1 00:00:00 1970 Return-Path: Received: from mails.dpdk.org (mails.dpdk.org [217.70.189.124]) by inbox.dpdk.org (Postfix) with ESMTP id B501E4894A for ; Thu, 16 Oct 2025 06:42:47 +0200 (CEST) Received: from mails.dpdk.org (localhost [127.0.0.1]) by mails.dpdk.org (Postfix) with ESMTP id 87BF640269; Thu, 16 Oct 2025 06:42:47 +0200 (CEST) Received: from mail-qv1-f97.google.com (mail-qv1-f97.google.com [209.85.219.97]) by mails.dpdk.org (Postfix) with ESMTP id DF2C740269 for ; Thu, 16 Oct 2025 06:42:45 +0200 (CEST) Received: by mail-qv1-f97.google.com with SMTP id 6a1803df08f44-78defc1a2afso8008126d6.2 for ; Wed, 15 Oct 2025 21:42:45 -0700 (PDT) DKIM-Signature: v=1; a=rsa-sha256; c=relaxed/relaxed; d=iol.unh.edu; s=unh-iol; t=1760589765; x=1761194565; darn=dpdk.org; h=references:in-reply-to:cc:to:from:subject:message-id:date:from:to :cc:subject:date:message-id:reply-to; bh=TfkvzW/1BgD5f3LCD/FO63YvbQAbVCK1oyp5oTc2HZ4=; b=TNIU3gMhEXe73WBUsBOUySEz1kv3oLQT4EnL2s/jJejltKG+iFk+Vvz5oFWvriqZiu 34IqzZJ6goWYdY4TO07W2/aEwnwbzYxsk3WoWkmCWQ0pu/E+Def6mLdXIJc6mLHPFSX5 JQpi5gudLDBZTPzeUZiUvXfUg+5o1OU/0fg9A= X-Google-DKIM-Signature: v=1; a=rsa-sha256; c=relaxed/relaxed; d=1e100.net; s=20230601; t=1760589765; x=1761194565; h=references:in-reply-to:cc:to:from:subject:message-id:date :x-gm-message-state:from:to:cc:subject:date:message-id:reply-to; bh=TfkvzW/1BgD5f3LCD/FO63YvbQAbVCK1oyp5oTc2HZ4=; b=l7TbN1+ihELlJUg5YMjXKuHaFTef/d3VdZRd1v22A5Q88NEH/YsjlzF1N78PDJG8dM x78CVglbKMWoA1sYxeDwnkYwPyp6agR7eMeiO98ek9m8n0k1jTy9e3+eAv0BB5Ejxo/K GBoMzIEFyEYkXjvKF6nQ6Epkdozm/9+qgor8MMaPXDNMLWzCzKlsOoH/l/lRa/7J8z3f qYKUOZW+mGa5EztLqwQYWXvZBYCg55bEuNAf74f+n+rUCoNk4prTUPfqMHFGjwKZAVY1 jm0qx6DdZLQ+m0vPFSgi52mMQHmRI0IldKB0TyWyVaPWkjF67mj0UVUJYAenTddVC4FO UT3w== X-Gm-Message-State: AOJu0YwDqrVEUQqbOAkdkgOCRhS1ttwrPZ+niP14fu5zfDJnxdj+dgxi I7soGJ17ud1+RkOkyRWLQASke59qAgHc/SWzs7k3DZi27uohyMCf7LjiBsW4D/QV9vFMSDh7JrA Kqx57Z2yH177ZVs4Ep0Ar6Irap9tNMf2D9nZByvkyw4uk X-Gm-Gg: ASbGncvJnb/NzRAqkQ/vWEN3RfJWP2+yrga3qh2VkwHbh4+hI5ot2ioOyDAIYOcqoYI eXJV5Tjga8/+oQWnxIPqiQkEppTwT4KvMglAnNZT1P9VxMyzgTYRe5PDEsZAgZECw9LA0SLbLo6 VXeMrHVeY/+b3K5qqYZpJDyHAy22P2WtXdeIBCvhV8UWTg9NfpWHCXRwpmuzZtSOaFrFb1DLNqT v1+oSfchBgND/NOWk21XXr1TAY9Q/EQuX3mU0SK2du7rNCIJON7NUrqkyYgxbyALlXeoc1wNdyn crvxpMHWWgdmgOKLXZ73pUIgOOtVK+J5xPg5SxhabxSKhFda10L/C9vhX+QFPZOHdUFbI0wQwPL dfuiYYM3L8KOZgPL5LmTL9PUb7OpEygI= X-Google-Smtp-Source: AGHT+IHRe267tahZWgKRZU0qNig5ILqyeyegap4cF05wjksHEJYxUFhJRVCZUNrosyqW9FIgvKsF++pKdkx2 X-Received: by 2002:ad4:5ce1:0:b0:87c:8cc:fb32 with SMTP id 6a1803df08f44-87c08ccfc8fmr49868206d6.18.1760589765119; Wed, 15 Oct 2025 21:42:45 -0700 (PDT) Received: from postal.iol.unh.edu (postal.iol.unh.edu. [132.177.123.84]) by smtp-relay.gmail.com with ESMTPS id 6a1803df08f44-87c010dcb29sm3914416d6.0.2025.10.15.21.42.45 (version=TLS1_2 cipher=ECDHE-ECDSA-AES128-GCM-SHA256 bits=128/128); Wed, 15 Oct 2025 21:42:45 -0700 (PDT) X-Relaying-Domain: iol.unh.edu Date: Wed, 15 Oct 2025 21:42:45 -0700 (PDT) Message-ID: <68f077c5.050a0220.39fd92.3891SMTPIN_ADDED_MISSING@mx.google.com> Received: from [172.21.0.2] (unknown [172.18.0.240]) by postal.iol.unh.edu (Postfix) with ESMTP id BDB6C6051830; Thu, 16 Oct 2025 00:42:44 -0400 (EDT) Subject: |SUCCESS| pw157682 [PATCH] [v2] net/i40e: fix symmetric toeplitz has From: dpdklab@iol.unh.edu To: Test Report Cc: dpdk-test-reports@iol.unh.edu, Bruce Richardson In-Reply-To: <20251015181150.93621-1-anurag.mandal@intel.com> References: <20251015181150.93621-1-anurag.mandal@intel.com> Content-Type: text/plain X-BeenThere: test-report@dpdk.org X-Mailman-Version: 2.1.29 Precedence: list List-Id: automatic DPDK test reports List-Unsubscribe: , List-Archive: List-Post: List-Help: List-Subscribe: , Errors-To: test-report-bounces@dpdk.org Test-Label: iol-unit-arm64-testing Test-Status: SUCCESS http://dpdk.org/patch/157682 _Testing PASS_ Submitter: Anurag Mandal Date: Wednesday, October 15 2025 18:11:50 DPDK git baseline: Repo:dpdk-next-net-intel Branch: master CommitID:d2d0163cb4200ff7e450fd66eb6a92a931f06de7 157682 --> testing pass Upstream job id: Generic-Unit-Test-DPDK#381767 Test environment and result as below: +------------------------------+----------------+--------------+---------------------------+------------------------------+ | Environment | dpdk_unit_test | lpm_autotest | cryptodev_sw_zuc_autotest | cryptodev_sw_snow3g_autotest | +==============================+================+==============+===========================+==============================+ | CentOS Stream 9 | PASS | SKIPPED | SKIPPED | SKIPPED | +------------------------------+----------------+--------------+---------------------------+------------------------------+ | CentOS Stream 10 | PASS | SKIPPED | SKIPPED | SKIPPED | +------------------------------+----------------+--------------+---------------------------+------------------------------+ | Fedora Linux 40 | PASS | SKIPPED | SKIPPED | SKIPPED | +------------------------------+----------------+--------------+---------------------------+------------------------------+ | Debian GNU/Linux 12 | PASS | SKIPPED | SKIPPED | SKIPPED | +------------------------------+----------------+--------------+---------------------------+------------------------------+ | Fedora Linux 41 | PASS | SKIPPED | SKIPPED | SKIPPED | +------------------------------+----------------+--------------+---------------------------+------------------------------+ | Ubuntu 20.04 | PASS | PASS | SKIPPED | SKIPPED | +------------------------------+----------------+--------------+---------------------------+------------------------------+ | Red Hat Enterprise Linux 9.5 | PASS | SKIPPED | SKIPPED | SKIPPED | +------------------------------+----------------+--------------+---------------------------+------------------------------+ | Ubuntu 22.04 | PASS | SKIPPED | SKIPPED | SKIPPED | +------------------------------+----------------+--------------+---------------------------+------------------------------+ | Fedora Linux 42 | PASS | SKIPPED | SKIPPED | SKIPPED | +------------------------------+----------------+--------------+---------------------------+------------------------------+ | Ubuntu 24.04 | PASS | SKIPPED | SKIPPED | SKIPPED | +------------------------------+----------------+--------------+---------------------------+------------------------------+ | Debian 12 (arm) | SKIPPED | SKIPPED | PASS | PASS | +------------------------------+----------------+--------------+---------------------------+------------------------------+ CentOS Stream 9 Kernel: 5.4 Compiler: gcc gcc (GCC) 11.5.0 20240719 (Red Hat 11.5.0-11) CentOS Stream 10 Kernel: 5.4 Compiler: gcc gcc (GCC) 14.2.1 20250110 (Red Hat 14.2.1-8) Fedora Linux 40 Kernel: 5.4 Compiler: gcc gcc (GCC) 14.2.1 20240912 (Red Hat 14.2.1-3) Debian GNU/Linux 12 Kernel: 5.4 Compiler: gcc gcc (Debian 12.2.0-14+deb12u1) 12.2.0 Fedora Linux 41 Kernel: 5.4 Compiler: gcc gcc (GCC) 14.3.1 20250523 (Red Hat 14.3.1-1) Ubuntu 20.04 Kernel: 5.4 Compiler: gcc gcc (Ubuntu 9.4.0-1ubuntu1~20.04.2) 9.4.0 Red Hat Enterprise Linux 9.5 Kernel: 5.4 Compiler: gcc gcc (GCC) 11.5.0 20240719 (Red Hat 11.5.0-2) Ubuntu 22.04 Kernel: 5.4 Compiler: gcc gcc (Ubuntu 11.4.0-1ubuntu1~22.04) 11.4.0 Fedora Linux 42 Kernel: 5.4 Compiler: gcc gcc (GCC) 15.2.1 20250808 (Red Hat 15.2.1-1) Ubuntu 24.04 Kernel: 5.4 Compiler: gcc gcc (Ubuntu 13.3.0-6ubuntu2~24.04) 13.3.0 Debian 12 (arm) Kernel: Depends on container host Compiler: gcc (Debian 12.2.0-14) 12.2.0 To view detailed results, visit: https://lab.dpdk.org/results/dashboard/patchsets/34287/ UNH-IOL DPDK Community Lab To manage your email subscriptions, visit: https://lab.dpdk.org/results/dashboard/preferences/subscriptions/