From mboxrd@z Thu Jan 1 00:00:00 1970 Return-Path: Received: from mails.dpdk.org (mails.dpdk.org [217.70.189.124]) by inbox.dpdk.org (Postfix) with ESMTP id 097B84894A for ; Thu, 16 Oct 2025 06:46:34 +0200 (CEST) Received: from mails.dpdk.org (localhost [127.0.0.1]) by mails.dpdk.org (Postfix) with ESMTP id 05A7C40269; Thu, 16 Oct 2025 06:46:34 +0200 (CEST) Received: from mail-io1-f98.google.com (mail-io1-f98.google.com [209.85.166.98]) by mails.dpdk.org (Postfix) with ESMTP id B33B740269 for ; Thu, 16 Oct 2025 06:46:32 +0200 (CEST) Received: by mail-io1-f98.google.com with SMTP id ca18e2360f4ac-937b40137b4so69957239f.0 for ; Wed, 15 Oct 2025 21:46:32 -0700 (PDT) DKIM-Signature: v=1; a=rsa-sha256; c=relaxed/relaxed; d=iol.unh.edu; s=unh-iol; t=1760589992; x=1761194792; darn=dpdk.org; h=references:in-reply-to:cc:to:from:subject:message-id:date:from:to :cc:subject:date:message-id:reply-to; bh=RVJ1w1Nz0DyLYZq5fZN+EehTSqivMoImAfA8TGlIHPI=; b=Ta7ByuKd6ptuHlwuQEvkfkHrBHmrIazLqQa8x/MRzgVhjFPiDWdCu5woujTDvMeEzn RFhsArCX1Gqn2KkQX4vKz+I4ctVT18t7m31L1AfrU/ytgHxmANGyzw5BqdL0xlBdvy4a Lo6ED8Jq45SjFFVrRHzJQ/PB1opnMMBe//qxk= X-Google-DKIM-Signature: v=1; a=rsa-sha256; c=relaxed/relaxed; d=1e100.net; s=20230601; t=1760589992; x=1761194792; h=references:in-reply-to:cc:to:from:subject:message-id:date :x-gm-message-state:from:to:cc:subject:date:message-id:reply-to; bh=RVJ1w1Nz0DyLYZq5fZN+EehTSqivMoImAfA8TGlIHPI=; b=Hmgpf0UBl4MKOuc8syDh7053mR1z586qJJd53Q6dY5lx2SWvBjd67Ten0HhYYSBRjP GSAzjE6Zx3YF4lrgY3aRybNwBoODrEqadeh+cAzEHFbrXD0jwxaPB0AYIcr8XCpnfRZP rYrrK8vxWzoMxjdF+709Afgx5izlig1XVDikXbLfx9inTZ1CiAgLuwAraDjRU7crlwR4 Cljjj1fn55c4xIn4cohyI9M/SFqicWiQIMbkYnguZ83ZI6Ppdf23JKD3myVYuayyNQjI wBFNOLioh/brM7wcN6YsLi3wJZmMh09pGqxkNeIe+74qsgv4UHcgRXd/KHpEAD6lho0N +tuA== X-Gm-Message-State: AOJu0YxJ6PGX7nW9+C+B5+pkGoBCS4+BKITJT08PU8JdxdGHJiv58UHT /0O/ij0c9Pm5yhNYTp0E0x8wqhrNwNowAY3/2iGO7PcwTEowwfKsKD58oykz2L8mX/tB1u5kvuv qu+oUjjaNRewSY421+eVptJdEs0bksuJQsdghWjh8jgYOzAlUidRMx5bwAKn2 X-Gm-Gg: ASbGncsfhPft3KMmWVgd9UspQCk0QTyiRmZB62zU//AtQgQVUTpTKj0AQkXunKidinD uo+UbGi6cPs/UxYADhGd3RrbCenT0pKoQKm3iNbkahWuKIfkTV3+xplPBbo5BquXTqfUhqhe3mo Dl5IqkZ8AsCc8Pv8d4zeyxxK7vUfGRNi19srMWLn8TZHJ/Uwe6/3bFcxrSjJj/tsogDkDKnPX0E cz2PJicSj+mgQDkAt18RqgSglBpXccW6mVhIdAGEYpwZZEJJPGWkPkErwlKXuEGcOPNIesjogZ3 2I/vWKT8oioTli3byfYMePyVdpuXN4fYn7otWR9F00O3kqFVVCiGilpz+sYTfxs0E+MTAeKVPwG Lom1Ooq6r X-Google-Smtp-Source: AGHT+IEQBFRWPefWeWBpT0SRth97LG3o7zV2eRLU57A6eOcsBJcNRgKw1VOSGkg1C/58nk5+dBzcVSg7M+fa X-Received: by 2002:a05:6e02:3808:b0:430:afae:fe24 with SMTP id e9e14a558f8ab-430b4396086mr35245045ab.8.1760589991981; Wed, 15 Oct 2025 21:46:31 -0700 (PDT) Received: from postal.iol.unh.edu (postal.iol.unh.edu. [2606:4100:3880:1234::84]) by smtp-relay.gmail.com with ESMTPS id e9e14a558f8ab-430b50ddfbbsm1470595ab.16.2025.10.15.21.46.31 (version=TLS1_2 cipher=ECDHE-ECDSA-AES128-GCM-SHA256 bits=128/128); Wed, 15 Oct 2025 21:46:31 -0700 (PDT) X-Relaying-Domain: iol.unh.edu Date: Wed, 15 Oct 2025 21:46:31 -0700 (PDT) Message-ID: <68f078a7.050a0220.1a4b3c.81c2SMTPIN_ADDED_MISSING@mx.google.com> Received: from [172.21.0.2] (unknown [172.18.0.240]) by postal.iol.unh.edu (Postfix) with ESMTP id 8FC6D6051830; Thu, 16 Oct 2025 00:46:31 -0400 (EDT) Subject: |SUCCESS| pw157695-157696 [PATCH] [v6,4/4] dma/hisi_acc: add doc From: dpdklab@iol.unh.edu To: Test Report Cc: dpdk-test-reports@iol.unh.edu In-Reply-To: <20251016025318.14333-5-fengchengwen@huawei.com> References: <20251016025318.14333-5-fengchengwen@huawei.com> Content-Type: text/plain X-BeenThere: test-report@dpdk.org X-Mailman-Version: 2.1.29 Precedence: list List-Id: automatic DPDK test reports List-Unsubscribe: , List-Archive: List-Post: List-Help: List-Subscribe: , Errors-To: test-report-bounces@dpdk.org Test-Label: iol-unit-amd64-testing Test-Status: SUCCESS http://dpdk.org/patch/157696 _Testing PASS_ Submitter: Chengwen Feng Date: Thursday, October 16 2025 02:53:18 DPDK git baseline: Repo:dpdk Branch: master CommitID:16f4c522003dcfecf23c8d38e009b95a3bbefd03 157695-157696 --> testing pass Upstream job id: Generic-VM-Unit-Test-DPDK#31828 Test environment and result as below: +-------------------------------+----------------+ | Environment | dpdk_unit_test | +===============================+================+ | Debian GNU/Linux 12 | PASS | +-------------------------------+----------------+ | CentOS Stream 10 | PASS | +-------------------------------+----------------+ | CentOS Stream 9 | PASS | +-------------------------------+----------------+ | Fedora Linux 40 | PASS | +-------------------------------+----------------+ | Fedora Linux 42 | PASS | +-------------------------------+----------------+ | Fedora Linux 41 | PASS | +-------------------------------+----------------+ | Red Hat Enterprise Linux 9.5 | PASS | +-------------------------------+----------------+ | Red Hat Enterprise Linux 8.10 | PASS | +-------------------------------+----------------+ | Ubuntu 24.04 | PASS | +-------------------------------+----------------+ | Ubuntu 20.04 | PASS | +-------------------------------+----------------+ | Ubuntu 22.04 | PASS | +-------------------------------+----------------+ | Windows Server 2022 | PASS | +-------------------------------+----------------+ Debian GNU/Linux 12 Kernel: 5.15 Compiler: gcc gcc (Debian 12.2.0-14+deb12u1) 12.2.0 CentOS Stream 10 Kernel: 5.15 Compiler: gcc gcc (GCC) 14.2.1 20250110 (Red Hat 14.2.1-8) CentOS Stream 9 Kernel: 5.15 Compiler: gcc gcc (GCC) 11.5.0 20240719 (Red Hat 11.5.0-11) Fedora Linux 40 Kernel: 5.15 Compiler: gcc gcc (GCC) 14.2.1 20240912 (Red Hat 14.2.1-3) Fedora Linux 42 Kernel: 5.15 Compiler: gcc gcc (GCC) 15.2.1 20250808 (Red Hat 15.2.1-1) Fedora Linux 41 Kernel: 5.15 Compiler: gcc gcc (GCC) 14.3.1 20250523 (Red Hat 14.3.1-1) Red Hat Enterprise Linux 9.5 Kernel: 5.15 Compiler: gcc gcc (GCC) 11.5.0 20240719 (Red Hat 11.5.0-2) Red Hat Enterprise Linux 8.10 Kernel: 5.15 Compiler: gcc gcc (GCC) 8.5.0 20210514 (Red Hat 8.5.0-22) Ubuntu 24.04 Kernel: 5.15 Compiler: gcc gcc (Ubuntu 13.3.0-6ubuntu2~24.04) 13.3.0 Ubuntu 20.04 Kernel: 5.15 Compiler: gcc gcc (Ubuntu 9.4.0-1ubuntu1~20.04.2) 9.4.0 Ubuntu 22.04 Kernel: 5.15 Compiler: gcc gcc (Ubuntu 11.4.0-1ubuntu1~22.04) 11.4.0 Windows Server 2022 Kernel: 10.0.20348.2031 Compiler: clang 15.0.7, gcc 14.1.0 (MinGW), and MSVC VS 19.39.33521 To view detailed results, visit: https://lab.dpdk.org/results/dashboard/patchsets/34293/ UNH-IOL DPDK Community Lab To manage your email subscriptions, visit: https://lab.dpdk.org/results/dashboard/preferences/subscriptions/