From mboxrd@z Thu Jan 1 00:00:00 1970 Return-Path: Received: from mails.dpdk.org (mails.dpdk.org [217.70.189.124]) by inbox.dpdk.org (Postfix) with ESMTP id 446C54894A for ; Thu, 16 Oct 2025 06:47:01 +0200 (CEST) Received: from mails.dpdk.org (localhost [127.0.0.1]) by mails.dpdk.org (Postfix) with ESMTP id 4007240B94; Thu, 16 Oct 2025 06:47:01 +0200 (CEST) Received: from mail-io1-f99.google.com (mail-io1-f99.google.com [209.85.166.99]) by mails.dpdk.org (Postfix) with ESMTP id 63B0640DD8 for ; Thu, 16 Oct 2025 06:46:59 +0200 (CEST) Received: by mail-io1-f99.google.com with SMTP id ca18e2360f4ac-90926724bceso27784739f.1 for ; Wed, 15 Oct 2025 21:46:59 -0700 (PDT) DKIM-Signature: v=1; a=rsa-sha256; c=relaxed/relaxed; d=iol.unh.edu; s=unh-iol; t=1760590019; x=1761194819; darn=dpdk.org; h=cc:to:from:subject:message-id:date:from:to:cc:subject:date :message-id:reply-to; bh=9Roy5DBtO9zulh7lMgjvyVaYasR93ErsRnJRoD5hek0=; b=CTCzdT7NYz8MRJVY+CudKCs/+UyNu0lyZtthJ5J7iv/8cFfL2y5saUnlylokCawOEG iBKJJE3+D38O4ia0J1WSIVCTFs3pKRE0tW4OVErNX3aO8mHIf083+D2EqGsN9DZV/Lfe tyak82ZrU7EHenVj3dq7XCwiS3ZoRsSmMvRoo= X-Google-DKIM-Signature: v=1; a=rsa-sha256; c=relaxed/relaxed; d=1e100.net; s=20230601; t=1760590019; x=1761194819; h=cc:to:from:subject:message-id:date:x-gm-message-state:from:to:cc :subject:date:message-id:reply-to; bh=9Roy5DBtO9zulh7lMgjvyVaYasR93ErsRnJRoD5hek0=; b=LeovTcr0aPT7FXMCuVjUxVwf4KYcQmQCvV7Dl1YZKhvgGkapsExhOTSoBZvoaWrp4S 1wCs4H0kLAqllvOUYgrr9W9emH44mfDfh38CAL7doQO8+rNAldog3/0QUg79eUSljLdC 2OeAHBOCVpCqjh10Q8lx/nI8RtrbKXoXgj6K9CuHzaJQ8F38rFZ0VKDjQEXh1nQBArNl Sv+2pS+IenTDdkaBYwp9TUAaiQqLtE8X5iivp183j0YJuu+MrsGWpNtPjeTDJL9dZfjY vS+LOWacw/DKjePgNpmzkGq+r2gpjjMo64zAFdo+hYtZgCp+K3VXxs73aRijur2idP9R wNyQ== X-Gm-Message-State: AOJu0YwP8KFpCAk0Ew88mA/XRle1A+tZaA7tyHBe25y5DABPKAmw8pmY V/R19Nfg/mu+c21VF2/sqh+1XMlnAsdiF1J1Dx1PdbRSdi5eRzxApQxeIOXw0JSMjDemYfOii3f pDQiiwroH70X2iAR/FVPjmcusT2Ph5mav9X/o X-Gm-Gg: ASbGncslM+Iwxr4bNKuofKr48TYozHb0a711OPGxwIs3V9a9Qkh1nvG0JbXnBDHDrAi ykbMYRK+78YNrXjLjE6omhCIWCxtykx70U5Dv3u6tSv0vyd11BE208OC1vu5Op8ie939MT/geVT nxQMMOVn7JYXcqHqogp657qd1RfhlDOcrb4lIWTENYavEAmcncchS+5Yce3UMi4S1zcNh9Ue2Kt yaVxhaVNAh+rJ8zZhRlyo8HkjhNhIB4i+gT/uoHtDjUJXbaqHxU66kLedsFQDGkk8DLe05bfICf dqDlkkSN4r87BuGcVM3YplkukqVofci6nW3F3MzLNEHQ9b9qrqnRsxO9AlI2+pLuNOC2sr5NiOQ /Eo17BlleU4MwRO2jNt3xHhXfnWzdai8= X-Google-Smtp-Source: AGHT+IE+MNJzuH4rqu4VNUSfwhUqAdbNZmiGLe0++nzorGdgF1wc+yZ/CycCeIN69jCZq1P54MWQ35zl6zN5 X-Received: by 2002:a05:6602:15ca:b0:93b:db10:b32b with SMTP id ca18e2360f4ac-93bdb10b507mr3650467839f.7.1760590018752; Wed, 15 Oct 2025 21:46:58 -0700 (PDT) Received: from postal.iol.unh.edu (postal.iol.unh.edu. [132.177.123.84]) by smtp-relay.gmail.com with ESMTPS id ca18e2360f4ac-93e58f7fec6sm39928339f.1.2025.10.15.21.46.58 (version=TLS1_2 cipher=ECDHE-ECDSA-AES128-GCM-SHA256 bits=128/128); Wed, 15 Oct 2025 21:46:58 -0700 (PDT) X-Relaying-Domain: iol.unh.edu Date: Wed, 15 Oct 2025 21:46:58 -0700 (PDT) Message-ID: <68f078c2.050a0220.112fe9.49c6SMTPIN_ADDED_MISSING@mx.google.com> Received: from [172.21.0.2] (unknown [172.18.0.240]) by postal.iol.unh.edu (Postfix) with ESMTP id 51EAD6051830; Thu, 16 Oct 2025 00:46:58 -0400 (EDT) Subject: |SUCCESS| [GIT MASTER] b287e404643aeab5bb5db084c142789df187844e From: dpdklab@iol.unh.edu To: Test Report Cc: dpdk-test-reports@iol.unh.edu, Xueming Li , Christian Ehrhardt , Kevin Traynor , Luca Boccassi Content-Type: text/plain X-BeenThere: test-report@dpdk.org X-Mailman-Version: 2.1.29 Precedence: list List-Id: automatic DPDK test reports List-Unsubscribe: , List-Archive: List-Post: List-Help: List-Subscribe: , Errors-To: test-report-bounces@dpdk.org _Testing PASS_ Branch: tags/v24.11 b287e404643aeab5bb5db084c142789df187844e --> testing pass Upstream job id: Windows-Compile-DPDK-VS#7213 Test environment and result as below: +---------------------+--------------------+-------------------+ | Environment | dpdk_meson_compile | dpdk_msvc_compile | +=====================+====================+===================+ | Ubuntu 20.04 | PASS | SKIPPED | +---------------------+--------------------+-------------------+ | FreeBSD 14.2 | PASS | SKIPPED | +---------------------+--------------------+-------------------+ | Windows Server 2022 | SKIPPED | PASS | +---------------------+--------------------+-------------------+ Ubuntu 20.04 Kernel: 4.19 Compiler: gcc gcc (Ubuntu 9.4.0-1ubuntu1~20.04.2) 9.4.0 FreeBSD 14.2 Kernel: 14.2-RELEASE Compiler: clang 18.1.6 Windows Server 2022 Kernel: 10.0.20348.2031 Compiler: clang 15.0.7, gcc 14.1.0 (MinGW), and MSVC VS 19.39.33521 To view detailed results, visit: https://lab.dpdk.org/results/dashboard/tarballs/35229/ UNH-IOL DPDK Community Lab To manage your email subscriptions, visit: https://lab.dpdk.org/results/dashboard/preferences/subscriptions/