From mboxrd@z Thu Jan 1 00:00:00 1970 Return-Path: Received: from mails.dpdk.org (mails.dpdk.org [217.70.189.124]) by inbox.dpdk.org (Postfix) with ESMTP id 07C0A4894A for ; Thu, 16 Oct 2025 06:54:38 +0200 (CEST) Received: from mails.dpdk.org (localhost [127.0.0.1]) by mails.dpdk.org (Postfix) with ESMTP id 027D640269; Thu, 16 Oct 2025 06:54:38 +0200 (CEST) Received: from mail-pg1-f226.google.com (mail-pg1-f226.google.com [209.85.215.226]) by mails.dpdk.org (Postfix) with ESMTP id 8D85040269 for ; Thu, 16 Oct 2025 06:54:37 +0200 (CEST) Received: by mail-pg1-f226.google.com with SMTP id 41be03b00d2f7-b550eff972eso155193a12.3 for ; Wed, 15 Oct 2025 21:54:37 -0700 (PDT) DKIM-Signature: v=1; a=rsa-sha256; c=relaxed/relaxed; d=iol.unh.edu; s=unh-iol; t=1760590477; x=1761195277; darn=dpdk.org; h=references:in-reply-to:cc:to:from:subject:message-id:date:from:to :cc:subject:date:message-id:reply-to; bh=Nc0tE+19dbgOLX9087amc+FO/QYu0Z51LnloSF5fYq8=; b=ZcJbQJx3bJY9iHR+/6WGCLFdr/bEWckuyasryLthGNqPtj4CBJf+GaPYxgD+FkfPJp YgAecMGOXbBgiqtabddn+IOeygfMZgXp/aK8DYiRvgoopyVuOdtVEq4yIBn7AI3Owq1q +QVG8nho2dHFuRqlmceekjKifmynaeB8cXo58= X-Google-DKIM-Signature: v=1; a=rsa-sha256; c=relaxed/relaxed; d=1e100.net; s=20230601; t=1760590477; x=1761195277; h=references:in-reply-to:cc:to:from:subject:message-id:date :x-gm-message-state:from:to:cc:subject:date:message-id:reply-to; bh=Nc0tE+19dbgOLX9087amc+FO/QYu0Z51LnloSF5fYq8=; b=Pl5CYD8auN5tNP7xn70sYOJlas0rudm3PZmL8vvGW096OydRFGl6Ih/HVtWLHXFTFz UZ60ulRCGxyoaIv2XQP5LHyXqqelDqZUe0Cdl6rR4Yg7usMKJlXfK/MINkb2fFvto/U9 PkXSvSz2VeCneKwx+D2JU3P6yY6KDVL7XufGtiBAl28tYjxnapM95TVD1r+FvJhY7MYR Dnn+t3AdIWgtDVtxSPuN0ZA+2aZPftSPqP61e7zHbInPUjb91qUPPSRLO2xIXk+vFCs7 J4KPbbe5r1T5RE1WSJxjxqog/9mnBNyOx6GrngzkhXvZnr/BNBJuiFD4WEGEtYPY55QP rPVQ== X-Gm-Message-State: AOJu0YzX+jV7WnxFqE1EVT4zJLuMi29wrjil7gU4pp10QCbgIEdiU2FZ 4tx+uipo061UiteoSqCxrjbBVqO9eC6jLAy9qSfcAyPTT+JJc9Y/bbONYhfm336hQigYvI5tYCi QtCM96wYzXAkytK8n8a7Hab51LrHVAn31u4bSKmuBmqlg X-Gm-Gg: ASbGnctBHceQfhGYcOJvNlWG/+5XllNUfEE5jqNIxcNwsdt2RRfVDIYbEJVL5Xl2lhI uDNYwwWM0dbirc5iFcv6oNAPQjNXJuz7OIJfaTQW5gneC4gUDXAEh8lK3NWfuBZi0rE6YcClala hyCsbtFAWD+nz2Qoev2hSErMXEuxhkwal9rRZLgq3oBo7KMAXm6jCCH/h1r0LNw87WdVc3+4Xqw ayKsgl/f0xmzUTJr5bKHyc4pdUDcBkIz5zHAhQ3rnoiV7hI7tcxsSiYp2L3YPAR0op8JCvmt/EQ 96mYkiKNmUWMnCNdjfqmmcGQQCBQr066ohkv66MtqAVWEBgQxRMRh4cxWvFj7jn5DTPPSi5niSt V3lJxx+ictFFHXzoLvFVYbz/I/m6S6Rc= X-Google-Smtp-Source: AGHT+IFN8MKbq5dcaQXnGQ4jd/c1L3V7stzVz0l7vK59eQdMPLu8AzWo/WUzIpDPkjxDIvRtwx9exck3OvMg X-Received: by 2002:a17:902:dace:b0:290:ac36:2ed8 with SMTP id d9443c01a7336-290ac36326bmr10236185ad.24.1760590476655; Wed, 15 Oct 2025 21:54:36 -0700 (PDT) Received: from postal.iol.unh.edu (postal.iol.unh.edu. [132.177.123.84]) by smtp-relay.gmail.com with ESMTPS id d9443c01a7336-29098fbaac3sm1819505ad.16.2025.10.15.21.54.36 (version=TLS1_2 cipher=ECDHE-ECDSA-AES128-GCM-SHA256 bits=128/128); Wed, 15 Oct 2025 21:54:36 -0700 (PDT) X-Relaying-Domain: iol.unh.edu Date: Wed, 15 Oct 2025 21:54:36 -0700 (PDT) Message-ID: <68f07a8c.170a0220.1e2d2.99ecSMTPIN_ADDED_MISSING@mx.google.com> Received: from [172.21.0.2] (unknown [172.18.0.240]) by postal.iol.unh.edu (Postfix) with ESMTP id E70646051830; Thu, 16 Oct 2025 00:54:35 -0400 (EDT) Subject: |SUCCESS| pw157695-157696 [PATCH] [v6,4/4] dma/hisi_acc: add doc From: dpdklab@iol.unh.edu To: Test Report Cc: dpdk-test-reports@iol.unh.edu In-Reply-To: <20251016025318.14333-5-fengchengwen@huawei.com> References: <20251016025318.14333-5-fengchengwen@huawei.com> Content-Type: text/plain X-BeenThere: test-report@dpdk.org X-Mailman-Version: 2.1.29 Precedence: list List-Id: automatic DPDK test reports List-Unsubscribe: , List-Archive: List-Post: List-Help: List-Subscribe: , Errors-To: test-report-bounces@dpdk.org Test-Label: iol-compile-amd64-testing Test-Status: SUCCESS http://dpdk.org/patch/157696 _Testing PASS_ Submitter: Chengwen Feng Date: Thursday, October 16 2025 02:53:18 DPDK git baseline: Repo:dpdk Branch: master CommitID:16f4c522003dcfecf23c8d38e009b95a3bbefd03 157695-157696 --> testing pass Upstream job id: Windows-Compile-DPDK-Native#31657 Test environment and result as below: +---------------------+--------------------+-------------------+-------------------------+ | Environment | dpdk_meson_compile | dpdk_msvc_compile | dpdk_llvm_clang_compile | +=====================+====================+===================+=========================+ | Ubuntu 20.04 | PASS | SKIPPED | SKIPPED | +---------------------+--------------------+-------------------+-------------------------+ | FreeBSD 14.2 | PASS | SKIPPED | SKIPPED | +---------------------+--------------------+-------------------+-------------------------+ | Windows Server 2022 | SKIPPED | PASS | PASS | +---------------------+--------------------+-------------------+-------------------------+ Ubuntu 20.04 Kernel: 4.19 Compiler: gcc gcc (Ubuntu 9.4.0-1ubuntu1~20.04.2) 9.4.0 FreeBSD 14.2 Kernel: 14.2-RELEASE Compiler: clang 18.1.6 Windows Server 2022 Kernel: 10.0.20348.2031 Compiler: clang 15.0.7, gcc 14.1.0 (MinGW), and MSVC VS 19.39.33521 To view detailed results, visit: https://lab.dpdk.org/results/dashboard/patchsets/34293/ UNH-IOL DPDK Community Lab To manage your email subscriptions, visit: https://lab.dpdk.org/results/dashboard/preferences/subscriptions/