From mboxrd@z Thu Jan 1 00:00:00 1970 Return-Path: Received: from mails.dpdk.org (mails.dpdk.org [217.70.189.124]) by inbox.dpdk.org (Postfix) with ESMTP id 287A04894A for ; Thu, 16 Oct 2025 06:55:50 +0200 (CEST) Received: from mails.dpdk.org (localhost [127.0.0.1]) by mails.dpdk.org (Postfix) with ESMTP id 22F8240269; Thu, 16 Oct 2025 06:55:50 +0200 (CEST) Received: from mail-il1-f226.google.com (mail-il1-f226.google.com [209.85.166.226]) by mails.dpdk.org (Postfix) with ESMTP id A51FE40269 for ; Thu, 16 Oct 2025 06:55:49 +0200 (CEST) Received: by mail-il1-f226.google.com with SMTP id e9e14a558f8ab-42f9f5a9992so3033715ab.2 for ; Wed, 15 Oct 2025 21:55:49 -0700 (PDT) DKIM-Signature: v=1; a=rsa-sha256; c=relaxed/relaxed; d=iol.unh.edu; s=unh-iol; t=1760590549; x=1761195349; darn=dpdk.org; h=cc:to:from:subject:message-id:date:from:to:cc:subject:date :message-id:reply-to; bh=vF0zNfEJVWGvVjIMtZ4wytyeieVk8UVLGTOmZ3k3j94=; b=E1vPlpl6cUpaTJu+X+QUg9NlP2PCgllybLobr43JrR/9biN4WxnuIgKRQia37XPKQw NeTeKNUAtslzIEGaIDSOtzmsu6DaBWRvv4vVRRANdiNe9wimbRk0Vmoe40Wff8fxv7aE 0RbEOMrtPklpDPEwehdJvQf5We/n8/GScmQ/M= X-Google-DKIM-Signature: v=1; a=rsa-sha256; c=relaxed/relaxed; d=1e100.net; s=20230601; t=1760590549; x=1761195349; h=cc:to:from:subject:message-id:date:x-gm-message-state:from:to:cc :subject:date:message-id:reply-to; bh=vF0zNfEJVWGvVjIMtZ4wytyeieVk8UVLGTOmZ3k3j94=; b=Ri8CVY02I5uw8oqvLga1Y4T1w7RkLau2NcGJWgB+lX8cezBNWqF3YhMRDdkBRiQMLX zdyBikqh19O70/qnl12d9OcuOwB6oz8k2SJAoczBSzoOBYKW1hhf5f4o/y/iwrKnIrGL RGC/SAiBujbIqEvUY25H6xBBk035svjik9V6ozWCnR/wbCZdeB3US2Jt3jF7+1VPQe+1 i0cOBK7/iLnDyEAQHwEiWNO5xzd/kColJdxCQk8Lz/mqfsk/pNkH3BEBouloJZlCL/3D rAI5Lxiaukb0jko2BSRLKiv+2uYVnD9au3FCzQpLlZNANQF8MwAtRKjj3Ha8RDCGcR4a k+WQ== X-Gm-Message-State: AOJu0YwCFNfYk6o6bCPU/RmVTW+ae9mJxi+9RF07YJ9E0hdXry5XUap9 HH+DjCvGL2eXPyvWoucuGUiPE5FND2z8AStCRRBxdOKTPfOP+Tt1BL0oYnN1LIw/qv62Yyc5fij VdIRKX+Joc+Hf+aJymIULcRwIx+9uhMiXDifY X-Gm-Gg: ASbGncs6kwYycc+E0tAJdlgOBfIB07x6g59/4G4oRM1RId5SGLVDGFbLXYSLZ5zYjsL IcVjOGkdDFUDQYzrUIQYF7o/uZ978ltHqaBvAfYT3PsnFOrNJP470xi+g5NPfjUhzY82sb1VOvx Yw/OeyClCPVsVhTDrVfo9MkbJ6PPGaA5+2Q5fGym4hkKt2ZTVmwuISuR07TWntNWi/NrRflyDsg hq+5l83ZOG3f4nywEc0dYMtlwOHc/0r4DF8ILJAMK/hvpCPPus69m2fe6o1HO7oj1n3j2ut5gLP wmICrvxASKuFwPYk6xyZFDd4a/h4N5NTlSEm/ueSIdHpiD/+I0+5FSeAyE60heIOQ+b76X4krh0 AVocXvclbpNIwCQ6OKobV7EZL60RSCLI= X-Google-Smtp-Source: AGHT+IGGjKiFKshdaeaLY1SwbHXN0OdBZ0pzMFdd0Pvtnl82naHFlJN/chAp5Gty8xH0C7BNBewJJ8+Olaee X-Received: by 2002:a05:6e02:1688:b0:42f:953c:6d59 with SMTP id e9e14a558f8ab-42f953c6db7mr281411595ab.24.1760590548984; Wed, 15 Oct 2025 21:55:48 -0700 (PDT) Received: from postal.iol.unh.edu (postal.iol.unh.edu. [132.177.123.84]) by smtp-relay.gmail.com with ESMTPS id e9e14a558f8ab-430b50b6d9fsm1367885ab.5.2025.10.15.21.55.48 (version=TLS1_2 cipher=ECDHE-ECDSA-AES128-GCM-SHA256 bits=128/128); Wed, 15 Oct 2025 21:55:48 -0700 (PDT) X-Relaying-Domain: iol.unh.edu Date: Wed, 15 Oct 2025 21:55:48 -0700 (PDT) Message-ID: <68f07ad4.050a0220.74de7.7e8fSMTPIN_ADDED_MISSING@mx.google.com> Received: from [172.21.0.2] (unknown [172.18.0.240]) by postal.iol.unh.edu (Postfix) with ESMTP id 8B0106051830; Thu, 16 Oct 2025 00:55:48 -0400 (EDT) Subject: |SUCCESS| [GIT MASTER] 62f583c49bf67dd4d6733ece14e55fe6839e66d1 From: dpdklab@iol.unh.edu To: Test Report Cc: dpdk-test-reports@iol.unh.edu, Xueming Li , Christian Ehrhardt , Kevin Traynor , Luca Boccassi Content-Type: text/plain X-BeenThere: test-report@dpdk.org X-Mailman-Version: 2.1.29 Precedence: list List-Id: automatic DPDK test reports List-Unsubscribe: , List-Archive: List-Post: List-Help: List-Subscribe: , Errors-To: test-report-bounces@dpdk.org _Testing PASS_ Branch: tags/v23.11 62f583c49bf67dd4d6733ece14e55fe6839e66d1 --> testing pass Upstream job id: Windows-Compile-DPDK-VS#7214 Test environment and result as below: +---------------------+--------------------+-------------------+ | Environment | dpdk_meson_compile | dpdk_msvc_compile | +=====================+====================+===================+ | Ubuntu 20.04 | PASS | SKIPPED | +---------------------+--------------------+-------------------+ | FreeBSD 14.2 | PASS | SKIPPED | +---------------------+--------------------+-------------------+ | Windows Server 2022 | SKIPPED | PASS | +---------------------+--------------------+-------------------+ Ubuntu 20.04 Kernel: 4.19 Compiler: gcc gcc (Ubuntu 9.4.0-1ubuntu1~20.04.2) 9.4.0 FreeBSD 14.2 Kernel: 14.2-RELEASE Compiler: clang 18.1.6 Windows Server 2022 Kernel: 10.0.20348.2031 Compiler: clang 15.0.7, gcc 14.1.0 (MinGW), and MSVC VS 19.39.33521 To view detailed results, visit: https://lab.dpdk.org/results/dashboard/tarballs/35228/ UNH-IOL DPDK Community Lab To manage your email subscriptions, visit: https://lab.dpdk.org/results/dashboard/preferences/subscriptions/