From mboxrd@z Thu Jan 1 00:00:00 1970 Return-Path: Received: from mails.dpdk.org (mails.dpdk.org [217.70.189.124]) by inbox.dpdk.org (Postfix) with ESMTP id CF49B4894A for ; Thu, 16 Oct 2025 07:00:40 +0200 (CEST) Received: from mails.dpdk.org (localhost [127.0.0.1]) by mails.dpdk.org (Postfix) with ESMTP id 875B040269; Thu, 16 Oct 2025 07:00:40 +0200 (CEST) Received: from mail-qk1-f226.google.com (mail-qk1-f226.google.com [209.85.222.226]) by mails.dpdk.org (Postfix) with ESMTP id 01DB740269 for ; Thu, 16 Oct 2025 07:00:39 +0200 (CEST) Received: by mail-qk1-f226.google.com with SMTP id af79cd13be357-88e456972d5so67682585a.3 for ; Wed, 15 Oct 2025 22:00:39 -0700 (PDT) DKIM-Signature: v=1; a=rsa-sha256; c=relaxed/relaxed; d=iol.unh.edu; s=unh-iol; t=1760590839; x=1761195639; darn=dpdk.org; h=references:in-reply-to:cc:to:from:subject:message-id:date:from:to :cc:subject:date:message-id:reply-to; bh=xsc8yadD1MI1ifogT1bcFoDBwxc0jBU6GL9vkxwiRI0=; b=Gn4iSIi+BTbgxc9LdKI20E8pi9EsWlSSmAvOvjNpK0AXCLF4BsOZLlkeSskm8aMIWr wdl11MysR2WtmjPX+h5/oIKwdNrx3a39bQ1gtjnHc1bnut29ZBO6AhCat3r3IPnX9WAu uFxgevmD4OxZK9vKeTC3vdFfjRjwGT2XPB9O0= X-Google-DKIM-Signature: v=1; a=rsa-sha256; c=relaxed/relaxed; d=1e100.net; s=20230601; t=1760590839; x=1761195639; h=references:in-reply-to:cc:to:from:subject:message-id:date :x-gm-message-state:from:to:cc:subject:date:message-id:reply-to; bh=xsc8yadD1MI1ifogT1bcFoDBwxc0jBU6GL9vkxwiRI0=; b=NNS3HIJxKFOIJhkKN1pg1WJZcP8NKcoEmX3qIyVRa1M14chMDwM5Wx9C3vnenzw/d+ P10dwQTdBElmbh/83NuHDm1PjrvFGdhWwhwnmEuSx8Bea2RR6i3xP+BHJ3+2/y3JcPKN 0q4G3q20v7OAftH8URN7CTEuf6IysXfX7LSYnPRtSXsPM+NMdTq9v+V4eVoAGcztLWyf DM5t5Sdnu3hELmKfGlnt28AIPefA7ZRNkYm8fGJfa4YyBYLC5xk0KUgW+uzPnFWKqtfP JEXo8nCosLxlMQ+tMsokszlbSIv8wChysZPokcCCHMBJXn9d13MNkMuVZf0RXB1dwW+T xFqQ== X-Gm-Message-State: AOJu0Yzopa3NPOcfT7NZibR5QIQMzeeCvZ2fnKuju7RPtEsAV/7scyEn XuqGZVCA/39QLUhtohjSdVBP0KIpSvMsXP34EoQCC541wuPFMtSW+W2E5ihCkbzuILtB1RA8sht 4FOylRiCE9NwqCKaq6HMTEplHrrMHZZqDAfWtzeeOvO7G X-Gm-Gg: ASbGncvgzQcr+seCJ8xGDhiBeQvdktYZ3tereo8zoGfjQjLdeW7ldeTDfeb8LW0NXN4 zmEueLH9hL2nUOTH5gFgKu0utj2hOQBfwT2vtbBZIBp3jFCmHL54oVdp2QJ0IYs+GxO3vkuADi+ BqF4ATxhMMJs+s5908BHA7V+88GaocfakNbuGoAJR9F00ohHXoMcziYjS1bT4o1G5VJpp4pqmG9 bIS3iw5oWMT/i4FkKOt6bqzD3M3PqIGnLb6zqUP45vKeBc1/BQwnU/o1lOGfGyLhwyPkLNIePHR r+a/dddz3z9vAMyCq9A4FXVr82dngfFD+BeJiOP9KLWKUhVAC9SlgbPMUAsPaBEvzWUC06k1Adx TAYz85JODNQ6KMaaLK1NWnnLbbmAKmVM= X-Google-Smtp-Source: AGHT+IEqAAvotX92+1ygIUTfVWz3IAVDV8FkBzDgV2QWB1cxNTkF5xs/gelAsZjNffuZ4qUvnFex2hESN1Of X-Received: by 2002:a05:620a:a901:b0:886:17fb:9436 with SMTP id af79cd13be357-88617fb9445mr2550001385a.71.1760590839036; Wed, 15 Oct 2025 22:00:39 -0700 (PDT) Received: from postal.iol.unh.edu (postal.iol.unh.edu. [132.177.123.84]) by smtp-relay.gmail.com with ESMTPS id af79cd13be357-88f3587447bsm10817485a.2.2025.10.15.22.00.38 (version=TLS1_2 cipher=ECDHE-ECDSA-AES128-GCM-SHA256 bits=128/128); Wed, 15 Oct 2025 22:00:39 -0700 (PDT) X-Relaying-Domain: iol.unh.edu Date: Wed, 15 Oct 2025 22:00:39 -0700 (PDT) Message-ID: <68f07bf7.050a0220.1c3869.69e2SMTPIN_ADDED_MISSING@mx.google.com> Received: from [172.21.0.3] (unknown [172.18.0.240]) by postal.iol.unh.edu (Postfix) with ESMTP id 84A566051830; Thu, 16 Oct 2025 01:00:37 -0400 (EDT) Subject: |SUCCESS| pw157695-157696 [PATCH] [v6,4/4] dma/hisi_acc: add doc From: dpdklab@iol.unh.edu To: Test Report Cc: dpdk-test-reports@iol.unh.edu In-Reply-To: <20251016025318.14333-5-fengchengwen@huawei.com> References: <20251016025318.14333-5-fengchengwen@huawei.com> Content-Type: text/plain X-BeenThere: test-report@dpdk.org X-Mailman-Version: 2.1.29 Precedence: list List-Id: automatic DPDK test reports List-Unsubscribe: , List-Archive: List-Post: List-Help: List-Subscribe: , Errors-To: test-report-bounces@dpdk.org Test-Label: iol-compile-amd64-testing Test-Status: SUCCESS http://dpdk.org/patch/157696 _Testing PASS_ Submitter: Chengwen Feng Date: Thursday, October 16 2025 02:53:18 DPDK git baseline: Repo:dpdk Branch: master CommitID:16f4c522003dcfecf23c8d38e009b95a3bbefd03 157695-157696 --> testing pass Upstream job id: Windows-Compile-DPDK-Native#31658 Test environment and result as below: +---------------------+--------------------+-------------------+-------------------------+----------------------+ | Environment | dpdk_meson_compile | dpdk_msvc_compile | dpdk_llvm_clang_compile | dpdk_mingw64_compile | +=====================+====================+===================+=========================+======================+ | Ubuntu 20.04 | PASS | SKIPPED | SKIPPED | SKIPPED | +---------------------+--------------------+-------------------+-------------------------+----------------------+ | FreeBSD 14.2 | PASS | SKIPPED | SKIPPED | SKIPPED | +---------------------+--------------------+-------------------+-------------------------+----------------------+ | Windows Server 2022 | SKIPPED | PASS | PASS | PASS | +---------------------+--------------------+-------------------+-------------------------+----------------------+ Ubuntu 20.04 Kernel: 4.19 Compiler: gcc gcc (Ubuntu 9.4.0-1ubuntu1~20.04.2) 9.4.0 FreeBSD 14.2 Kernel: 14.2-RELEASE Compiler: clang 18.1.6 Windows Server 2022 Kernel: 10.0.20348.2031 Compiler: clang 15.0.7, gcc 14.1.0 (MinGW), and MSVC VS 19.39.33521 To view detailed results, visit: https://lab.dpdk.org/results/dashboard/patchsets/34293/ UNH-IOL DPDK Community Lab To manage your email subscriptions, visit: https://lab.dpdk.org/results/dashboard/preferences/subscriptions/