From mboxrd@z Thu Jan 1 00:00:00 1970 Return-Path: Received: from mails.dpdk.org (mails.dpdk.org [217.70.189.124]) by inbox.dpdk.org (Postfix) with ESMTP id 867034894A for ; Thu, 16 Oct 2025 07:09:51 +0200 (CEST) Received: from mails.dpdk.org (localhost [127.0.0.1]) by mails.dpdk.org (Postfix) with ESMTP id 7F77440269; Thu, 16 Oct 2025 07:09:51 +0200 (CEST) Received: from mail-oa1-f100.google.com (mail-oa1-f100.google.com [209.85.160.100]) by mails.dpdk.org (Postfix) with ESMTP id 9A65C40269 for ; Thu, 16 Oct 2025 07:09:50 +0200 (CEST) Received: by mail-oa1-f100.google.com with SMTP id 586e51a60fabf-3c9660aaa13so327627fac.1 for ; Wed, 15 Oct 2025 22:09:50 -0700 (PDT) DKIM-Signature: v=1; a=rsa-sha256; c=relaxed/relaxed; d=iol.unh.edu; s=unh-iol; t=1760591390; x=1761196190; darn=dpdk.org; h=cc:to:from:subject:message-id:date:from:to:cc:subject:date :message-id:reply-to; bh=cjkay2AAJed2FxrvKTl2V3iqUNLFJSpJwzqISKbljpc=; b=J0S2sf44pvnRD40K4glnAZ6KzCzPvlTg8G3I+AdKTmIAd78oq4w4QXk1aQOBROcqiU nH70Jt9qLxF9/q30Y2STfEnEqrWWB3iVs9naLPYVSHzOMa3m6lDpA2hHWVk7cdc6OzBr W2kwCJd0TV5/eRL8SYTw6FUFPBsNGB6/W7fdM= X-Google-DKIM-Signature: v=1; a=rsa-sha256; c=relaxed/relaxed; d=1e100.net; s=20230601; t=1760591390; x=1761196190; h=cc:to:from:subject:message-id:date:x-gm-message-state:from:to:cc :subject:date:message-id:reply-to; bh=cjkay2AAJed2FxrvKTl2V3iqUNLFJSpJwzqISKbljpc=; b=WTrbJLiYyskaaHjafrRYnqXgWVb4VTZK+2fkQ4cx8DKWB+cwh6Y6yh42CVUfYo+uVs LEmM3sSZn7kp73pMdzVG/5filzqQYnSagVDGfRjnQNzF8R0pdmen36CynebUXLqqydxd Nol7joylhgmmPo2D5Q2lhyYYRKGrkwCBf5POXoP8vcqtGZa7EiC5Vkv/graGGEE0qyID ZesnPH+DIgavJaq19qW7/ipDkqyL2+YPXrqZ0H8yMalH4d/sVr/cGdjRSqiW0hTuV4nZ 8auObxn2ILCsXGS/GtXTkkaELY3UqVdkwRxEnmnD9pc90RTMwosucSU1HNsUZcs59bA3 br4A== X-Gm-Message-State: AOJu0YyKc792xkI635iN88LYJmebtSEyYef2+si86hPRmEwTD0ic7TXl kKl0EVGXVsDeoX/QXZTmNVBqOsmghkNnWY84lzX6IoHmFp+BHHErCdk6TShhP+xmv/hUeRQQVBU UYWjji3dMe76mckHtNs2lkiIaTsz05W0LjfyR X-Gm-Gg: ASbGncuIhDmaNrQDNLczNst81eawus62+gm9COF9OKzXeP6uRZNjt/Jll2h8qBb/HDI /80GQ8k/YUoRL5W0Y0GsDz1c/tUHwgX2Jnx5m1EyXpaxt/FqujFvEBjS5w/+kih3gTLneYP754k wbEEvCjAmAUc4mBcBRhOgpJmfrn/co5lWfiBcgaf7TU+cghxAEFb8aLRakARsDAeLG8nkZXc64g /B0Ql8AUutcDzakVURZxWSBa5tdmBkCVfUDnEFCF5HOq/m2bNbqQOhkgd/KGFcvKbBsZ4fSGgTJ U82M4eih544Ja+aR9XXHjDclsS0dB21wog9d4cXI2n/1eNGP+jV1dj6ukqm1ZJ37bHtvX4y7dwH /UUy3QIsp7yf7YJDNBVCjYbJHGX0ZUT4= X-Google-Smtp-Source: AGHT+IHJ6ugbnI+TQq3Epre81Pjcfuma9v4eYAJKJBGbAKVKGLHtDrD1y2iw0BREzcuZ+ABZIuY5H62Zt7gx X-Received: by 2002:a05:6870:704c:20b0:3c2:597d:8970 with SMTP id 586e51a60fabf-3c2597d9d26mr11522235fac.10.1760591389824; Wed, 15 Oct 2025 22:09:49 -0700 (PDT) Received: from postal.iol.unh.edu (postal.iol.unh.edu. [132.177.123.84]) by smtp-relay.gmail.com with ESMTPS id 586e51a60fabf-3c8c8efd3c7sm1454342fac.17.2025.10.15.22.09.49 (version=TLS1_2 cipher=ECDHE-ECDSA-AES128-GCM-SHA256 bits=128/128); Wed, 15 Oct 2025 22:09:49 -0700 (PDT) X-Relaying-Domain: iol.unh.edu Date: Wed, 15 Oct 2025 22:09:49 -0700 (PDT) Message-ID: <68f07e1d.050a0220.3c2bc8.89a2SMTPIN_ADDED_MISSING@mx.google.com> Received: from [172.21.0.3] (unknown [172.18.0.240]) by postal.iol.unh.edu (Postfix) with ESMTP id 55ECC6051830; Thu, 16 Oct 2025 01:09:49 -0400 (EDT) Subject: |SUCCESS| [GIT MASTER] b287e404643aeab5bb5db084c142789df187844e From: dpdklab@iol.unh.edu To: Test Report Cc: dpdk-test-reports@iol.unh.edu, Xueming Li , Christian Ehrhardt , Kevin Traynor , Luca Boccassi Content-Type: text/plain X-BeenThere: test-report@dpdk.org X-Mailman-Version: 2.1.29 Precedence: list List-Id: automatic DPDK test reports List-Unsubscribe: , List-Archive: List-Post: List-Help: List-Subscribe: , Errors-To: test-report-bounces@dpdk.org _Testing PASS_ Branch: tags/v24.11 b287e404643aeab5bb5db084c142789df187844e --> testing pass Upstream job id: Windows-Compile-DPDK-Native#31659 Test environment and result as below: +---------------------+--------------------+-------------------+-------------------------+ | Environment | dpdk_meson_compile | dpdk_msvc_compile | dpdk_llvm_clang_compile | +=====================+====================+===================+=========================+ | Ubuntu 20.04 | PASS | SKIPPED | SKIPPED | +---------------------+--------------------+-------------------+-------------------------+ | FreeBSD 14.2 | PASS | SKIPPED | SKIPPED | +---------------------+--------------------+-------------------+-------------------------+ | Windows Server 2022 | SKIPPED | PASS | PASS | +---------------------+--------------------+-------------------+-------------------------+ Ubuntu 20.04 Kernel: 4.19 Compiler: gcc gcc (Ubuntu 9.4.0-1ubuntu1~20.04.2) 9.4.0 FreeBSD 14.2 Kernel: 14.2-RELEASE Compiler: clang 18.1.6 Windows Server 2022 Kernel: 10.0.20348.2031 Compiler: clang 15.0.7, gcc 14.1.0 (MinGW), and MSVC VS 19.39.33521 To view detailed results, visit: https://lab.dpdk.org/results/dashboard/tarballs/35229/ UNH-IOL DPDK Community Lab To manage your email subscriptions, visit: https://lab.dpdk.org/results/dashboard/preferences/subscriptions/