From mboxrd@z Thu Jan 1 00:00:00 1970 Return-Path: Received: from mails.dpdk.org (mails.dpdk.org [217.70.189.124]) by inbox.dpdk.org (Postfix) with ESMTP id 9BA324894A for ; Thu, 16 Oct 2025 07:10:15 +0200 (CEST) Received: from mails.dpdk.org (localhost [127.0.0.1]) by mails.dpdk.org (Postfix) with ESMTP id 9739140269; Thu, 16 Oct 2025 07:10:15 +0200 (CEST) Received: from mail-oa1-f98.google.com (mail-oa1-f98.google.com [209.85.160.98]) by mails.dpdk.org (Postfix) with ESMTP id 8149D40269 for ; Thu, 16 Oct 2025 07:10:14 +0200 (CEST) Received: by mail-oa1-f98.google.com with SMTP id 586e51a60fabf-38627e78203so233000fac.0 for ; Wed, 15 Oct 2025 22:10:14 -0700 (PDT) DKIM-Signature: v=1; a=rsa-sha256; c=relaxed/relaxed; d=iol.unh.edu; s=unh-iol; t=1760591414; x=1761196214; darn=dpdk.org; h=references:in-reply-to:cc:to:from:subject:message-id:date:from:to :cc:subject:date:message-id:reply-to; bh=6EWZYxuoJNiLrwB58/JSGg8T4qzyXW/Wi6xXAfnIuXg=; b=ZDrDovJBMYlb1TWNWVWN5ccbfMhS66Rk7tyy3/KQD/iS+I1bqXGeowcJ5Dz8sYamZO H6ZVIZIqaX/8S2sWjlohbrWANhVohfNMjcL58YxL5PWEVlewlR/JdsOz+uDSaUuUfxSU iWMEEUGkdpWCiPA17vM7cmk+K8nguH1W4J12I= X-Google-DKIM-Signature: v=1; a=rsa-sha256; c=relaxed/relaxed; d=1e100.net; s=20230601; t=1760591414; x=1761196214; h=references:in-reply-to:cc:to:from:subject:message-id:date :x-gm-message-state:from:to:cc:subject:date:message-id:reply-to; bh=6EWZYxuoJNiLrwB58/JSGg8T4qzyXW/Wi6xXAfnIuXg=; b=IiLweQwKfNZuYj7npoCoI0p0NvOopoPvwah3JE0Gsaab/tD9qpijobEEAYCIV/NVss hvNput6iqyIACX8x6SE7FEW6ydore0SYhQ03Wi+Xs3isF5fe3ul546lFxBT23ILf5d2x /usogZy+QIvuzwoFe+h0RX16T53oz8c9j4RskzUpniQuvLO6Vuw+LMVFVY1hex6Fj03U Da1fCiKbfGZ3UPqUM1htT9IefShRRdC3EP4o3Dep0hp0HCJWRmsRYtcmyY2+biiRGzhY PGYZ96KKbAvN4zslnWWAOU10HoB9V0521UJ1yGmDTYDP15/hxWaSV4YhUO4YrLIlapI6 d0rA== X-Gm-Message-State: AOJu0YwOrtV1iXr9ulRP2NCT58ZDDMazO6cA4zRPZuCSTBU2VOzOBAiK 7fz4/GnH93b+byxb6Mdqk2IzeCorAX6OtiVUmmhyh9RSIpHXFywnPCn5ugGWN3Y+8od6cOkZpIM cFER1eSt7J1OMf+nZlQR1lVi72pxIrjbDkly9/urBJLHgie0z4Zdq2b2wkaiw X-Gm-Gg: ASbGnctRW+7UkVBXAJQ3/SGYk+Yz+6nbZM31QzgeQIQ7JD11ApENlNZxBV12AtSFSRo xmCuRXqzuOOo883zEOF2V2v6c+TbUhDDcwaZeKaPnen97vRiAB9SARWVNTgqJ19cAXUdakrWWPK y2nh2I6asRAWe3DHyug8iNipB+AWIzS9KZ6nLICQj8uYNrzwVKIHrAbvXW4w5O7KlDP2kRoI5Nf 55YtCe6nJ7sVB9NGhjxaayy0velq7aUqDimgRYybLkWmBdkXy0sjbw92KbeZ5HFy5Ne+xB3YE5G SLWN64iQBAXapA/vBgAwIipj+XWeI9T7jUE/fEw99dMZaE/vkS7JPO8LEc5pw/v5FArjrjUjEtl zZliXdY89 X-Google-Smtp-Source: AGHT+IGW4hLspAZG25yWccyK2aT8O2GHsX6f4kCF+hcmO+yfnn5SFmrOxFJBTFe+cgiO+FP7dv/XJDboWDwQ X-Received: by 2002:a05:6870:e303:b0:344:5013:4bfc with SMTP id 586e51a60fabf-3c0fb62a647mr14850838fac.43.1760591413850; Wed, 15 Oct 2025 22:10:13 -0700 (PDT) Received: from postal.iol.unh.edu (postal.iol.unh.edu. [2606:4100:3880:1234::84]) by smtp-relay.gmail.com with ESMTPS id 586e51a60fabf-3c8c8b7eda7sm1582493fac.7.2025.10.15.22.10.13 (version=TLS1_2 cipher=ECDHE-ECDSA-AES128-GCM-SHA256 bits=128/128); Wed, 15 Oct 2025 22:10:13 -0700 (PDT) X-Relaying-Domain: iol.unh.edu Date: Wed, 15 Oct 2025 22:10:13 -0700 (PDT) Message-ID: <68f07e35.050a0220.ef650.dc5aSMTPIN_ADDED_MISSING@mx.google.com> Received: from [172.21.0.2] (unknown [172.18.0.240]) by postal.iol.unh.edu (Postfix) with ESMTP id 62E3C6051830; Thu, 16 Oct 2025 01:10:13 -0400 (EDT) Subject: |SUCCESS| pw157695-157696 [PATCH] [v6,4/4] dma/hisi_acc: add doc From: dpdklab@iol.unh.edu To: Test Report Cc: dpdk-test-reports@iol.unh.edu In-Reply-To: <20251016025318.14333-5-fengchengwen@huawei.com> References: <20251016025318.14333-5-fengchengwen@huawei.com> Content-Type: text/plain X-BeenThere: test-report@dpdk.org X-Mailman-Version: 2.1.29 Precedence: list List-Id: automatic DPDK test reports List-Unsubscribe: , List-Archive: List-Post: List-Help: List-Subscribe: , Errors-To: test-report-bounces@dpdk.org Test-Label: iol-unit-amd64-testing Test-Status: SUCCESS http://dpdk.org/patch/157696 _Testing PASS_ Submitter: Chengwen Feng Date: Thursday, October 16 2025 02:53:18 DPDK git baseline: Repo:dpdk Branch: master CommitID:16f4c522003dcfecf23c8d38e009b95a3bbefd03 157695-157696 --> testing pass Upstream job id: Generic-VM-Unit-Test-DPDK#31829 Test environment and result as below: +-------------------------------+----------------+ | Environment | dpdk_unit_test | +===============================+================+ | Debian GNU/Linux 12 | PASS | +-------------------------------+----------------+ | CentOS Stream 10 | PASS | +-------------------------------+----------------+ | CentOS Stream 9 | PASS | +-------------------------------+----------------+ | Fedora Linux 40 | PASS | +-------------------------------+----------------+ | Fedora Linux 42 | PASS | +-------------------------------+----------------+ | Fedora Linux 41 | PASS | +-------------------------------+----------------+ | Red Hat Enterprise Linux 9.5 | PASS | +-------------------------------+----------------+ | Red Hat Enterprise Linux 8.10 | PASS | +-------------------------------+----------------+ | Ubuntu 24.04 | PASS | +-------------------------------+----------------+ | Ubuntu 20.04 | PASS | +-------------------------------+----------------+ | Ubuntu 22.04 | PASS | +-------------------------------+----------------+ | Windows Server 2022 | PASS | +-------------------------------+----------------+ Debian GNU/Linux 12 Kernel: 5.15 Compiler: gcc gcc (Debian 12.2.0-14+deb12u1) 12.2.0 CentOS Stream 10 Kernel: 5.15 Compiler: gcc gcc (GCC) 14.2.1 20250110 (Red Hat 14.2.1-8) CentOS Stream 9 Kernel: 5.15 Compiler: gcc gcc (GCC) 11.5.0 20240719 (Red Hat 11.5.0-11) Fedora Linux 40 Kernel: 5.15 Compiler: gcc gcc (GCC) 14.2.1 20240912 (Red Hat 14.2.1-3) Fedora Linux 42 Kernel: 5.15 Compiler: gcc gcc (GCC) 15.2.1 20250808 (Red Hat 15.2.1-1) Fedora Linux 41 Kernel: 5.15 Compiler: gcc gcc (GCC) 14.3.1 20250523 (Red Hat 14.3.1-1) Red Hat Enterprise Linux 9.5 Kernel: 5.15 Compiler: gcc gcc (GCC) 11.5.0 20240719 (Red Hat 11.5.0-2) Red Hat Enterprise Linux 8.10 Kernel: 5.15 Compiler: gcc gcc (GCC) 8.5.0 20210514 (Red Hat 8.5.0-22) Ubuntu 24.04 Kernel: 5.15 Compiler: gcc gcc (Ubuntu 13.3.0-6ubuntu2~24.04) 13.3.0 Ubuntu 20.04 Kernel: 5.15 Compiler: gcc gcc (Ubuntu 9.4.0-1ubuntu1~20.04.2) 9.4.0 Ubuntu 22.04 Kernel: 5.15 Compiler: gcc gcc (Ubuntu 11.4.0-1ubuntu1~22.04) 11.4.0 Windows Server 2022 Kernel: 10.0.20348.2031 Compiler: clang 15.0.7, gcc 14.1.0 (MinGW), and MSVC VS 19.39.33521 To view detailed results, visit: https://lab.dpdk.org/results/dashboard/patchsets/34293/ UNH-IOL DPDK Community Lab To manage your email subscriptions, visit: https://lab.dpdk.org/results/dashboard/preferences/subscriptions/