From mboxrd@z Thu Jan 1 00:00:00 1970 Return-Path: Received: from mails.dpdk.org (mails.dpdk.org [217.70.189.124]) by inbox.dpdk.org (Postfix) with ESMTP id E75624894A for ; Thu, 16 Oct 2025 07:40:29 +0200 (CEST) Received: from mails.dpdk.org (localhost [127.0.0.1]) by mails.dpdk.org (Postfix) with ESMTP id C6E0E40269; Thu, 16 Oct 2025 07:40:29 +0200 (CEST) Received: from mail-il1-f226.google.com (mail-il1-f226.google.com [209.85.166.226]) by mails.dpdk.org (Postfix) with ESMTP id 2EC4B40269 for ; Thu, 16 Oct 2025 07:40:28 +0200 (CEST) Received: by mail-il1-f226.google.com with SMTP id e9e14a558f8ab-430b621ec08so3400505ab.0 for ; Wed, 15 Oct 2025 22:40:28 -0700 (PDT) DKIM-Signature: v=1; a=rsa-sha256; c=relaxed/relaxed; d=iol.unh.edu; s=unh-iol; t=1760593227; x=1761198027; darn=dpdk.org; h=cc:to:from:subject:message-id:date:from:to:cc:subject:date :message-id:reply-to; bh=SED2/X4xTweqWay4x0LOrJgTe5lh+bdulyTfY2wNaNA=; b=VTeGbBhuoUQ40l+lkdGvhqjWOxfoO12DlXktl63gMKFONEZTd0hj9kJWIV+DmDvswa auNBQLQpVfV5skU/9plM2trA+4VlcPApsGf6o6hNEGyOJOi6PJgZwzkX2gN/dO9Vzo6g +sxJEC7hRfYaBrcA7RfycqLEYbujjxpKjFyis= X-Google-DKIM-Signature: v=1; a=rsa-sha256; c=relaxed/relaxed; d=1e100.net; s=20230601; t=1760593227; x=1761198027; h=cc:to:from:subject:message-id:date:x-gm-message-state:from:to:cc :subject:date:message-id:reply-to; bh=SED2/X4xTweqWay4x0LOrJgTe5lh+bdulyTfY2wNaNA=; b=Jn/xEJwrxv2NL9EVad9aYmVbkvICReaPph35342VRV+ljMxv+LhZSpVay/AjycJqJ2 KU4AkL4Zy9jH2S1f33MgK3p5Vu8T/N88gOGVxkLVFTNcWRJhokwCKDmdfSruwZ/tgBzP e5hcB5aeTA7GHHgPPgtyIusfmsuLvzVrTmhDYxrkzp6M7NzOiMB1NfZun8L3Lz0cgM/t 5oigrwP2a9QHyEVFyHRKn/wUtBCRmIwCSIYtaqfq2N1M+ACjnKWqJNjcg8WUVSYhTTQb Y5eosnx+s3XImJp6r8whMtvGO/kq+Zw97xth0PcUBPXz+Gu2n6EzqwAJ6ozdBMQ4Gv7J wBCw== X-Gm-Message-State: AOJu0YyAR7qPzPoF/vRsfrJ24DUb54rSznDVijkwgYGbiMS91/E5nike 7ip/A2ItYv1CfqvjXFwWlBr/l/6ge9xvM2bkRr5lNODALHuyWx/wvPRkPMbC37Rk2kR8kfW7v3I LMbn3MgWp6LZlxmbNz80vsdms/lyOKxPc3ex19e56huVzP2w1kKKbhJeyRbN1 X-Gm-Gg: ASbGncusfplZQXKhj/F1o5Ov+uZbO6FOuAfm73jZ4lTeuNgiG/4RS1FkTkQTpnQ27JG 8rmdJCgg2HHIlX+yy2SMvqz0ag6fySyCKSNaRMqruB5IVPW5VRRie0bbd+zUcy2PLHtIIIVlj+Y iNnn6D5syo/lU1nDNfXDPov1oJImUGYkss2mDjtauCOMQVBRIZBTKGMm8eMN4vLXhY6EU3OSbrd KXAsWfV0E4Zma/RvBm4c7SR3LnlyMmnKm2G0x/894PStvt6Qnoq/XdBxQRN43RrRxnzDWsdLh31 UCNdD7+kCjFb7zVj42bHc9gyQ/+3OgLnn+JB3+7p4hTavqnjhKOPjbLQZamECDrS8AFvRMf9r0f li7t3U0u1 X-Google-Smtp-Source: AGHT+IGegWyLcIx5M7Hcle5YSozLRiXg9zGAiph4deQ8xCxh2h34Ab3gtLhl7MpEKl6esZYNLqJdK8HBjODq X-Received: by 2002:a92:c245:0:b0:430:ad76:a5d3 with SMTP id e9e14a558f8ab-430ad76a63bmr61779875ab.11.1760593227465; Wed, 15 Oct 2025 22:40:27 -0700 (PDT) Received: from postal.iol.unh.edu (postal.iol.unh.edu. [2606:4100:3880:1234::84]) by smtp-relay.gmail.com with ESMTPS id 8926c6da1cb9f-58f71469ae0sm1404112173.27.2025.10.15.22.40.27 (version=TLS1_2 cipher=ECDHE-ECDSA-AES128-GCM-SHA256 bits=128/128); Wed, 15 Oct 2025 22:40:27 -0700 (PDT) X-Relaying-Domain: iol.unh.edu Date: Wed, 15 Oct 2025 22:40:27 -0700 (PDT) Message-ID: <68f0854b.050a0220.d229b.60e0SMTPIN_ADDED_MISSING@mx.google.com> Received: from [172.21.0.2] (unknown [172.18.0.240]) by postal.iol.unh.edu (Postfix) with ESMTP id 0D4C86051830; Thu, 16 Oct 2025 01:40:27 -0400 (EDT) Subject: |SUCCESS| [GIT MASTER] a62b0fbf8e367c88d28d78210db1b28c8eac4b1b From: dpdklab@iol.unh.edu To: Test Report Cc: dpdk-test-reports@iol.unh.edu, Chenbo Xia , Maxime Coquelin Content-Type: text/plain X-BeenThere: test-report@dpdk.org X-Mailman-Version: 2.1.29 Precedence: list List-Id: automatic DPDK test reports List-Unsubscribe: , List-Archive: List-Post: List-Help: List-Subscribe: , Errors-To: test-report-bounces@dpdk.org _Testing PASS_ Branch: dpdk-next-virtio a62b0fbf8e367c88d28d78210db1b28c8eac4b1b --> testing pass Upstream job id: Windows-Compile-DPDK-VS#7215 Test environment and result as below: +---------------------+--------------------+-------------------+ | Environment | dpdk_meson_compile | dpdk_msvc_compile | +=====================+====================+===================+ | FreeBSD 14.2 | PASS | SKIPPED | +---------------------+--------------------+-------------------+ | Ubuntu 20.04 | PASS | SKIPPED | +---------------------+--------------------+-------------------+ | Windows Server 2022 | SKIPPED | PASS | +---------------------+--------------------+-------------------+ FreeBSD 14.2 Kernel: 14.2-RELEASE Compiler: clang 18.1.6 Ubuntu 20.04 Kernel: 4.19 Compiler: gcc gcc (Ubuntu 9.4.0-1ubuntu1~20.04.2) 9.4.0 Windows Server 2022 Kernel: 10.0.20348.2031 Compiler: clang 15.0.7, gcc 14.1.0 (MinGW), and MSVC VS 19.39.33521 To view detailed results, visit: https://lab.dpdk.org/results/dashboard/tarballs/35230/ UNH-IOL DPDK Community Lab To manage your email subscriptions, visit: https://lab.dpdk.org/results/dashboard/preferences/subscriptions/