From mboxrd@z Thu Jan 1 00:00:00 1970 Return-Path: Received: from mails.dpdk.org (mails.dpdk.org [217.70.189.124]) by inbox.dpdk.org (Postfix) with ESMTP id F197C4894A for ; Thu, 16 Oct 2025 07:41:48 +0200 (CEST) Received: from mails.dpdk.org (localhost [127.0.0.1]) by mails.dpdk.org (Postfix) with ESMTP id ECA9D40269; Thu, 16 Oct 2025 07:41:48 +0200 (CEST) Received: from mail-il1-f225.google.com (mail-il1-f225.google.com [209.85.166.225]) by mails.dpdk.org (Postfix) with ESMTP id 0432540269 for ; Thu, 16 Oct 2025 07:41:47 +0200 (CEST) Received: by mail-il1-f225.google.com with SMTP id e9e14a558f8ab-4242bb22132so3153935ab.3 for ; Wed, 15 Oct 2025 22:41:46 -0700 (PDT) DKIM-Signature: v=1; a=rsa-sha256; c=relaxed/relaxed; d=iol.unh.edu; s=unh-iol; t=1760593306; x=1761198106; darn=dpdk.org; h=cc:to:from:subject:message-id:date:from:to:cc:subject:date :message-id:reply-to; bh=piZqBu+z0+dSjw105glsvzMgEEOm2NJfElahu9KJoIQ=; b=LhzTilw7G8zKh6rRH26GnXkjTVY/foTC6M7TnjV5X4WFN55YdoVm29xGISfVuDh9bK MRzny8Bzu21ozQfrdpbkYfxKwKkh2q6aqJSJ73Pm6SD2bSGECjZm5Ay2wciOOZgmcXt0 V5ddK/VhxaiBgXPSypAGams3cyxAwtVsZhAGo= X-Google-DKIM-Signature: v=1; a=rsa-sha256; c=relaxed/relaxed; d=1e100.net; s=20230601; t=1760593306; x=1761198106; h=cc:to:from:subject:message-id:date:x-gm-message-state:from:to:cc :subject:date:message-id:reply-to; bh=piZqBu+z0+dSjw105glsvzMgEEOm2NJfElahu9KJoIQ=; b=ajvV9rlvO9dtbel/5EHMCrMwunowXP0c3gQmPBuyTTBfwEg0XvUo6gnmZkYKO2Z7QV jSdcpwUiabg6xkm4283PZiABnu1BlVQBCulWA7L32o4kdw1Dh6vzmh8iQwWbP8DVPjUS O1NP8T3a8uYUmgOR6cbkzxzkzoVQjR46ncC4r6GlCK9ijnIM/F5x4mKCxd+wd2GigF5k FKN+2koK6kR7fYC6Dli71XSr3XPgVwnA/gmit/mHTT5RHaWz8kcBKFFd1FIzxLDh+VXA 80AE38tDZdykf0oHtWozyql/G1kvfLeWfU+RjyfKA09h/21RQhPrl+v2DDjlFAaQ7wbu OpOg== X-Gm-Message-State: AOJu0Yw7XPy4efSkZaT0NqFJsuS3/GD9BTEw6kHzJdmy+RCMDIscQsbf 8rv6Asw6VTVLsLsvUHG/CVJ4BNUYeqTSUKTS4S6zFWxqgyF6nt/xKp2m6y1Gw6S+lKefXtFiNME veKJiFIb1+I/xliu486E6CbIU80UkdyUCJpzT X-Gm-Gg: ASbGncvLNI3D0KfHgaDgzVsVzPCy1ItVcMcA4Fy92SACYDz51iWIZVUIj4wNKvccg8c LFmPJ8dmGce/I2T17gJ5KVYmQ+yTX5ttIX3FsOddmWopkWWIi0NF71JMQQi5KXUysRIMFFwKtye RylDrOtkw5FoScCzwd06B2Vg9gQ8J+G8JbrR5m2a8tehintX5zCPKSHX92aXOvxsIEJxgtDzdHL NZtzcN8hr5Ap/F8UG7E+P7FLp/jZYLYW5kzcbQHXXdKy7Eg7G1xg7baH4OMjm36QDg5PSw3eJB+ i9ApgV+lX0DYGu+s+q8bfaaB/jzCW9mxpCOBUpidaW7HyKGPA7hii//aFFXiBqwUwsS4zjV6DDd JLRo8uAzENvmRjlNWSgPanSRixMlgCIg= X-Google-Smtp-Source: AGHT+IEnE6EwlwrQDnIeAox74Ms8Nv09wTGv/i09f21ebZ22WPgzu4Dhhnkipb21Cjt3pATJsBSUmASnP3If X-Received: by 2002:a05:6e02:1a09:b0:42f:946f:8eb6 with SMTP id e9e14a558f8ab-42f946f905bmr308383555ab.26.1760593306365; Wed, 15 Oct 2025 22:41:46 -0700 (PDT) Received: from postal.iol.unh.edu (postal.iol.unh.edu. [132.177.123.84]) by smtp-relay.gmail.com with ESMTPS id e9e14a558f8ab-430c1b6bf30sm11665ab.33.2025.10.15.22.41.46 (version=TLS1_2 cipher=ECDHE-ECDSA-AES128-GCM-SHA256 bits=128/128); Wed, 15 Oct 2025 22:41:46 -0700 (PDT) X-Relaying-Domain: iol.unh.edu Date: Wed, 15 Oct 2025 22:41:46 -0700 (PDT) Message-ID: <68f0859a.920a0220.1346bc.00d1SMTPIN_ADDED_MISSING@mx.google.com> Received: from [172.21.0.2] (unknown [172.18.0.240]) by postal.iol.unh.edu (Postfix) with ESMTP id EBFD06051830; Thu, 16 Oct 2025 01:41:45 -0400 (EDT) Subject: |SUCCESS| [GIT MASTER] b287e404643aeab5bb5db084c142789df187844e From: dpdklab@iol.unh.edu To: Test Report Cc: dpdk-test-reports@iol.unh.edu, Xueming Li , Christian Ehrhardt , Kevin Traynor , Luca Boccassi Content-Type: text/plain X-BeenThere: test-report@dpdk.org X-Mailman-Version: 2.1.29 Precedence: list List-Id: automatic DPDK test reports List-Unsubscribe: , List-Archive: List-Post: List-Help: List-Subscribe: , Errors-To: test-report-bounces@dpdk.org _Testing PASS_ Branch: tags/v24.11 b287e404643aeab5bb5db084c142789df187844e --> testing pass Upstream job id: Windows-Compile-DPDK-Native#31660 Test environment and result as below: +---------------------+--------------------+-------------------+-------------------------+----------------------+ | Environment | dpdk_meson_compile | dpdk_msvc_compile | dpdk_llvm_clang_compile | dpdk_mingw64_compile | +=====================+====================+===================+=========================+======================+ | Ubuntu 20.04 | PASS | SKIPPED | SKIPPED | SKIPPED | +---------------------+--------------------+-------------------+-------------------------+----------------------+ | FreeBSD 14.2 | PASS | SKIPPED | SKIPPED | SKIPPED | +---------------------+--------------------+-------------------+-------------------------+----------------------+ | Windows Server 2022 | SKIPPED | PASS | PASS | PASS | +---------------------+--------------------+-------------------+-------------------------+----------------------+ Ubuntu 20.04 Kernel: 4.19 Compiler: gcc gcc (Ubuntu 9.4.0-1ubuntu1~20.04.2) 9.4.0 FreeBSD 14.2 Kernel: 14.2-RELEASE Compiler: clang 18.1.6 Windows Server 2022 Kernel: 10.0.20348.2031 Compiler: clang 15.0.7, gcc 14.1.0 (MinGW), and MSVC VS 19.39.33521 To view detailed results, visit: https://lab.dpdk.org/results/dashboard/tarballs/35229/ UNH-IOL DPDK Community Lab To manage your email subscriptions, visit: https://lab.dpdk.org/results/dashboard/preferences/subscriptions/