From mboxrd@z Thu Jan 1 00:00:00 1970 Return-Path: Received: from mails.dpdk.org (mails.dpdk.org [217.70.189.124]) by inbox.dpdk.org (Postfix) with ESMTP id 353834894A for ; Thu, 16 Oct 2025 07:52:47 +0200 (CEST) Received: from mails.dpdk.org (localhost [127.0.0.1]) by mails.dpdk.org (Postfix) with ESMTP id 31C8540269; Thu, 16 Oct 2025 07:52:47 +0200 (CEST) Received: from mail-qv1-f99.google.com (mail-qv1-f99.google.com [209.85.219.99]) by mails.dpdk.org (Postfix) with ESMTP id 0466440269 for ; Thu, 16 Oct 2025 07:52:46 +0200 (CEST) Received: by mail-qv1-f99.google.com with SMTP id 6a1803df08f44-791fd6bffbaso6781396d6.3 for ; Wed, 15 Oct 2025 22:52:45 -0700 (PDT) DKIM-Signature: v=1; a=rsa-sha256; c=relaxed/relaxed; d=iol.unh.edu; s=unh-iol; t=1760593965; x=1761198765; darn=dpdk.org; h=cc:to:from:subject:message-id:date:from:to:cc:subject:date :message-id:reply-to; bh=dr7vtCl47bTqxGaLhlnzV5fFFEq4lBXASuEHeN+R08E=; b=StjeJmh1wvzypVoRn65zIPdY3uS66NymGjdMRTDzjK+9MD7lBKi33eeToqxmu/jpUo S6c/7uO1K8CkdeLHS1J/HwF+Srref0RQqHGeLqIE8HXnoXiWHIUxEQGrdFgIel5y4XVM Xj5NZcD6fKaRj+hOoXdgyDnQ8c8EO8Q9dmoEk= X-Google-DKIM-Signature: v=1; a=rsa-sha256; c=relaxed/relaxed; d=1e100.net; s=20230601; t=1760593965; x=1761198765; h=cc:to:from:subject:message-id:date:x-gm-message-state:from:to:cc :subject:date:message-id:reply-to; bh=dr7vtCl47bTqxGaLhlnzV5fFFEq4lBXASuEHeN+R08E=; b=Kb2qg1sW+I2/g7VljiRT4TbRfbK0W/pZ/iEB/PAQOm6a4BI4kusNDySgghvzOTpSf4 rcwhm2SYJH+UjPUauIq2D6YD3qAwL0u9Y1l0XHIRcdsNHxMBUJqFDQvpW5Z8FKkBo1ud 5qW6yA3nYBQf+Vc/kmogJHcyKj2WH69vSipZvhOEcfNbL8ydXySGnblYSqDGwLlWpuxx PMjZYAY7lqvient0HnA+fneBfr63vF/pCTRNQSLCTWVg0rc3FrX7OEVQnOaAi1Fnn6yI hE1ZkvAvrLKwjCU3naJSFL6/+CeXgUjEzoMOxWEcFy2nu0t6Oe3jOSMseOYIE8kZb4Ws 0UCw== X-Gm-Message-State: AOJu0Yx0HJZyIpg0cWp8zt4b4OUWx03FlZduNPHmW4EgONRX+/oRzzJc evSO7IGX5hh3fuT+8rvI4woDqSHZB9pf9D65VP1QvsxQovOIEgGiqZfZhYs/RFtqbmYwRyRWzO+ Z6FbEGbk+VpuliLvmc2rhcj96FosDjvNClMOFoMlxJ2KNlR78FwNz X-Gm-Gg: ASbGncsWLqD9N39itIOw8ES9UjOmuWdeeXFQUG7wwLesNWBKEW1wZq7cCpsHOFGeBrO 3zNCKX7noTy/+EQSVA3yspFfi7/dpgjSTPOqUMU2SAezElQ+mFFnPYfGTB1e5i4wTT2leL75NBl DffV4+RQEVIKuN3yqWcjy53RgUpWJUVWaQJx8BYDsRwv4fYRSEQs9QPcGwblI5YdaGYJbmoWtzY Y+AMy04hIlwBaXueXR2i0HnmbdslE7eezzQdopH2rzMohC1mVV5GJXrCBuwsSydEv/C/sLgCZp5 HAN+Qm5IiABPhdWUpYLaRR8m9685WUkKVr/hranhBC0JuWWicmpGfZAh+lbW2gO+j3KBtsPzklp zrwTfvO/X X-Google-Smtp-Source: AGHT+IFvBhIGf7uxT/EcGcVdLJlG8ij9PFB32gwF/cfasl+SiA2ufmZXH6LMOxvN+1ldcQ9LkBcHoVz+kw74 X-Received: by 2002:a05:6214:20cf:b0:811:b12a:d8ef with SMTP id 6a1803df08f44-87b2ef70cafmr406977436d6.64.1760593965358; Wed, 15 Oct 2025 22:52:45 -0700 (PDT) Received: from postal.iol.unh.edu (postal.iol.unh.edu. [2606:4100:3880:1234::84]) by smtp-relay.gmail.com with ESMTPS id 6a1803df08f44-87c01221197sm4145846d6.11.2025.10.15.22.52.45 (version=TLS1_2 cipher=ECDHE-ECDSA-AES128-GCM-SHA256 bits=128/128); Wed, 15 Oct 2025 22:52:45 -0700 (PDT) X-Relaying-Domain: iol.unh.edu Date: Wed, 15 Oct 2025 22:52:45 -0700 (PDT) Message-ID: <68f0882d.050a0220.615ba.5e69SMTPIN_ADDED_MISSING@mx.google.com> Received: from [172.21.0.2] (unknown [172.18.0.240]) by postal.iol.unh.edu (Postfix) with ESMTP id 1E3816051830; Thu, 16 Oct 2025 01:52:45 -0400 (EDT) Subject: |SUCCESS| [GIT MASTER] b287e404643aeab5bb5db084c142789df187844e From: dpdklab@iol.unh.edu To: Test Report Cc: dpdk-test-reports@iol.unh.edu, Xueming Li , Christian Ehrhardt , Kevin Traynor , Luca Boccassi Content-Type: text/plain X-BeenThere: test-report@dpdk.org X-Mailman-Version: 2.1.29 Precedence: list List-Id: automatic DPDK test reports List-Unsubscribe: , List-Archive: List-Post: List-Help: List-Subscribe: , Errors-To: test-report-bounces@dpdk.org _Testing PASS_ Branch: tags/v24.11 b287e404643aeab5bb5db084c142789df187844e --> testing pass Upstream job id: Generic-VM-Unit-Test-DPDK#31830 Test environment and result as below: +-------------------------------+----------------+ | Environment | dpdk_unit_test | +===============================+================+ | CentOS Stream 9 | PASS | +-------------------------------+----------------+ | CentOS Stream 10 | PASS | +-------------------------------+----------------+ | Debian GNU/Linux 12 | PASS | +-------------------------------+----------------+ | Fedora Linux 41 | PASS | +-------------------------------+----------------+ | Fedora Linux 40 | PASS | +-------------------------------+----------------+ | Fedora Linux 42 | PASS | +-------------------------------+----------------+ | Ubuntu 20.04 | PASS | +-------------------------------+----------------+ | Red Hat Enterprise Linux 8.10 | PASS | +-------------------------------+----------------+ | Red Hat Enterprise Linux 9.5 | PASS | +-------------------------------+----------------+ | Ubuntu 24.04 | PASS | +-------------------------------+----------------+ | Ubuntu 22.04 | PASS | +-------------------------------+----------------+ | Windows Server 2022 | PASS | +-------------------------------+----------------+ CentOS Stream 9 Kernel: 5.15 Compiler: gcc gcc (GCC) 11.5.0 20240719 (Red Hat 11.5.0-11) CentOS Stream 10 Kernel: 5.15 Compiler: gcc gcc (GCC) 14.2.1 20250110 (Red Hat 14.2.1-8) Debian GNU/Linux 12 Kernel: 5.15 Compiler: gcc gcc (Debian 12.2.0-14+deb12u1) 12.2.0 Fedora Linux 41 Kernel: 5.15 Compiler: gcc gcc (GCC) 14.3.1 20250523 (Red Hat 14.3.1-1) Fedora Linux 40 Kernel: 5.15 Compiler: gcc gcc (GCC) 14.2.1 20240912 (Red Hat 14.2.1-3) Fedora Linux 42 Kernel: 5.15 Compiler: clang gcc (GCC) 15.2.1 20250808 (Red Hat 15.2.1-1) Ubuntu 20.04 Kernel: 5.15 Compiler: gcc gcc (Ubuntu 9.4.0-1ubuntu1~20.04.2) 9.4.0 Red Hat Enterprise Linux 8.10 Kernel: 5.15 Compiler: gcc gcc (GCC) 8.5.0 20210514 (Red Hat 8.5.0-22) Red Hat Enterprise Linux 9.5 Kernel: 5.15 Compiler: gcc gcc (GCC) 11.5.0 20240719 (Red Hat 11.5.0-2) Ubuntu 24.04 Kernel: 5.15 Compiler: gcc gcc (Ubuntu 13.3.0-6ubuntu2~24.04) 13.3.0 Ubuntu 22.04 Kernel: 5.15 Compiler: gcc gcc (Ubuntu 11.4.0-1ubuntu1~22.04) 11.4.0 Windows Server 2022 Kernel: 10.0.20348.2031 Compiler: clang 15.0.7, gcc 14.1.0 (MinGW), and MSVC VS 19.39.33521 To view detailed results, visit: https://lab.dpdk.org/results/dashboard/tarballs/35229/ UNH-IOL DPDK Community Lab To manage your email subscriptions, visit: https://lab.dpdk.org/results/dashboard/preferences/subscriptions/