From mboxrd@z Thu Jan 1 00:00:00 1970 Return-Path: Received: from mails.dpdk.org (mails.dpdk.org [217.70.189.124]) by inbox.dpdk.org (Postfix) with ESMTP id C26524894A for ; Thu, 16 Oct 2025 07:58:36 +0200 (CEST) Received: from mails.dpdk.org (localhost [127.0.0.1]) by mails.dpdk.org (Postfix) with ESMTP id BD25740269; Thu, 16 Oct 2025 07:58:36 +0200 (CEST) Received: from mail-qk1-f227.google.com (mail-qk1-f227.google.com [209.85.222.227]) by mails.dpdk.org (Postfix) with ESMTP id 0C09B40B99 for ; Thu, 16 Oct 2025 07:58:33 +0200 (CEST) Received: by mail-qk1-f227.google.com with SMTP id af79cd13be357-85a4ceb4c3dso54039585a.3 for ; Wed, 15 Oct 2025 22:58:32 -0700 (PDT) DKIM-Signature: v=1; a=rsa-sha256; c=relaxed/relaxed; d=iol.unh.edu; s=unh-iol; t=1760594312; x=1761199112; darn=dpdk.org; h=cc:to:from:subject:message-id:date:from:to:cc:subject:date :message-id:reply-to; bh=y92orFSZ1HOK5o/gYzfxLls9vsHG4ws4L0xN0eVoDFw=; b=ANkiy6/9+DqowJYHIr2rV+rcuqON7RYj1HiLBNWZLbbTf0lsOEWp4pYiwb5AZSy+FJ g4a0EVKcfoXtMA5vOtCshyZ0YkRZesl9RPZW1vQgaxkevp8nUazJ2rP00qIEb4SEm8kF 5dfU/gQvI3uTDVb+HZLSuAWL9rPHvupdIGElk= X-Google-DKIM-Signature: v=1; a=rsa-sha256; c=relaxed/relaxed; d=1e100.net; s=20230601; t=1760594312; x=1761199112; h=cc:to:from:subject:message-id:date:x-gm-message-state:from:to:cc :subject:date:message-id:reply-to; bh=y92orFSZ1HOK5o/gYzfxLls9vsHG4ws4L0xN0eVoDFw=; b=gWD5ABlmC5uDRhxKBEYPN0QBJ/tSSekTwWwLFKN4VgTZB0g1Fmjgtjfp1QPABLz6W5 XeOqMdagMWo1DpQJaLhvJM/YbmWOyH5nuJACzg+bUfDApfFbcPS0J4kCsZcQaaRC+48c KPZ5R2KBJ65//ZRx2WX3ajkSIF6yXMt5kFsKkckDbZFPAU2fVX/BSE+YFAisf6TRMilo SgtUS0TPzIuXNlCxhHzlFtOpeTcx3fvzw7Wyo59HD3r9QNfebmionPgJRSbYCXX/L4iF 83F7hMNWRATEOgYMf7Xau5aZQPvCt9j/igZFxIBcUlZkbVQy+s/1diSvCggGfJZjBrR/ YDVw== X-Gm-Message-State: AOJu0Yweah8A1+NdrDzqL1f3dOwxnvbICSrGl88GQnfyOqYpK/095d+e MDxJpCu92dnxhcxendfYtDTTEbXMgfY/VJXXDHGS8v/07dQBa8upRLSWOBiXk6JuEcaDDd8KoUy VpZcan799rgQXhmjL64AC4BmTJ2nNsqyIzl/IJlzucqv8R3/VojzR X-Gm-Gg: ASbGnct2K1FN1iIod1i6HdtPSk3t2btDgVv3KYlcuLqV9rkymdrxQyVAivkRjA/gp8i OQbe8aPdxcP8Rb/v0sP3e58XkPIQ7OAs9WHXPquBCOCMbH5E9vnc0lxBdFjtXjxYqrU791HcWQI kwbAvoXgQLhlzcEwLINbAoTu7H2i1nw19dilaszzMo11rg2p9MfjOiW2RiBLc5Jwh0AJFUsWvE0 32eCoep0Er5YoIoXe2RTobFmulCi3iA5olgT3nAdqK+grIRqX4b2PK0sOP8mD6qcWGj4tnNzEQB uW+spbthnJgih+Z8VKqu+iNo28TFNElL/qZMagLqkdNO80qswm1P22q3734cYSmqDO39XsDyeRv ugKGHJBlR X-Google-Smtp-Source: AGHT+IH7mzh4yCv7+RmdI/C7E0uePjNGlGrnOjeBGGfv3RJo8PHo1P88YwLkDiV6tjuEHPeB4+f4lpW/2A9h X-Received: by 2002:a05:620a:1a86:b0:85e:24c3:a5fa with SMTP id af79cd13be357-883550989cfmr3919073185a.76.1760594312237; Wed, 15 Oct 2025 22:58:32 -0700 (PDT) Received: from postal.iol.unh.edu (postal.iol.unh.edu. [2606:4100:3880:1234::84]) by smtp-relay.gmail.com with ESMTPS id 6a1803df08f44-87c0129ef91sm4283746d6.26.2025.10.15.22.58.32 (version=TLS1_2 cipher=ECDHE-ECDSA-AES128-GCM-SHA256 bits=128/128); Wed, 15 Oct 2025 22:58:32 -0700 (PDT) X-Relaying-Domain: iol.unh.edu Date: Wed, 15 Oct 2025 22:58:32 -0700 (PDT) Message-ID: <68f08988.050a0220.a6ad5.53d6SMTPIN_ADDED_MISSING@mx.google.com> Received: from [172.21.0.3] (unknown [172.18.0.240]) by postal.iol.unh.edu (Postfix) with ESMTP id F2F356051830; Thu, 16 Oct 2025 01:58:31 -0400 (EDT) Subject: |SUCCESS| [GIT MASTER] 3b43ce3f4a54468e7ef65760c2fd7b4d6ee6d9fc From: dpdklab@iol.unh.edu To: Test Report Cc: dpdk-test-reports@iol.unh.edu, Xueming Li , Christian Ehrhardt , Kevin Traynor , Luca Boccassi Content-Type: text/plain X-BeenThere: test-report@dpdk.org X-Mailman-Version: 2.1.29 Precedence: list List-Id: automatic DPDK test reports List-Unsubscribe: , List-Archive: List-Post: List-Help: List-Subscribe: , Errors-To: test-report-bounces@dpdk.org _Testing PASS_ Branch: tags/v22.11 3b43ce3f4a54468e7ef65760c2fd7b4d6ee6d9fc --> testing pass Upstream job id: Windows-Compile-DPDK-Native#31661 Test environment and result as below: +---------------------+--------------------+-------------------------+ | Environment | dpdk_meson_compile | dpdk_llvm_clang_compile | +=====================+====================+=========================+ | Ubuntu 20.04 | PASS | SKIPPED | +---------------------+--------------------+-------------------------+ | FreeBSD 14.2 | PASS | SKIPPED | +---------------------+--------------------+-------------------------+ | Windows Server 2022 | SKIPPED | PASS | +---------------------+--------------------+-------------------------+ Ubuntu 20.04 Kernel: 4.19 Compiler: gcc gcc (Ubuntu 9.4.0-1ubuntu1~20.04.2) 9.4.0 FreeBSD 14.2 Kernel: 14.2-RELEASE Compiler: clang 18.1.6 Windows Server 2022 Kernel: 10.0.20348.2031 Compiler: clang 15.0.7, gcc 14.1.0 (MinGW), and MSVC VS 19.39.33521 To view detailed results, visit: https://lab.dpdk.org/results/dashboard/tarballs/35227/ UNH-IOL DPDK Community Lab To manage your email subscriptions, visit: https://lab.dpdk.org/results/dashboard/preferences/subscriptions/