From mboxrd@z Thu Jan 1 00:00:00 1970 Return-Path: Received: from mails.dpdk.org (mails.dpdk.org [217.70.189.124]) by inbox.dpdk.org (Postfix) with ESMTP id 364044894C for ; Thu, 16 Oct 2025 08:02:18 +0200 (CEST) Received: from mails.dpdk.org (localhost [127.0.0.1]) by mails.dpdk.org (Postfix) with ESMTP id 1868540269; Thu, 16 Oct 2025 08:02:18 +0200 (CEST) Received: from mail-pj1-f99.google.com (mail-pj1-f99.google.com [209.85.216.99]) by mails.dpdk.org (Postfix) with ESMTP id 793A340269 for ; Thu, 16 Oct 2025 08:02:16 +0200 (CEST) Received: by mail-pj1-f99.google.com with SMTP id 98e67ed59e1d1-33b9e390d74so376392a91.0 for ; Wed, 15 Oct 2025 23:02:16 -0700 (PDT) DKIM-Signature: v=1; a=rsa-sha256; c=relaxed/relaxed; d=iol.unh.edu; s=unh-iol; t=1760594535; x=1761199335; darn=dpdk.org; h=cc:to:from:subject:message-id:date:from:to:cc:subject:date :message-id:reply-to; bh=krSohCJFTs1gBYHHSYU1m9sE8lwCZOqEurl2ERyfBjI=; b=FzHJ/UezuwZfuUAXiyYmp/iaP6vdm3B6EuWoyDMDqPiDJ6Yme1Q2J1puNrUIXsOb66 eKxg5OpufjwUCIq7wo8M2tc0LZUNHGMd8BJvogizIqNReBqRbe5tqY9ltyPZFdDuo4LY lLsqldwyTI2iFGLfEpCvojdfcvNy5MaYTGt4U= X-Google-DKIM-Signature: v=1; a=rsa-sha256; c=relaxed/relaxed; d=1e100.net; s=20230601; t=1760594535; x=1761199335; h=cc:to:from:subject:message-id:date:x-gm-message-state:from:to:cc :subject:date:message-id:reply-to; bh=krSohCJFTs1gBYHHSYU1m9sE8lwCZOqEurl2ERyfBjI=; b=H6K32fo6JQ3yNzpeJYzvem8v/tCbSXz9faRHfhbWxD9BkBaMrPPIaFtyEHX78vUHi6 zq7KOmjFsNuXI9M6DD72xFS7D1jV5D+AvGYKdFI+5y0Jv5HUN5LRnaUNNL3mGRYXt3m1 1Hb/vgBMquXxeKljSbD69M0VktJPkxYU2cHC8Qi5cHae2TPj9Y9vSPQisYu/o6cUaJPw C4Dxj9n74O2ogPt9zMF4VOIg8916WaVOPzwNJ0B6mRjPHMLwgagoCVMc6DCDBgE0YLYZ s77adSsDlSZPLKIuOeyERiT6sBm17rvBBcp//Gzo1ipjMQ4of3T/YdrzLLnSYhdyJxZk Knag== X-Gm-Message-State: AOJu0Yyikjw7CMPGca1bgmIGU8Tgz0DnH+ndjgIPDACfg1MjeRPkMPkU vDqFiiWIk7CrT8VYL4QVgDwzBi29OGqIImh6FxfGOnZs8Tx1NrGCmuCKZxsp2swcjRn3PB7XmH6 fwlv12PJhRqvrB866NnjqKq8yP5JScBEYPYtv X-Gm-Gg: ASbGncvzVQzZIViqrIp8wglltiKkD/CJ4OmR9/vyBVUpp33+yVUY0D4KzrcimQXAOyb RdPRTM1nB+G1XCQd/+osHDzuqc6kOKMXKYIqmmfrF03UMy9DSqJB7mBqmYwOXTz09NxQWOPUiWc qMfVz15rf8MLl8zxVyyVXtc+P3e7/vrJV4nDidX4TVWP1PLSr3JAXBqP8AmKQ6SmV5mzGjbzfbs Ec9hLFJlIq4dl4cQB0hqmfWuAI0v+gRy8JHLNkcXMNkoSbTadCbr4A+NWuZchxLuZOxg+3o5vCF 9axxi4uJMabxiMF4ON9/jiHwR54keJ8ifB6nNZcMyQ6rcqi8ojVzQaviIwfhPk1vYBWwwixFXAv qg51h0iDFp1DZvLyv6expXzQB4QQ/xFo= X-Google-Smtp-Source: AGHT+IF2Iw823l0fU7S+BuD/oKWrQ+THrar6iFBS+3GDUur4DyKHzpfvMeRv5XB2SEKwhtMepvvio77YT+bg X-Received: by 2002:a17:90b:3ec6:b0:32e:749d:fcb4 with SMTP id 98e67ed59e1d1-33b51105b46mr44074353a91.6.1760594535522; Wed, 15 Oct 2025 23:02:15 -0700 (PDT) Received: from postal.iol.unh.edu (postal.iol.unh.edu. [132.177.123.84]) by smtp-relay.gmail.com with ESMTPS id 98e67ed59e1d1-33bb6633ed3sm29751a91.6.2025.10.15.23.02.15 (version=TLS1_2 cipher=ECDHE-ECDSA-AES128-GCM-SHA256 bits=128/128); Wed, 15 Oct 2025 23:02:15 -0700 (PDT) X-Relaying-Domain: iol.unh.edu Date: Wed, 15 Oct 2025 23:02:15 -0700 (PDT) Message-ID: <68f08a67.170a0220.33c70c.157dSMTPIN_ADDED_MISSING@mx.google.com> Received: from [172.21.0.2] (unknown [172.18.0.240]) by postal.iol.unh.edu (Postfix) with ESMTP id C61656051830; Thu, 16 Oct 2025 02:02:14 -0400 (EDT) Subject: |SUCCESS| [GIT MASTER] 3b43ce3f4a54468e7ef65760c2fd7b4d6ee6d9fc From: dpdklab@iol.unh.edu To: Test Report Cc: dpdk-test-reports@iol.unh.edu, Xueming Li , Christian Ehrhardt , Kevin Traynor , Luca Boccassi Content-Type: text/plain X-BeenThere: test-report@dpdk.org X-Mailman-Version: 2.1.29 Precedence: list List-Id: automatic DPDK test reports List-Unsubscribe: , List-Archive: List-Post: List-Help: List-Subscribe: , Errors-To: test-report-bounces@dpdk.org _Testing PASS_ Branch: tags/v22.11 3b43ce3f4a54468e7ef65760c2fd7b4d6ee6d9fc --> testing pass Upstream job id: Windows-Compile-DPDK-Native#31662 Test environment and result as below: +---------------------+--------------------+-------------------------+----------------------+ | Environment | dpdk_meson_compile | dpdk_llvm_clang_compile | dpdk_mingw64_compile | +=====================+====================+=========================+======================+ | Ubuntu 20.04 | PASS | SKIPPED | SKIPPED | +---------------------+--------------------+-------------------------+----------------------+ | FreeBSD 14.2 | PASS | SKIPPED | SKIPPED | +---------------------+--------------------+-------------------------+----------------------+ | Windows Server 2022 | SKIPPED | PASS | PASS | +---------------------+--------------------+-------------------------+----------------------+ Ubuntu 20.04 Kernel: 4.19 Compiler: gcc gcc (Ubuntu 9.4.0-1ubuntu1~20.04.2) 9.4.0 FreeBSD 14.2 Kernel: 14.2-RELEASE Compiler: clang 18.1.6 Windows Server 2022 Kernel: 10.0.20348.2031 Compiler: clang 15.0.7, gcc 14.1.0 (MinGW), and MSVC VS 19.39.33521 To view detailed results, visit: https://lab.dpdk.org/results/dashboard/tarballs/35227/ UNH-IOL DPDK Community Lab To manage your email subscriptions, visit: https://lab.dpdk.org/results/dashboard/preferences/subscriptions/