From mboxrd@z Thu Jan 1 00:00:00 1970 Return-Path: Received: from mails.dpdk.org (mails.dpdk.org [217.70.189.124]) by inbox.dpdk.org (Postfix) with ESMTP id AFC364894D for ; Thu, 16 Oct 2025 08:18:08 +0200 (CEST) Received: from mails.dpdk.org (localhost [127.0.0.1]) by mails.dpdk.org (Postfix) with ESMTP id A7B5C40269; Thu, 16 Oct 2025 08:18:08 +0200 (CEST) Received: from mail-oo1-f99.google.com (mail-oo1-f99.google.com [209.85.161.99]) by mails.dpdk.org (Postfix) with ESMTP id EEB0540269 for ; Thu, 16 Oct 2025 08:18:06 +0200 (CEST) Received: by mail-oo1-f99.google.com with SMTP id 006d021491bc7-65043e595a8so185687eaf.0 for ; Wed, 15 Oct 2025 23:18:06 -0700 (PDT) DKIM-Signature: v=1; a=rsa-sha256; c=relaxed/relaxed; d=iol.unh.edu; s=unh-iol; t=1760595486; x=1761200286; darn=dpdk.org; h=cc:to:from:subject:message-id:date:from:to:cc:subject:date :message-id:reply-to; bh=dnZpmLqHoSLKdy406A5RaJgz+b2lByLUVtXMQ+cbJP0=; b=fIIFRck64lMAAEkic8Rz/Zt0Iq4tupDqz9neIiqoo9+UZ7J63xHX8HbfbTLQbdn6jx wFfZ8pbOm5fkaU9DEF0/BOOtwiNuFjRcUL/T17J4VYrJ2wsJghoH8sfgMqE+aK9j5F0q oFioYLkxm1NcWypExVfPNFOdnkEPvojbY+fBA= X-Google-DKIM-Signature: v=1; a=rsa-sha256; c=relaxed/relaxed; d=1e100.net; s=20230601; t=1760595486; x=1761200286; h=cc:to:from:subject:message-id:date:x-gm-message-state:from:to:cc :subject:date:message-id:reply-to; bh=dnZpmLqHoSLKdy406A5RaJgz+b2lByLUVtXMQ+cbJP0=; b=I2MpiWfXwZ5xKu1YfuQqlhgq/ub2uF/8YFSUp0yF2p0tdzvwMX8AeFfTCiN8QStixF DHKD8gvbk9uYTPrU5wFu/SvWwMqNoiipSVqu15Se7Q5naWhl4ZRwLZuoxKrhb5uK8QBU ragZjPrPbZeXfgfzOKK5FLAucwpAnZlnvTphaNwl8XDTz/EbrBkWVuYBcxWxbfrqG/RE UhWVnZlSb8yLEhd0wT7fjt9jtR2MAUBYcKo0ec4/6Gg+4432dDNmqH3kv6P2qqYG6GT0 3I8WXGgBEh06b9OU7sU5HGuII6UNX3gVr1nNRubutxT5kPZrReBjPwyPDTXVWcmbBeGz 3Vcw== X-Gm-Message-State: AOJu0Yzh2KzrzWT6eAT5WIEHwN97ehQ0WwtK4/wDyoEvXiRt/japXnXZ 640a1RYUxpcCwKq78ZcZGSReq9/CsrZl1HmlbSwXRhbrh5SEu1Pka/BDm2Mla8cSnWA2/2YSnna RvkObOwGcGWPutX+8xXQHqFxm4fLTqxGdvV2R X-Gm-Gg: ASbGnctnjoUU79aHAV4JtFv3blmMYT+ibLfTm/dNdd07MJiAc4LO+qP+4SSlUmjUKch ujlGZuDTUX9FAuoWI3UxUTXcILg+UH0+jmccdUMgLB8OA1MG/J5PHvNgjAawULoqriPoYUm+/Fi RqZ1IHGkAvWZB7ZrE6gbwDjfdNxD583eZ2AbkwvCFgbu82aCcGtrGmkONW1VtxSkaC12X/bsgVC 5hKG1AB3kr8K9OwSjmA0MDQ/YgiW39WeacDbA52Md1CDrlbKE97DqBsJAIzgSBVtZnSCdzr5MPs gIRGZQmdK3TeBbo7z33jF/FKvLYYAqa3LAroezd2nBHQoyoBdOO6OXpoLXCxJKKfjbxCDgCN+JU b+pU0rPVZEiW12F4Bs77zcOV7otNU//8= X-Google-Smtp-Source: AGHT+IHvtxr3X/mqs3+0ql5kJgZdLjGbaROD9ScUQ2TsZ/7mIGgOny6bdRqrjX0yvolPy30u41JqyBK2FsSz X-Received: by 2002:a05:6870:322d:b0:332:8147:25b3 with SMTP id 586e51a60fabf-3c0fa95b792mr15712238fac.47.1760595486080; Wed, 15 Oct 2025 23:18:06 -0700 (PDT) Received: from postal.iol.unh.edu (postal.iol.unh.edu. [132.177.123.84]) by smtp-relay.gmail.com with ESMTPS id 586e51a60fabf-3c8c86909d1sm1548632fac.0.2025.10.15.23.18.05 (version=TLS1_2 cipher=ECDHE-ECDSA-AES128-GCM-SHA256 bits=128/128); Wed, 15 Oct 2025 23:18:06 -0700 (PDT) X-Relaying-Domain: iol.unh.edu Date: Wed, 15 Oct 2025 23:18:06 -0700 (PDT) Message-ID: <68f08e1e.050a0220.13c995.c3f6SMTPIN_ADDED_MISSING@mx.google.com> Received: from [172.21.0.2] (unknown [172.18.0.240]) by postal.iol.unh.edu (Postfix) with ESMTP id 909896051830; Thu, 16 Oct 2025 02:18:05 -0400 (EDT) Subject: |SUCCESS| [GIT MASTER] b287e404643aeab5bb5db084c142789df187844e From: dpdklab@iol.unh.edu To: Test Report Cc: dpdk-test-reports@iol.unh.edu, Xueming Li , Christian Ehrhardt , Kevin Traynor , Luca Boccassi Content-Type: text/plain X-BeenThere: test-report@dpdk.org X-Mailman-Version: 2.1.29 Precedence: list List-Id: automatic DPDK test reports List-Unsubscribe: , List-Archive: List-Post: List-Help: List-Subscribe: , Errors-To: test-report-bounces@dpdk.org _Testing PASS_ Branch: tags/v24.11 b287e404643aeab5bb5db084c142789df187844e --> testing pass Upstream job id: Generic-VM-Unit-Test-DPDK#31831 Test environment and result as below: +-------------------------------+----------------+ | Environment | dpdk_unit_test | +===============================+================+ | CentOS Stream 9 | PASS | +-------------------------------+----------------+ | CentOS Stream 10 | PASS | +-------------------------------+----------------+ | Debian GNU/Linux 12 | PASS | +-------------------------------+----------------+ | Fedora Linux 41 | PASS | +-------------------------------+----------------+ | Fedora Linux 40 | PASS | +-------------------------------+----------------+ | Fedora Linux 42 | PASS | +-------------------------------+----------------+ | Ubuntu 20.04 | PASS | +-------------------------------+----------------+ | Red Hat Enterprise Linux 8.10 | PASS | +-------------------------------+----------------+ | Red Hat Enterprise Linux 9.5 | PASS | +-------------------------------+----------------+ | Ubuntu 24.04 | PASS | +-------------------------------+----------------+ | Ubuntu 22.04 | PASS | +-------------------------------+----------------+ | Windows Server 2022 | PASS | +-------------------------------+----------------+ CentOS Stream 9 Kernel: 5.15 Compiler: gcc gcc (GCC) 11.5.0 20240719 (Red Hat 11.5.0-11) CentOS Stream 10 Kernel: 5.15 Compiler: gcc gcc (GCC) 14.2.1 20250110 (Red Hat 14.2.1-8) Debian GNU/Linux 12 Kernel: 5.15 Compiler: gcc gcc (Debian 12.2.0-14+deb12u1) 12.2.0 Fedora Linux 41 Kernel: 5.15 Compiler: gcc gcc (GCC) 14.3.1 20250523 (Red Hat 14.3.1-1) Fedora Linux 40 Kernel: 5.15 Compiler: gcc gcc (GCC) 14.2.1 20240912 (Red Hat 14.2.1-3) Fedora Linux 42 Kernel: 5.15 Compiler: clang gcc (GCC) 15.2.1 20250808 (Red Hat 15.2.1-1) Ubuntu 20.04 Kernel: 5.15 Compiler: gcc gcc (Ubuntu 9.4.0-1ubuntu1~20.04.2) 9.4.0 Red Hat Enterprise Linux 8.10 Kernel: 5.15 Compiler: gcc gcc (GCC) 8.5.0 20210514 (Red Hat 8.5.0-22) Red Hat Enterprise Linux 9.5 Kernel: 5.15 Compiler: gcc gcc (GCC) 11.5.0 20240719 (Red Hat 11.5.0-2) Ubuntu 24.04 Kernel: 5.15 Compiler: gcc gcc (Ubuntu 13.3.0-6ubuntu2~24.04) 13.3.0 Ubuntu 22.04 Kernel: 5.15 Compiler: gcc gcc (Ubuntu 11.4.0-1ubuntu1~22.04) 11.4.0 Windows Server 2022 Kernel: 10.0.20348.2031 Compiler: clang 15.0.7, gcc 14.1.0 (MinGW), and MSVC VS 19.39.33521 To view detailed results, visit: https://lab.dpdk.org/results/dashboard/tarballs/35229/ UNH-IOL DPDK Community Lab To manage your email subscriptions, visit: https://lab.dpdk.org/results/dashboard/preferences/subscriptions/